{"text_format":"1","workbook":"xlsx","n_sheets":13,"sheets":["メニュー","基礎データ","部員名簿","補助データ","陸連データ書出シート","陸連データ取込シート","標準記録","入力シート(中播総体)","中播総体","送信データ(中播総体)","入力シート(スポーツ祭)","スポーツ祭","送信データ(スポーツ祭)"],"not_rendered":{"charts":0,"images":0,"macros":1,"external_links":0,"defined_names":92,"comments":1,"pivot_tables":0},"unopened":[],"bounds":{"document_bytes":16777216,"sheet_cells":100000,"rows_first":2000,"rows_last":500,"rows_between":2000,"halvings":0,"cell_chars":16384,"cell_head_chars":4096},"cells_cut":0,"cells_raw":0,"read":"whole","date_system":"1900"}

{"sheet":"メニュー","index":0,"n_rows":91,"n_cols":3,"rows_kept":91,"cut":false,"hidden":false,"merged":[[2,2,3,7]]}
[]
[]
[null,null,"学校別　情報入力シート"]
[]
[]
[]
[]
[]
[]
[]
[]
[]
[]
[]
[]
[]
[]
[]
[]
[]
[]
[]
[]
[]
[]
[]
[]
[]
[]
[]
[]
[]
[]
[]
[]
[]
[]
[]
[]
[]
[]
[]
[]
[]
[]
[]
[]
[]
[]
[]
[]
[]
[]
[]
[]
[]
[]
[]
[]
[]
[]
[]
[]
[]
[]
[]
[]
[]
[]
[]
[]
[]
[]
[]
[]
[]
[]
[]
[]
[]
[]
[]
[]
[]
[]
[]
[]
[]
[]
[1]
[2]

{"sheet":"基礎データ","index":1,"n_rows":24,"n_cols":16,"rows_kept":24,"cut":false,"hidden":true,"merged":[[21,1,21,11],[19,2,19,3],[19,4,19,5],[23,4,23,9],[23,10,23,11],[23,2,23,3],[22,2,22,3],[22,4,22,11],[10,2,10,11],[14,6,14,11],[14,2,14,3],[14,4,14,5],[18,2,18,3],[17,4,17,5],[18,4,18,5],[16,4,16,5],[16,2,16,3],[15,2,15,3],[15,4,15,5],[17,2,17,3],[11,6,11,7],[12,6,12,7],[16,6,16,7],[9,2,9,4],[2,15,6,17],[8,1,8,11],[2,1,2,11],[4,1,5,1],[4,10,5,12],[4,2,4,9],[5,3,5,8],[6,3,6,8],[6,10,6,11]]}
[]
[]
[null,"学校基礎データ",null,null,null,null,null,null,null,null,null,null,null,null,null,"学校番号と、学校名、住所、電話番号\nＦＡＸ番号を入力してください。\nこのデータは、申し込み一覧表などに使用されます。\n当日、審判をお願いできる先生は、□にチェックを入れてください。"]
[]
[null,"学校番号","学校名",null,null,null,null,null,null,null,"略称"]
[null,null,"フリガナ",null,null,null,null,null,null,"ﾁｭｳｶﾞｯｺｳ"]
[null,null,"漢字",null,null,null,null,null,null,"中学校",null,null,"中"]
[]
[null,"学校情報"]
[null,"郵便番号"]
[null,"住所"]
[null,"電話",null,"－",null,"－",null,null,null,null,null,null,null,{"$f":"CONCATENATE(C12,D12,E12,F12,G12)","v":"－－"}]
[null,"FAX",null,"－",null,"－",null,null,null,null,null,null,null,{"$f":"CONCATENATE(C13,D13,E13,F13,G13)","v":"－－"}]
[]
[null,"顧問","姓",null,"名",null,"連絡先",null,null,null,null,null,"審判",{"$f":"CONCATENATE(G17,I17,J17,K17,L17)","v":"－－"}]
[null,"学校長氏名",null,null,null,null,null,null,null,null,null,null,null,{"$f":"C16&\"　\"&E16","v":"　"}]
[null,"申込責任者",null,null,null,null,null,null,"－",null,"－",null,null,{"$f":"C17&\"　\"&E17","v":"　"}]
[null,"顧問",null,null,null,null,null,null,null,null,null,null,null,{"$f":"C18&\"　\"&E18","v":"　"}]
[null,"顧問",null,null,null,null,null,null,null,null,null,null,null,{"$f":"C19&\"　\"&E19","v":"　"}]
[null,"顧問",null,null,null,null,null,null,null,null,null,null,null,{"$f":"C20&\"　\"&E20","v":"　"}]
[null,null,null,null,null,null,null,null,null,null,null,null,null,false]
[null,"申し込み料　振込情報",null,null,null,null,null,null,null,null,null,null,null,false]
[null,"月","日",null,"郵便局名",null,null,null,null,null,null,null,null,false]
[null,null,null,null,null,null,null,null,null,null,"郵便局",null,null,false]

{"sheet":"部員名簿","index":2,"n_rows":404,"n_cols":19,"rows_kept":404,"cut":false,"hidden":true,"merged":[[2,18,3,18],[1,13,1,14],[1,15,1,16],[1,17,1,18],[2,13,3,13],[2,14,3,14],[2,15,3,15],[2,16,3,16],[2,17,3,17]]}
[]
[null,null,null,null,null,null,"登録部員数",{"$f":"COUNTIF(H6:H65538,\">=0\")","v":23},"名",null,null,null,null,"１年",null,"２年","２年","３年","３年"]
[null,null,null,null,null,null,null,null,null,null,null,null,null,"男子","女子","男子","女子","男子","女子"]
[]
[null,"年","姓","名","フリガナ(姓)","フリガナ(名)","生年月日","個人番号","性別","性別","学年","備考",null,{"$f":"SUM(IF(学年=1,IF(性別=\"男\",1,0)))","v":4},{"$f":"SUM(IF(学年=1,IF(性別=\"女\",1,0)))","v":4},{"$f":"SUM(IF(学年=2,IF(性別=\"男\",1,0)))","v":6},{"$f":"SUM(IF(学年=2,IF(性別=\"女\",1,0)))","v":1},{"$f":"SUM(IF(学年=3,IF(性別=\"男\",1,0)))","v":7},{"$f":"SUM(IF(学年=3,IF(性別=\"女\",1,0)))","v":1}]
[{"$f":"IF((H6=\"\"),\"\",I6&DBCS(TEXT(H6,\"００\")))","v":"男４５"},3,"香田","隼佑","コウダ","シュンスケ","2004-06-09",45,"男","男",3]
["男４６",3,"小山","蒼空","コヤマ","アオ","2004-05-15",46,"男","男",3]
["男４７",3,"土井","悠大","ドイ","ユウダイ","2005-03-20",47,"男","男",3]
["男４８",3,"西澤","渉","ニシザワ","ワタル","2004-06-18",48,"男","男",3]
["男５０",3,"宮内","健之介","ミヤウチ","ケンノスケ","2004-04-06",50,"男","男",3]
["男５２",3,"石野","祥吾","イシノ","ショウゴ","2004-07-08",52,"男","男",3]
["男５４",3,"宮内","隆之介","ミヤウチ","リュウノスケ","2004-04-06",54,"男","男",3]
["男６３",2,"八十","康介","ヤソ","コウスケ","2005-06-02",63,"男","男",3]
["男６４",2,"藤田","隼樹","フジタ","シュンキ","2002-05-26",64,"男","男",3]
["男６６",2,"西山","一生","ニシヤマ","イッセイ","2005-11-02",66,"男","男",3]
["男６７",2,"砂川","心人","スナガワ","アイト","2006-01-18",67,"男","男",2]
["男７０",2,"小川","明生","オガワ","ハルキ","2005-04-02",70,"男","男",2]
["男７２",2,"伊藤","真弥","イトウ","シンヤ","2005-05-02",72,"男","男",2]
["男８１",1,"西川","翔己","ニシカワ","ショウキ","2006-06-05",81,"男","男",2]
["男８２",1,"吉川","響葵","ヨシカワ","ヒビキ","2006-05-18",82,"男","男",2]
["男８３",1,"茶谷","匡祐","チャタニ","キョウスケ","2006-07-12",83,"男","男",2]
["男８４",1,"江口","結翔","エグチ","ユイト","2006-11-04",84,"男","男",2]
["女３１",3,"坂井","楠奈","サカイ","ナナ","2004-11-29",31,"女","男",2]
["女４１",2,"松本","志穂","マツモト","シホ","2005-06-09",41,"女","男",2]
["女５１",1,"三木","胡桃","ミキ","クルミ","2006-04-27",51,"女","男",2]
["女５２",1,"砂川","心美","スナガワ","ココミ","2007-03-25",52,"女","男",2]
["女５３",1,"橋本","心愛","ハシモト","ココア","2007-01-30",53,"女","男",2]
["女５４",1,"井神","陽菜","イノカミ","ヒナ","2006-10-08",54,"女","男",1]
["","","","","","","","","","男",1]
["","","","","","","","","","男",1]
["","","","","","","","","","男",1]
["","","","","","","","","","男",1]
["","","","","","","","","","女",3]
["","","","","","","","","","女",3]
["","","","","","","","","","女",3]
["","","","","","","","","","女",3]
["","","","","","","","","","女",3]
[{"$f":"IF((H38=\"\"),\"\",I38&DBCS(TEXT(H38,\"００\")))","v":""},"","","","","","","","","女",2]
["","","","","","","","","","女",3]
["","","","","","","","","","女",1]
["","","","","","","","","","女",1]
["","","","","","","","","","女",1]
["","","","","","","","","","女",1]
["","","","","","","","","",{"$f":"IF(A44=\"\",\"\",C44&\"　\"&D44)","v":""},{"$f":"IF(A44=\"\",\"\",E44&\"　\"&F44)","v":""}]
["","","","","","","","","","",""]
["","","","","","","","","","",""]
["","","","","","","","","","",""]
["","","","","","","","","","",""]
["","","","","","","","","","",""]
["","","","","","","","","","",""]
["","","","","","","","","","",""]
["","","","","","","","","","",""]
["","","","","","","","","","",""]
["","","","","","","","","","",""]
["","","","","","","","","","",""]
["","","","","","","","","","",""]
["","","","","","","","","","",""]
["","","","","","","","","","",""]
["","","","","","","","","","",""]
["","","","","","","","","","",""]
["","","","","","","","","","",""]
["","","","","","","","","","",""]
["","","","","","","","","","",""]
["","","","","","","","","","",""]
["","","","","","","","","","",""]
["","","","","","","","","","",""]
["","","","","","","","","","",""]
["","","","","","","","","","",""]
["","","","","","","","","","",""]
[{"$f":"IF((H70=\"\"),\"\",I70&DBCS(TEXT(H70,\"００\")))","v":""},"","","","","","","","",{"$f":"IF(A70=\"\",\"\",C70&\"　\"&D70)","v":""},{"$f":"IF(A70=\"\",\"\",E70&\"　\"&F70)","v":""}]
["","","","","","","","","","",""]
["","","","","","","","","","",""]
["","","","","","","","","","",""]
["","","","","","","","","","",""]
["","","","","","","","","","",""]
["","","","","","","","","","",""]
["","","","","","","","","","",""]
["","","","","","","","","","",""]
["","","","","","","","","","",""]
["","","","","","","","","","",""]
["","","","","","","","","","",""]
["","","","","","","","","","",""]
["","","","","","","","","","",""]
["","","","","","","","","","",""]
["","","","","","","","","","",""]
["","","","","","","","","","",""]
["","","","","","","","","","",""]
["","","","","","","","","","",""]
["","","","","","","","","","",""]
["","","","","","","","","","",""]
["","","","","","","","","","",""]
["","","","","","","","","","",""]
["","","","","","","","","","",""]
["","","","","","","","","","",""]
["","","","","","","","","","",""]
["","","","","","","","","","",""]
["","","","","","","","","","",""]
["","","","","","","","","","",""]
["","","","","","","","","","",""]
["","","","","","","","","","",""]
["","","","","","","","","","",""]
[{"$f":"IF((H102=\"\"),\"\",I102&DBCS(TEXT(H102,\"００\")))","v":""},"","","","","","","","",{"$f":"IF(A102=\"\",\"\",C102&\"　\"&D102)","v":""},{"$f":"IF(A102=\"\",\"\",E102&\"　\"&F102)","v":""}]
["","","","","","","","","","",""]
["","","","","","","","","","",""]
["","","","","","","","","","",""]
["","","","","","","","","","",""]
["","","","","","","","","","",""]
["","","","","","","","","","",""]
["","","","","","","","","","",""]
["","","","","","","","","","",""]
["","","","","","","","","","",""]
["","","","","","","","","","",""]
["","","","","","","","","","",""]
["","","","","","","","","","",""]
["","","","","","","","","","",""]
["","","","","","","","","","",""]
["","","","","","","","","","",""]
["","","","","","","","","","",""]
["","","","","","","","","","",""]
["","","","","","","","","","",""]
["","","","","","","","","","",""]
["","","","","","","","","","",""]
["","","","","","","","","","",""]
["","","","","","","","","","",""]
["","","","","","","","","","",""]
["","","","","","","","","","",""]
["","","","","","","","","","",""]
["","","","","","","","","","",""]
["","","","","","","","","","",""]
["","","","","","","","","","",""]
["","","","","","","","","","",""]
["","","","","","","","","","",""]
["","","","","","","","","","",""]
[{"$f":"IF((H134=\"\"),\"\",I134&DBCS(TEXT(H134,\"００\")))","v":""},"","","","","","","","",{"$f":"IF(A134=\"\",\"\",C134&\"　\"&D134)","v":""},{"$f":"IF(A134=\"\",\"\",E134&\"　\"&F134)","v":""}]
["","","","","","","","","","",""]
["","","","","","","","","","",""]
["","","","","","","","","","",""]
["","","","","","","","","","",""]
["","","","","","","","","","",""]
["","","","","","","","","","",""]
["","","","","","","","","","",""]
["","","","","","","","","","",""]
["","","","","","","","","","",""]
["","","","","","","","","","",""]
["","","","","","","","","","",""]
["","","","","","","","","","",""]
["","","","","","","","","","",""]
["","","","","","","","","","",""]
["","","","","","","","","","",""]
["","","","","","","","","","",""]
["","","","","","","","","","",""]
["","","","","","","","","","",""]
["","","","","","","","","","",""]
["","","","","","","","","","",""]
["","","","","","","","","","",""]
["","","","","","","","","","",""]
["","","","","","","","","","",""]
["","","","","","","","","","",""]
["","","","","","","","","","",""]
["","","","","","","","","","",""]
["","","","","","","","","","",""]
["","","","","","","","","","",""]
["","","","","","","","","","",""]
["","","","","","","","","","",""]
["","","","","","","","","","",""]
[{"$f":"IF((H166=\"\"),\"\",I166&DBCS(TEXT(H166,\"００\")))","v":""},"","","","","","","","",{"$f":"IF(A166=\"\",\"\",C166&\"　\"&D166)","v":""},{"$f":"IF(A166=\"\",\"\",E166&\"　\"&F166)","v":""}]
["","","","","","","","","","",""]
["","","","","","","","","","",""]
["","","","","","","","","","",""]
["","","","","","","","","","",""]
["","","","","","","","","","",""]
["","","","","","","","","","",""]
["","","","","","","","","","",""]
["","","","","","","","","","",""]
["","","","","","","","","","",""]
["","","","","","","","","","",""]
["","","","","","","","","","",""]
["","","","","","","","","","",""]
["","","","","","","","","","",""]
["","","","","","","","","","",""]
["","","","","","","","","","",""]
["","","","","","","","","","",""]
["","","","","","","","","","",""]
["","","","","","","","","","",""]
["","","","","","","","","","",""]
["","","","","","","","","","",""]
["","","","","","","","","","",""]
["","","","","","","","","","",""]
["","","","","","","","","","",""]
["","","","","","","","","","",""]
["","","","","","","","","","",""]
["","","","","","","","","","",""]
["","","","","","","","","","",""]
["","","","","","","","","","",""]
["","","","","","","","","","",""]
["","","","","","","","","","",""]
["","","","","","","","","","",""]
[{"$f":"IF((H198=\"\"),\"\",I198&DBCS(TEXT(H198,\"００\")))","v":""},"","","","","","","","",{"$f":"IF(A198=\"\",\"\",C198&\"　\"&D198)","v":""},{"$f":"IF(A198=\"\",\"\",E198&\"　\"&F198)","v":""}]
["","","","","","","","","",{"$f":"IF(A199=\"\",\"\",C199&\"　\"&D199)","v":""},{"$f":"IF(A199=\"\",\"\",E199&\"　\"&F199)","v":""}]
["","","","","","","","","",{"$f":"IF(A200=\"\",\"\",C200&\"　\"&D200)","v":""},{"$f":"IF(A200=\"\",\"\",E200&\"　\"&F200)","v":""}]
["","","","","","","","","",{"$f":"IF(A201=\"\",\"\",C201&\"　\"&D201)","v":""},{"$f":"IF(A201=\"\",\"\",E201&\"　\"&F201)","v":""}]
["","","","","","","","","",{"$f":"IF(A202=\"\",\"\",C202&\"　\"&D202)","v":""},{"$f":"IF(A202=\"\",\"\",E202&\"　\"&F202)","v":""}]
["","","","","","","","","","個人番号","性別"]
["","","","","","","","","",9,"男"]
[null,"","","","","","","","",10,"男"]
[null,null,null,null,null,null,null,null,null,10,"男"]
[null,null,null,null,null,null,null,null,null,11,"男"]
[null,null,null,null,null,null,null,null,null,12,"男"]
[null,null,null,null,null,null,null,null,null,13,"男"]
[null,null,null,null,null,null,null,null,null,14,"男"]
[null,null,null,null,null,null,null,null,null,15,"男"]
[null,null,null,null,null,null,null,null,null,16,"男"]
[null,null,null,null,null,null,null,null,null,17,"男"]
[null,null,null,null,null,null,null,null,null,19,"男"]
[null,null,null,null,null,null,null,null,null,20,"男"]
[null,null,null,null,null,null,null,null,null,21,"男"]
[null,null,null,null,null,null,null,null,null,22,"男"]
[null,null,null,null,null,null,null,null,null,23,"男"]
[null,null,null,null,null,null,null,null,null,24,"男"]
[null,null,null,null,null,null,null,null,null,25,"男"]
[null,null,null,null,null,null,null,null,null,26,"男"]
[null,null,null,null,null,null,null,null,null,27,"男"]
[null,null,null,null,null,null,null,null,null,28,"男"]
[null,null,null,null,null,null,null,null,null,29,"男"]
[null,null,null,null,null,null,null,null,null,30,"男"]
[null,null,null,null,null,null,null,null,null,31,"男"]
[null,null,null,null,null,null,null,null,null,40,"男"]
[null,null,null,null,null,null,null,null,null,41,"男"]
[null,null,null,null,null,null,null,null,null,42,"男"]
[null,null,null,null,null,null,null,null,null,43,"男"]
[null,null,null,null,null,null,null,null,null,44,"男"]
[null,null,null,null,null,null,null,null,null,75,"女"]
[null,null,null,null,null,null,null,null,null,76,"女"]
[null,null,null,null,null,null,null,null,null,77,"女"]
[null,null,null,null,null,null,null,null,null,78,"女"]
[null,null,null,null,null,null,null,null,null,79,"女"]
[null,null,null,null,null,null,null,null,null,80,"女"]
[null,null,null,null,null,null,null,null,null,81,"女"]
[null,null,null,null,null,null,null,null,null,90,"女"]
[null,null,null,null,null,null,null,null,null,91,"女"]
[null,null,null,null,null,null,null,null,null,92,"女"]
[null,null,null,null,null,null,null,null,null,93,"女"]
[null,null,null,null,null,null,null,null,null,"",""]
[null,null,null,null,null,null,null,null,null,"",""]
[null,null,null,null,null,null,null,null,null,"",""]
[null,null,null,null,null,null,null,null,null,"",""]
[null,null,null,null,null,null,null,null,null,"",""]
[null,null,null,null,null,null,null,null,null,"",""]
[null,null,null,null,null,null,null,null,null,"",""]
[null,null,null,null,null,null,null,null,null,"",""]
[null,null,null,null,null,null,null,null,null,"",""]
[null,null,null,null,null,null,null,null,null,"",""]
[null,null,null,null,null,null,null,null,null,"",""]
[null,null,null,null,null,null,null,null,null,"",""]
[null,null,null,null,null,null,null,null,null,"",""]
[null,null,null,null,null,null,null,null,null,"",""]
[null,null,null,null,null,null,null,null,null,"",""]
[null,null,null,null,null,null,null,null,null,"",""]
[null,null,null,null,null,null,null,null,null,"",""]
[null,null,null,null,null,null,null,null,null,"",""]
[null,null,null,null,null,null,null,null,null,"",""]
[null,null,null,null,null,null,null,null,null,"",""]
[null,null,null,null,null,null,null,null,null,"",""]
[null,null,null,null,null,null,null,null,null,"",""]
[null,null,null,null,null,null,null,null,null,"",""]
[null,null,null,null,null,null,null,null,null,"",""]
[null,null,null,null,null,null,null,null,null,"",""]
[null,null,null,null,null,null,null,null,null,"",""]
[null,null,null,null,null,null,null,null,null,"",""]
[null,null,null,null,null,null,null,null,null,"",""]
[null,null,null,null,null,null,null,null,null,"",""]
[null,null,null,null,null,null,null,null,null,"",""]
[null,null,null,null,null,null,null,null,null,"",""]
[null,null,null,null,null,null,null,null,null,"",""]
[null,null,null,null,null,null,null,null,null,"",""]
[null,null,null,null,null,null,null,null,null,"",""]
[null,null,null,null,null,null,null,null,null,"",""]
[null,null,null,null,null,null,null,null,null,"",""]
[null,null,null,null,null,null,null,null,null,"",""]
[null,null,null,null,null,null,null,null,null,"",""]
[null,null,null,null,null,null,null,null,null,"",""]
[null,null,null,null,null,null,null,null,null,"",""]
[null,null,null,null,null,null,null,null,null,"",""]
[null,null,null,null,null,null,null,null,null,"",""]
[null,null,null,null,null,null,null,null,null,"",""]
[null,null,null,null,null,null,null,null,null,"",""]
[null,null,null,null,null,null,null,null,null,"",""]
[null,null,null,null,null,null,null,null,null,"",""]
[null,null,null,null,null,null,null,null,null,"",""]
[null,null,null,null,null,null,null,null,null,"",""]
[null,null,null,null,null,null,null,null,null,"",""]
[null,null,null,null,null,null,null,null,null,"",""]
[null,null,null,null,null,null,null,null,null,"",""]
[null,null,null,null,null,null,null,null,null,"",""]
[null,null,null,null,null,null,null,null,null,"",""]
[null,null,null,null,null,null,null,null,null,"",""]
[null,null,null,null,null,null,null,null,null,"",""]
[null,null,null,null,null,null,null,null,null,"",""]
[null,null,null,null,null,null,null,null,null,"",""]
[null,null,null,null,null,null,null,null,null,"",""]
[null,null,null,null,null,null,null,null,null,"",""]
[null,null,null,null,null,null,null,null,null,"",""]
[null,null,null,null,null,null,null,null,null,"",""]
[null,null,null,null,null,null,null,null,null,"",""]
[null,null,null,null,null,null,null,null,null,"",""]
[null,null,null,null,null,null,null,null,null,"",""]
[null,null,null,null,null,null,null,null,null,"",""]
[null,null,null,null,null,null,null,null,null,"",""]
[null,null,null,null,null,null,null,null,null,"",""]
[null,null,null,null,null,null,null,null,null,"",""]
[null,null,null,null,null,null,null,null,null,"",""]
[null,null,null,null,null,null,null,null,null,"",""]
[null,null,null,null,null,null,null,null,null,"",""]
[null,null,null,null,null,null,null,null,null,"",""]
[null,null,null,null,null,null,null,null,null,"",""]
[null,null,null,null,null,null,null,null,null,"",""]
[null,null,null,null,null,null,null,null,null,"",""]
[null,null,null,null,null,null,null,null,null,"",""]
[null,null,null,null,null,null,null,null,null,"",""]
[null,null,null,null,null,null,null,null,null,"",""]
[null,null,null,null,null,null,null,null,null,"",""]
[null,null,null,null,null,null,null,null,null,"",""]
[null,null,null,null,null,null,null,null,null,"",""]
[null,null,null,null,null,null,null,null,null,"",""]
[null,null,null,null,null,null,null,null,null,"",""]
[null,null,null,null,null,null,null,null,null,"",""]
[null,null,null,null,null,null,null,null,null,"",""]
[null,null,null,null,null,null,null,null,null,"",""]
[null,null,null,null,null,null,null,null,null,"",""]
[null,null,null,null,null,null,null,null,null,"",""]
[null,null,null,null,null,null,null,null,null,"",""]
[null,null,null,null,null,null,null,null,null,"",""]
[null,null,null,null,null,null,null,null,null,"",""]
[null,null,null,null,null,null,null,null,null,"",""]
[null,null,null,null,null,null,null,null,null,"",""]
[null,null,null,null,null,null,null,null,null,"",""]
[null,null,null,null,null,null,null,null,null,"",""]
[null,null,null,null,null,null,null,null,null,"",""]
[null,null,null,null,null,null,null,null,null,"",""]
[null,null,null,null,null,null,null,null,null,"",""]
[null,null,null,null,null,null,null,null,null,"",""]
[null,null,null,null,null,null,null,null,null,"",""]
[null,null,null,null,null,null,null,null,null,"",""]
[null,null,null,null,null,null,null,null,null,"",""]
[null,null,null,null,null,null,null,null,null,"",""]
[null,null,null,null,null,null,null,null,null,"",""]
[null,null,null,null,null,null,null,null,null,"",""]
[null,null,null,null,null,null,null,null,null,"",""]
[null,null,null,null,null,null,null,null,null,"",""]
[null,null,null,null,null,null,null,null,null,"",""]
[null,null,null,null,null,null,null,null,null,"",""]
[null,null,null,null,null,null,null,null,null,"",""]
[null,null,null,null,null,null,null,null,null,"",""]
[null,null,null,null,null,null,null,null,null,"",""]
[null,null,null,null,null,null,null,null,null,"",""]
[null,null,null,null,null,null,null,null,null,"",""]
[null,null,null,null,null,null,null,null,null,"",""]
[null,null,null,null,null,null,null,null,null,"",""]
[null,null,null,null,null,null,null,null,null,"",""]
[null,null,null,null,null,null,null,null,null,"",""]
[null,null,null,null,null,null,null,null,null,"",""]
[null,null,null,null,null,null,null,null,null,"",""]
[null,null,null,null,null,null,null,null,null,"",""]
[null,null,null,null,null,null,null,null,null,"",""]
[null,null,null,null,null,null,null,null,null,"",""]
[null,null,null,null,null,null,null,null,null,"",""]
[null,null,null,null,null,null,null,null,null,"",""]
[null,null,null,null,null,null,null,null,null,"",""]
[null,null,null,null,null,null,null,null,null,"",""]
[null,null,null,null,null,null,null,null,null,"",""]
[null,null,null,null,null,null,null,null,null,"",""]
[null,null,null,null,null,null,null,null,null,"",""]
[null,null,null,null,null,null,null,null,null,"",""]
[null,null,null,null,null,null,null,null,null,"",""]
[null,null,null,null,null,null,null,null,null,"",""]
[null,null,null,null,null,null,null,null,null,"",""]
[null,null,null,null,null,null,null,null,null,"",""]
[null,null,null,null,null,null,null,null,null,"",""]
[null,null,null,null,null,null,null,null,null,"",""]
[null,null,null,null,null,null,null,null,null,"",""]
[null,null,null,null,null,null,null,null,null,"",""]
[null,null,null,null,null,null,null,null,null,"",""]
[null,null,null,null,null,null,null,null,null,"",""]
[null,null,null,null,null,null,null,null,null,"",""]
[null,null,null,null,null,null,null,null,null,"",""]
[null,null,null,null,null,null,null,null,null,"",""]
[null,null,null,null,null,null,null,null,null,"",""]
[null,null,null,null,null,null,null,null,null,"",""]
[null,null,null,null,null,null,null,null,null,"",""]
[null,null,null,null,null,null,null,null,null,"",""]
[null,null,null,null,null,null,null,null,null,"",""]
[null,null,null,null,null,null,null,null,null,"",""]
[null,null,null,null,null,null,null,null,null,"",""]
[null,null,null,null,null,null,null,null,null,"",""]
[null,null,null,null,null,null,null,null,null,"",""]
[null,null,null,null,null,null,null,null,null,"",""]
[null,null,null,null,null,null,null,null,null,"",""]
[null,null,null,null,null,null,null,null,null,"",""]
[null,null,null,null,null,null,null,null,null,"",""]
[null,null,null,null,null,null,null,null,null,"",""]
[null,null,null,null,null,null,null,null,null,"",""]
[null,null,null,null,null,null,null,null,null,"",""]
[null,null,null,null,null,null,null,null,null,"",""]
[null,null,null,null,null,null,null,null,null,"",""]

{"sheet":"補助データ","index":3,"n_rows":74,"n_cols":14,"rows_kept":74,"cut":false,"hidden":true,"merged":[[1,1,1,2],[63,1,63,2],[67,1,67,2],[71,1,71,2]]}
[]
[null,"入力補助データ",null,null,"大会コード","4000005",null,"taikai",{"$f":"VLOOKUP(T_Betu,B53:C58,2,FALSE)","v":"スポーツ祭"}]
[]
[null,"出場種ID","出場種別",null,null,null,null,null,null,null,"メニュー","数式バー","Otoko",{"$f":"INDIRECT(\"D_参加\"&taikai)","v":false}]
[null,0,"共通","<=3",null,null,null,null,null,null,null,true,"Onna",{"$f":"INDIRECT(\"J_参加\" &taikai)","v":false}]
[null,1,"１年",1,1]
[null,2,"２年",2,2]
[null,3,"３年",{"$f":"3","v":3},2,null,null,null,null,null," "]
[null,4,"１．２年","<3"]
[null,5,"２．３年",">1"]
[null,6,"低学年","<3"]
[null,7,"その他","<=3"]
[]
[null,"種目コード","種目名","種目種別","男上","男下","女下","女上"]
[null,"001","１００ｍ",1,10,25,11,28]
[null,"002","２００ｍ",1,20.5,48,22,55]
[null,"004","４００ｍ",1,42,120,48,140]
[null,"008","８００ｍ",1,150,400,200,450]
[null,"015","１５００ｍ",1,340,800,400,900]
[null,"030","３０００ｍ",1,800,2000,900,2000]
[null,"110","１００ｍＨ",1,null,null,12,40]
[null,"111","１１０ｍＨ",1,12,40]
[null,"410","４×１００ｍＲ",1,38,null,41]
[null,"420","４×２００ｍＲ",1]
[null,"510","走高跳",2,2.4,1,1.9,1]
[null,"520","棒高跳",2,5.5,1]
[null,"530","走幅跳",2,8,2,7,2]
[null,"540","三段跳",2,17,4]
[null,"550","円盤投",2,60,null,45,1]
[null,"551","円盤投(1.5㎏)",2,70,1]
[null,"560","砲丸投",2,null,null,18,1]
[null,"561","砲丸投(2.7㎏)",2,20,2]
[null,"562","砲丸投(5.0㎏)",2,20,2]
[null,"563","砲丸投(4.0㎏)",2,30,2,25,1]
[null,"570","ｼﾞｬﾍﾞﾘｯｸｽﾛｰ",2]
[null,"710","男子四種競技",3,3800]
[null,"760","女子四種競技",3,null,null,4000]
[]
[null,"種目種別ID","種目種別"]
[null,1,"トラック"]
[null,2,"フィールド"]
[null,3,"混成"]
[]
[null,"種目詳細","種目１","種目２","種目３","種目４"]
[null,"女子四種競技","１００ｍＨ","走高跳","砲丸投","２００ｍ"]
[null,"男子四種競技","１１０ｍＨ","砲丸投","走高跳","４００ｍ"]
[]
[null,"性別ID","性別"]
[null,0,"男"]
[null,1,"女"]
[]
[null,"大会ID","大会名"]
[null,1,"中播総体"]
[null,2,"スポーツ祭"]
[null,3,"市総体"]
[null,4,"スポーツ祭"]
[null,5,"秋季記録会"]
[null,6,"スポーツ祭"]
[]
[]
[]
[]
[]
[null,"読み込みデータフォルダ指定"]
[null,"中体連データ","F:\\地区マスタ\\akasi01\\2014"]
[]
[]
[null,"読み込み試合データ"]
[null,"3010012","第２回明石市中学記録会"]
[]
[]
[null,"計測区分"]
[null,0,"電気"]
[null,1,"手動"]

{"sheet":"陸連データ書出シート","index":4,"n_rows":309,"n_cols":11,"rows_kept":309,"cut":false,"hidden":true,"merged":[]}
["生年月日（西暦）","生年月日（月）","生年月日（日）","登録番号","姓","名","姓（カナ）","名（カナ）","性別","学年","備考"]
[{"$f":"IF(部員名簿!A6=\"\",\"\",YEAR(部員名簿!G6))","v":2004},{"$f":"IF(部員名簿!A6=\"\",\"\",MONTH(部員名簿!G6))","v":6},{"$f":"IF(部員名簿!A6=\"\",\"\",DAY(部員名簿!G6))","v":9},{"$f":"IF(部員名簿!A6=\"\",\"\",学校番号*100+部員名簿!H6)","v":45},{"$f":"IF(部員名簿!A6=\"\",\"\",部員名簿!C6)","v":"香田"},{"$f":"IF(部員名簿!A6=\"\",\"\",部員名簿!D6)","v":"隼佑"},{"$f":"IF(部員名簿!A6=\"\",\"\",部員名簿!E6)","v":"コウダ"},{"$f":"IF(部員名簿!A6=\"\",\"\",部員名簿!F6)","v":"シュンスケ"},{"$f":"IF(部員名簿!A6=\"\",\"\",部員名簿!I6)","v":"男"},{"$f":"IF(部員名簿!A6=\"\",\"\",部員名簿!B6)","v":3}]
[{"$f":"IF(部員名簿!A7=\"\",\"\",YEAR(部員名簿!G7))","v":2004},{"$f":"IF(部員名簿!A7=\"\",\"\",MONTH(部員名簿!G7))","v":5},{"$f":"IF(部員名簿!A7=\"\",\"\",DAY(部員名簿!G7))","v":15},{"$f":"IF(部員名簿!A7=\"\",\"\",学校番号*100+部員名簿!H7)","v":46},{"$f":"IF(部員名簿!A7=\"\",\"\",部員名簿!C7)","v":"小山"},{"$f":"IF(部員名簿!A7=\"\",\"\",部員名簿!D7)","v":"蒼空"},{"$f":"IF(部員名簿!A7=\"\",\"\",部員名簿!E7)","v":"コヤマ"},{"$f":"IF(部員名簿!A7=\"\",\"\",部員名簿!F7)","v":"アオ"},{"$f":"IF(部員名簿!A7=\"\",\"\",部員名簿!I7)","v":"男"},{"$f":"IF(部員名簿!A7=\"\",\"\",部員名簿!B7)","v":3}]
[{"$f":"IF(部員名簿!A8=\"\",\"\",YEAR(部員名簿!G8))","v":2005},{"$f":"IF(部員名簿!A8=\"\",\"\",MONTH(部員名簿!G8))","v":3},{"$f":"IF(部員名簿!A8=\"\",\"\",DAY(部員名簿!G8))","v":20},{"$f":"IF(部員名簿!A8=\"\",\"\",学校番号*100+部員名簿!H8)","v":47},{"$f":"IF(部員名簿!A8=\"\",\"\",部員名簿!C8)","v":"土井"},{"$f":"IF(部員名簿!A8=\"\",\"\",部員名簿!D8)","v":"悠大"},{"$f":"IF(部員名簿!A8=\"\",\"\",部員名簿!E8)","v":"ドイ"},{"$f":"IF(部員名簿!A8=\"\",\"\",部員名簿!F8)","v":"ユウダイ"},{"$f":"IF(部員名簿!A8=\"\",\"\",部員名簿!I8)","v":"男"},{"$f":"IF(部員名簿!A8=\"\",\"\",部員名簿!B8)","v":3}]
[{"$f":"IF(部員名簿!A9=\"\",\"\",YEAR(部員名簿!G9))","v":2004},{"$f":"IF(部員名簿!A9=\"\",\"\",MONTH(部員名簿!G9))","v":6},{"$f":"IF(部員名簿!A9=\"\",\"\",DAY(部員名簿!G9))","v":18},{"$f":"IF(部員名簿!A9=\"\",\"\",学校番号*100+部員名簿!H9)","v":48},{"$f":"IF(部員名簿!A9=\"\",\"\",部員名簿!C9)","v":"西澤"},{"$f":"IF(部員名簿!A9=\"\",\"\",部員名簿!D9)","v":"渉"},{"$f":"IF(部員名簿!A9=\"\",\"\",部員名簿!E9)","v":"ニシザワ"},{"$f":"IF(部員名簿!A9=\"\",\"\",部員名簿!F9)","v":"ワタル"},{"$f":"IF(部員名簿!A9=\"\",\"\",部員名簿!I9)","v":"男"},{"$f":"IF(部員名簿!A9=\"\",\"\",部員名簿!B9)","v":3}]
[{"$f":"IF(部員名簿!A10=\"\",\"\",YEAR(部員名簿!G10))","v":2004},{"$f":"IF(部員名簿!A10=\"\",\"\",MONTH(部員名簿!G10))","v":4},{"$f":"IF(部員名簿!A10=\"\",\"\",DAY(部員名簿!G10))","v":6},{"$f":"IF(部員名簿!A10=\"\",\"\",学校番号*100+部員名簿!H10)","v":50},{"$f":"IF(部員名簿!A10=\"\",\"\",部員名簿!C10)","v":"宮内"},{"$f":"IF(部員名簿!A10=\"\",\"\",部員名簿!D10)","v":"健之介"},{"$f":"IF(部員名簿!A10=\"\",\"\",部員名簿!E10)","v":"ミヤウチ"},{"$f":"IF(部員名簿!A10=\"\",\"\",部員名簿!F10)","v":"ケンノスケ"},{"$f":"IF(部員名簿!A10=\"\",\"\",部員名簿!I10)","v":"男"},{"$f":"IF(部員名簿!A10=\"\",\"\",部員名簿!B10)","v":3}]
[{"$f":"IF(部員名簿!A11=\"\",\"\",YEAR(部員名簿!G11))","v":2004},{"$f":"IF(部員名簿!A11=\"\",\"\",MONTH(部員名簿!G11))","v":7},{"$f":"IF(部員名簿!A11=\"\",\"\",DAY(部員名簿!G11))","v":8},{"$f":"IF(部員名簿!A11=\"\",\"\",学校番号*100+部員名簿!H11)","v":52},{"$f":"IF(部員名簿!A11=\"\",\"\",部員名簿!C11)","v":"石野"},{"$f":"IF(部員名簿!A11=\"\",\"\",部員名簿!D11)","v":"祥吾"},{"$f":"IF(部員名簿!A11=\"\",\"\",部員名簿!E11)","v":"イシノ"},{"$f":"IF(部員名簿!A11=\"\",\"\",部員名簿!F11)","v":"ショウゴ"},{"$f":"IF(部員名簿!A11=\"\",\"\",部員名簿!I11)","v":"男"},{"$f":"IF(部員名簿!A11=\"\",\"\",部員名簿!B11)","v":3}]
[{"$f":"IF(部員名簿!A12=\"\",\"\",YEAR(部員名簿!G12))","v":2004},{"$f":"IF(部員名簿!A12=\"\",\"\",MONTH(部員名簿!G12))","v":4},{"$f":"IF(部員名簿!A12=\"\",\"\",DAY(部員名簿!G12))","v":6},{"$f":"IF(部員名簿!A12=\"\",\"\",学校番号*100+部員名簿!H12)","v":54},{"$f":"IF(部員名簿!A12=\"\",\"\",部員名簿!C12)","v":"宮内"},{"$f":"IF(部員名簿!A12=\"\",\"\",部員名簿!D12)","v":"隆之介"},{"$f":"IF(部員名簿!A12=\"\",\"\",部員名簿!E12)","v":"ミヤウチ"},{"$f":"IF(部員名簿!A12=\"\",\"\",部員名簿!F12)","v":"リュウノスケ"},{"$f":"IF(部員名簿!A12=\"\",\"\",部員名簿!I12)","v":"男"},{"$f":"IF(部員名簿!A12=\"\",\"\",部員名簿!B12)","v":3}]
[{"$f":"IF(部員名簿!A13=\"\",\"\",YEAR(部員名簿!G13))","v":2005},{"$f":"IF(部員名簿!A13=\"\",\"\",MONTH(部員名簿!G13))","v":6},{"$f":"IF(部員名簿!A13=\"\",\"\",DAY(部員名簿!G13))","v":2},{"$f":"IF(部員名簿!A13=\"\",\"\",学校番号*100+部員名簿!H13)","v":63},{"$f":"IF(部員名簿!A13=\"\",\"\",部員名簿!C13)","v":"八十"},{"$f":"IF(部員名簿!A13=\"\",\"\",部員名簿!D13)","v":"康介"},{"$f":"IF(部員名簿!A13=\"\",\"\",部員名簿!E13)","v":"ヤソ"},{"$f":"IF(部員名簿!A13=\"\",\"\",部員名簿!F13)","v":"コウスケ"},{"$f":"IF(部員名簿!A13=\"\",\"\",部員名簿!I13)","v":"男"},{"$f":"IF(部員名簿!A13=\"\",\"\",部員名簿!B13)","v":2}]
[{"$f":"IF(部員名簿!A14=\"\",\"\",YEAR(部員名簿!G14))","v":2002},{"$f":"IF(部員名簿!A14=\"\",\"\",MONTH(部員名簿!G14))","v":5},{"$f":"IF(部員名簿!A14=\"\",\"\",DAY(部員名簿!G14))","v":26},{"$f":"IF(部員名簿!A14=\"\",\"\",学校番号*100+部員名簿!H14)","v":64},{"$f":"IF(部員名簿!A14=\"\",\"\",部員名簿!C14)","v":"藤田"},{"$f":"IF(部員名簿!A14=\"\",\"\",部員名簿!D14)","v":"隼樹"},{"$f":"IF(部員名簿!A14=\"\",\"\",部員名簿!E14)","v":"フジタ"},{"$f":"IF(部員名簿!A14=\"\",\"\",部員名簿!F14)","v":"シュンキ"},{"$f":"IF(部員名簿!A14=\"\",\"\",部員名簿!I14)","v":"男"},{"$f":"IF(部員名簿!A14=\"\",\"\",部員名簿!B14)","v":2}]
[{"$f":"IF(部員名簿!A15=\"\",\"\",YEAR(部員名簿!G15))","v":2005},{"$f":"IF(部員名簿!A15=\"\",\"\",MONTH(部員名簿!G15))","v":11},{"$f":"IF(部員名簿!A15=\"\",\"\",DAY(部員名簿!G15))","v":2},{"$f":"IF(部員名簿!A15=\"\",\"\",学校番号*100+部員名簿!H15)","v":66},{"$f":"IF(部員名簿!A15=\"\",\"\",部員名簿!C15)","v":"西山"},{"$f":"IF(部員名簿!A15=\"\",\"\",部員名簿!D15)","v":"一生"},{"$f":"IF(部員名簿!A15=\"\",\"\",部員名簿!E15)","v":"ニシヤマ"},{"$f":"IF(部員名簿!A15=\"\",\"\",部員名簿!F15)","v":"イッセイ"},{"$f":"IF(部員名簿!A15=\"\",\"\",部員名簿!I15)","v":"男"},{"$f":"IF(部員名簿!A15=\"\",\"\",部員名簿!B15)","v":2}]
[{"$f":"IF(部員名簿!A16=\"\",\"\",YEAR(部員名簿!G16))","v":2006},{"$f":"IF(部員名簿!A16=\"\",\"\",MONTH(部員名簿!G16))","v":1},{"$f":"IF(部員名簿!A16=\"\",\"\",DAY(部員名簿!G16))","v":18},{"$f":"IF(部員名簿!A16=\"\",\"\",学校番号*100+部員名簿!H16)","v":67},{"$f":"IF(部員名簿!A16=\"\",\"\",部員名簿!C16)","v":"砂川"},{"$f":"IF(部員名簿!A16=\"\",\"\",部員名簿!D16)","v":"心人"},{"$f":"IF(部員名簿!A16=\"\",\"\",部員名簿!E16)","v":"スナガワ"},{"$f":"IF(部員名簿!A16=\"\",\"\",部員名簿!F16)","v":"アイト"},{"$f":"IF(部員名簿!A16=\"\",\"\",部員名簿!I16)","v":"男"},{"$f":"IF(部員名簿!A16=\"\",\"\",部員名簿!B16)","v":2}]
[{"$f":"IF(部員名簿!A17=\"\",\"\",YEAR(部員名簿!G17))","v":2005},{"$f":"IF(部員名簿!A17=\"\",\"\",MONTH(部員名簿!G17))","v":4},{"$f":"IF(部員名簿!A17=\"\",\"\",DAY(部員名簿!G17))","v":2},{"$f":"IF(部員名簿!A17=\"\",\"\",学校番号*100+部員名簿!H17)","v":70},{"$f":"IF(部員名簿!A17=\"\",\"\",部員名簿!C17)","v":"小川"},{"$f":"IF(部員名簿!A17=\"\",\"\",部員名簿!D17)","v":"明生"},{"$f":"IF(部員名簿!A17=\"\",\"\",部員名簿!E17)","v":"オガワ"},{"$f":"IF(部員名簿!A17=\"\",\"\",部員名簿!F17)","v":"ハルキ"},{"$f":"IF(部員名簿!A17=\"\",\"\",部員名簿!I17)","v":"男"},{"$f":"IF(部員名簿!A17=\"\",\"\",部員名簿!B17)","v":2}]
[{"$f":"IF(部員名簿!A18=\"\",\"\",YEAR(部員名簿!G18))","v":2005},{"$f":"IF(部員名簿!A18=\"\",\"\",MONTH(部員名簿!G18))","v":5},{"$f":"IF(部員名簿!A18=\"\",\"\",DAY(部員名簿!G18))","v":2},{"$f":"IF(部員名簿!A18=\"\",\"\",学校番号*100+部員名簿!H18)","v":72},{"$f":"IF(部員名簿!A18=\"\",\"\",部員名簿!C18)","v":"伊藤"},{"$f":"IF(部員名簿!A18=\"\",\"\",部員名簿!D18)","v":"真弥"},{"$f":"IF(部員名簿!A18=\"\",\"\",部員名簿!E18)","v":"イトウ"},{"$f":"IF(部員名簿!A18=\"\",\"\",部員名簿!F18)","v":"シンヤ"},{"$f":"IF(部員名簿!A18=\"\",\"\",部員名簿!I18)","v":"男"},{"$f":"IF(部員名簿!A18=\"\",\"\",部員名簿!B18)","v":2}]
[{"$f":"IF(部員名簿!A19=\"\",\"\",YEAR(部員名簿!G19))","v":2006},{"$f":"IF(部員名簿!A19=\"\",\"\",MONTH(部員名簿!G19))","v":6},{"$f":"IF(部員名簿!A19=\"\",\"\",DAY(部員名簿!G19))","v":5},{"$f":"IF(部員名簿!A19=\"\",\"\",学校番号*100+部員名簿!H19)","v":81},{"$f":"IF(部員名簿!A19=\"\",\"\",部員名簿!C19)","v":"西川"},{"$f":"IF(部員名簿!A19=\"\",\"\",部員名簿!D19)","v":"翔己"},{"$f":"IF(部員名簿!A19=\"\",\"\",部員名簿!E19)","v":"ニシカワ"},{"$f":"IF(部員名簿!A19=\"\",\"\",部員名簿!F19)","v":"ショウキ"},{"$f":"IF(部員名簿!A19=\"\",\"\",部員名簿!I19)","v":"男"},{"$f":"IF(部員名簿!A19=\"\",\"\",部員名簿!B19)","v":1}]
[{"$f":"IF(部員名簿!A20=\"\",\"\",YEAR(部員名簿!G20))","v":2006},{"$f":"IF(部員名簿!A20=\"\",\"\",MONTH(部員名簿!G20))","v":5},{"$f":"IF(部員名簿!A20=\"\",\"\",DAY(部員名簿!G20))","v":18},{"$f":"IF(部員名簿!A20=\"\",\"\",学校番号*100+部員名簿!H20)","v":82},{"$f":"IF(部員名簿!A20=\"\",\"\",部員名簿!C20)","v":"吉川"},{"$f":"IF(部員名簿!A20=\"\",\"\",部員名簿!D20)","v":"響葵"},{"$f":"IF(部員名簿!A20=\"\",\"\",部員名簿!E20)","v":"ヨシカワ"},{"$f":"IF(部員名簿!A20=\"\",\"\",部員名簿!F20)","v":"ヒビキ"},{"$f":"IF(部員名簿!A20=\"\",\"\",部員名簿!I20)","v":"男"},{"$f":"IF(部員名簿!A20=\"\",\"\",部員名簿!B20)","v":1}]
[{"$f":"IF(部員名簿!A21=\"\",\"\",YEAR(部員名簿!G21))","v":2006},{"$f":"IF(部員名簿!A21=\"\",\"\",MONTH(部員名簿!G21))","v":7},{"$f":"IF(部員名簿!A21=\"\",\"\",DAY(部員名簿!G21))","v":12},{"$f":"IF(部員名簿!A21=\"\",\"\",学校番号*100+部員名簿!H21)","v":83},{"$f":"IF(部員名簿!A21=\"\",\"\",部員名簿!C21)","v":"茶谷"},{"$f":"IF(部員名簿!A21=\"\",\"\",部員名簿!D21)","v":"匡祐"},{"$f":"IF(部員名簿!A21=\"\",\"\",部員名簿!E21)","v":"チャタニ"},{"$f":"IF(部員名簿!A21=\"\",\"\",部員名簿!F21)","v":"キョウスケ"},{"$f":"IF(部員名簿!A21=\"\",\"\",部員名簿!I21)","v":"男"},{"$f":"IF(部員名簿!A21=\"\",\"\",部員名簿!B21)","v":1}]
[{"$f":"IF(部員名簿!A22=\"\",\"\",YEAR(部員名簿!G22))","v":2006},{"$f":"IF(部員名簿!A22=\"\",\"\",MONTH(部員名簿!G22))","v":11},{"$f":"IF(部員名簿!A22=\"\",\"\",DAY(部員名簿!G22))","v":4},{"$f":"IF(部員名簿!A22=\"\",\"\",学校番号*100+部員名簿!H22)","v":84},{"$f":"IF(部員名簿!A22=\"\",\"\",部員名簿!C22)","v":"江口"},{"$f":"IF(部員名簿!A22=\"\",\"\",部員名簿!D22)","v":"結翔"},{"$f":"IF(部員名簿!A22=\"\",\"\",部員名簿!E22)","v":"エグチ"},{"$f":"IF(部員名簿!A22=\"\",\"\",部員名簿!F22)","v":"ユイト"},{"$f":"IF(部員名簿!A22=\"\",\"\",部員名簿!I22)","v":"男"},{"$f":"IF(部員名簿!A22=\"\",\"\",部員名簿!B22)","v":1}]
[{"$f":"IF(部員名簿!A23=\"\",\"\",YEAR(部員名簿!G23))","v":2004},{"$f":"IF(部員名簿!A23=\"\",\"\",MONTH(部員名簿!G23))","v":11},{"$f":"IF(部員名簿!A23=\"\",\"\",DAY(部員名簿!G23))","v":29},{"$f":"IF(部員名簿!A23=\"\",\"\",学校番号*100+部員名簿!H23)","v":31},{"$f":"IF(部員名簿!A23=\"\",\"\",部員名簿!C23)","v":"坂井"},{"$f":"IF(部員名簿!A23=\"\",\"\",部員名簿!D23)","v":"楠奈"},{"$f":"IF(部員名簿!A23=\"\",\"\",部員名簿!E23)","v":"サカイ"},{"$f":"IF(部員名簿!A23=\"\",\"\",部員名簿!F23)","v":"ナナ"},{"$f":"IF(部員名簿!A23=\"\",\"\",部員名簿!I23)","v":"女"},{"$f":"IF(部員名簿!A23=\"\",\"\",部員名簿!B23)","v":3}]
[{"$f":"IF(部員名簿!A24=\"\",\"\",YEAR(部員名簿!G24))","v":2005},{"$f":"IF(部員名簿!A24=\"\",\"\",MONTH(部員名簿!G24))","v":6},{"$f":"IF(部員名簿!A24=\"\",\"\",DAY(部員名簿!G24))","v":9},{"$f":"IF(部員名簿!A24=\"\",\"\",学校番号*100+部員名簿!H24)","v":41},{"$f":"IF(部員名簿!A24=\"\",\"\",部員名簿!C24)","v":"松本"},{"$f":"IF(部員名簿!A24=\"\",\"\",部員名簿!D24)","v":"志穂"},{"$f":"IF(部員名簿!A24=\"\",\"\",部員名簿!E24)","v":"マツモト"},{"$f":"IF(部員名簿!A24=\"\",\"\",部員名簿!F24)","v":"シホ"},{"$f":"IF(部員名簿!A24=\"\",\"\",部員名簿!I24)","v":"女"},{"$f":"IF(部員名簿!A24=\"\",\"\",部員名簿!B24)","v":2}]
[{"$f":"IF(部員名簿!A25=\"\",\"\",YEAR(部員名簿!G25))","v":2006},{"$f":"IF(部員名簿!A25=\"\",\"\",MONTH(部員名簿!G25))","v":4},{"$f":"IF(部員名簿!A25=\"\",\"\",DAY(部員名簿!G25))","v":27},{"$f":"IF(部員名簿!A25=\"\",\"\",学校番号*100+部員名簿!H25)","v":51},{"$f":"IF(部員名簿!A25=\"\",\"\",部員名簿!C25)","v":"三木"},{"$f":"IF(部員名簿!A25=\"\",\"\",部員名簿!D25)","v":"胡桃"},{"$f":"IF(部員名簿!A25=\"\",\"\",部員名簿!E25)","v":"ミキ"},{"$f":"IF(部員名簿!A25=\"\",\"\",部員名簿!F25)","v":"クルミ"},{"$f":"IF(部員名簿!A25=\"\",\"\",部員名簿!I25)","v":"女"},{"$f":"IF(部員名簿!A25=\"\",\"\",部員名簿!B25)","v":1}]
[{"$f":"IF(部員名簿!A26=\"\",\"\",YEAR(部員名簿!G26))","v":2007},{"$f":"IF(部員名簿!A26=\"\",\"\",MONTH(部員名簿!G26))","v":3},{"$f":"IF(部員名簿!A26=\"\",\"\",DAY(部員名簿!G26))","v":25},{"$f":"IF(部員名簿!A26=\"\",\"\",学校番号*100+部員名簿!H26)","v":52},{"$f":"IF(部員名簿!A26=\"\",\"\",部員名簿!C26)","v":"砂川"},{"$f":"IF(部員名簿!A26=\"\",\"\",部員名簿!D26)","v":"心美"},{"$f":"IF(部員名簿!A26=\"\",\"\",部員名簿!E26)","v":"スナガワ"},{"$f":"IF(部員名簿!A26=\"\",\"\",部員名簿!F26)","v":"ココミ"},{"$f":"IF(部員名簿!A26=\"\",\"\",部員名簿!I26)","v":"女"},{"$f":"IF(部員名簿!A26=\"\",\"\",部員名簿!B26)","v":1}]
[{"$f":"IF(部員名簿!A27=\"\",\"\",YEAR(部員名簿!G27))","v":2007},{"$f":"IF(部員名簿!A27=\"\",\"\",MONTH(部員名簿!G27))","v":1},{"$f":"IF(部員名簿!A27=\"\",\"\",DAY(部員名簿!G27))","v":30},{"$f":"IF(部員名簿!A27=\"\",\"\",学校番号*100+部員名簿!H27)","v":53},{"$f":"IF(部員名簿!A27=\"\",\"\",部員名簿!C27)","v":"橋本"},{"$f":"IF(部員名簿!A27=\"\",\"\",部員名簿!D27)","v":"心愛"},{"$f":"IF(部員名簿!A27=\"\",\"\",部員名簿!E27)","v":"ハシモト"},{"$f":"IF(部員名簿!A27=\"\",\"\",部員名簿!F27)","v":"ココア"},{"$f":"IF(部員名簿!A27=\"\",\"\",部員名簿!I27)","v":"女"},{"$f":"IF(部員名簿!A27=\"\",\"\",部員名簿!B27)","v":1}]
[{"$f":"IF(部員名簿!A28=\"\",\"\",YEAR(部員名簿!G28))","v":2006},{"$f":"IF(部員名簿!A28=\"\",\"\",MONTH(部員名簿!G28))","v":10},{"$f":"IF(部員名簿!A28=\"\",\"\",DAY(部員名簿!G28))","v":8},{"$f":"IF(部員名簿!A28=\"\",\"\",学校番号*100+部員名簿!H28)","v":54},{"$f":"IF(部員名簿!A28=\"\",\"\",部員名簿!C28)","v":"井神"},{"$f":"IF(部員名簿!A28=\"\",\"\",部員名簿!D28)","v":"陽菜"},{"$f":"IF(部員名簿!A28=\"\",\"\",部員名簿!E28)","v":"イノカミ"},{"$f":"IF(部員名簿!A28=\"\",\"\",部員名簿!F28)","v":"ヒナ"},{"$f":"IF(部員名簿!A28=\"\",\"\",部員名簿!I28)","v":"女"},{"$f":"IF(部員名簿!A28=\"\",\"\",部員名簿!B28)","v":1}]
[{"$f":"IF(部員名簿!A29=\"\",\"\",YEAR(部員名簿!G29))","v":""},{"$f":"IF(部員名簿!A29=\"\",\"\",MONTH(部員名簿!G29))","v":""},{"$f":"IF(部員名簿!A29=\"\",\"\",DAY(部員名簿!G29))","v":""},{"$f":"IF(部員名簿!A29=\"\",\"\",学校番号*100+部員名簿!H29)","v":""},{"$f":"IF(部員名簿!A29=\"\",\"\",部員名簿!C29)","v":""},{"$f":"IF(部員名簿!A29=\"\",\"\",部員名簿!D29)","v":""},{"$f":"IF(部員名簿!A29=\"\",\"\",部員名簿!E29)","v":""},{"$f":"IF(部員名簿!A29=\"\",\"\",部員名簿!F29)","v":""},{"$f":"IF(部員名簿!A29=\"\",\"\",部員名簿!I29)","v":""},{"$f":"IF(部員名簿!A29=\"\",\"\",部員名簿!B29)","v":""}]
[{"$f":"IF(部員名簿!A30=\"\",\"\",YEAR(部員名簿!G30))","v":""},{"$f":"IF(部員名簿!A30=\"\",\"\",MONTH(部員名簿!G30))","v":""},{"$f":"IF(部員名簿!A30=\"\",\"\",DAY(部員名簿!G30))","v":""},{"$f":"IF(部員名簿!A30=\"\",\"\",学校番号*100+部員名簿!H30)","v":""},{"$f":"IF(部員名簿!A30=\"\",\"\",部員名簿!C30)","v":""},{"$f":"IF(部員名簿!A30=\"\",\"\",部員名簿!D30)","v":""},{"$f":"IF(部員名簿!A30=\"\",\"\",部員名簿!E30)","v":""},{"$f":"IF(部員名簿!A30=\"\",\"\",部員名簿!F30)","v":""},{"$f":"IF(部員名簿!A30=\"\",\"\",部員名簿!I30)","v":""},{"$f":"IF(部員名簿!A30=\"\",\"\",部員名簿!B30)","v":""}]
[{"$f":"IF(部員名簿!A31=\"\",\"\",YEAR(部員名簿!G31))","v":""},{"$f":"IF(部員名簿!A31=\"\",\"\",MONTH(部員名簿!G31))","v":""},{"$f":"IF(部員名簿!A31=\"\",\"\",DAY(部員名簿!G31))","v":""},{"$f":"IF(部員名簿!A31=\"\",\"\",学校番号*100+部員名簿!H31)","v":""},{"$f":"IF(部員名簿!A31=\"\",\"\",部員名簿!C31)","v":""},{"$f":"IF(部員名簿!A31=\"\",\"\",部員名簿!D31)","v":""},{"$f":"IF(部員名簿!A31=\"\",\"\",部員名簿!E31)","v":""},{"$f":"IF(部員名簿!A31=\"\",\"\",部員名簿!F31)","v":""},{"$f":"IF(部員名簿!A31=\"\",\"\",部員名簿!I31)","v":""},{"$f":"IF(部員名簿!A31=\"\",\"\",部員名簿!B31)","v":""}]
[{"$f":"IF(部員名簿!A32=\"\",\"\",YEAR(部員名簿!G32))","v":""},{"$f":"IF(部員名簿!A32=\"\",\"\",MONTH(部員名簿!G32))","v":""},{"$f":"IF(部員名簿!A32=\"\",\"\",DAY(部員名簿!G32))","v":""},{"$f":"IF(部員名簿!A32=\"\",\"\",学校番号*100+部員名簿!H32)","v":""},{"$f":"IF(部員名簿!A32=\"\",\"\",部員名簿!C32)","v":""},{"$f":"IF(部員名簿!A32=\"\",\"\",部員名簿!D32)","v":""},{"$f":"IF(部員名簿!A32=\"\",\"\",部員名簿!E32)","v":""},{"$f":"IF(部員名簿!A32=\"\",\"\",部員名簿!F32)","v":""},{"$f":"IF(部員名簿!A32=\"\",\"\",部員名簿!I32)","v":""},{"$f":"IF(部員名簿!A32=\"\",\"\",部員名簿!B32)","v":""}]
[{"$f":"IF(部員名簿!A33=\"\",\"\",YEAR(部員名簿!G33))","v":""},{"$f":"IF(部員名簿!A33=\"\",\"\",MONTH(部員名簿!G33))","v":""},{"$f":"IF(部員名簿!A33=\"\",\"\",DAY(部員名簿!G33))","v":""},{"$f":"IF(部員名簿!A33=\"\",\"\",学校番号*100+部員名簿!H33)","v":""},{"$f":"IF(部員名簿!A33=\"\",\"\",部員名簿!C33)","v":""},{"$f":"IF(部員名簿!A33=\"\",\"\",部員名簿!D33)","v":""},{"$f":"IF(部員名簿!A33=\"\",\"\",部員名簿!E33)","v":""},{"$f":"IF(部員名簿!A33=\"\",\"\",部員名簿!F33)","v":""},{"$f":"IF(部員名簿!A33=\"\",\"\",部員名簿!I33)","v":""},{"$f":"IF(部員名簿!A33=\"\",\"\",部員名簿!B33)","v":""}]
[{"$f":"IF(部員名簿!A34=\"\",\"\",YEAR(部員名簿!G34))","v":""},{"$f":"IF(部員名簿!A34=\"\",\"\",MONTH(部員名簿!G34))","v":""},{"$f":"IF(部員名簿!A34=\"\",\"\",DAY(部員名簿!G34))","v":""},{"$f":"IF(部員名簿!A34=\"\",\"\",学校番号*100+部員名簿!H34)","v":""},{"$f":"IF(部員名簿!A34=\"\",\"\",部員名簿!C34)","v":""},{"$f":"IF(部員名簿!A34=\"\",\"\",部員名簿!D34)","v":""},{"$f":"IF(部員名簿!A34=\"\",\"\",部員名簿!E34)","v":""},{"$f":"IF(部員名簿!A34=\"\",\"\",部員名簿!F34)","v":""},{"$f":"IF(部員名簿!A34=\"\",\"\",部員名簿!I34)","v":""},{"$f":"IF(部員名簿!A34=\"\",\"\",部員名簿!B34)","v":""}]
[{"$f":"IF(部員名簿!A35=\"\",\"\",YEAR(部員名簿!G35))","v":""},{"$f":"IF(部員名簿!A35=\"\",\"\",MONTH(部員名簿!G35))","v":""},{"$f":"IF(部員名簿!A35=\"\",\"\",DAY(部員名簿!G35))","v":""},{"$f":"IF(部員名簿!A35=\"\",\"\",学校番号*100+部員名簿!H35)","v":""},{"$f":"IF(部員名簿!A35=\"\",\"\",部員名簿!C35)","v":""},{"$f":"IF(部員名簿!A35=\"\",\"\",部員名簿!D35)","v":""},{"$f":"IF(部員名簿!A35=\"\",\"\",部員名簿!E35)","v":""},{"$f":"IF(部員名簿!A35=\"\",\"\",部員名簿!F35)","v":""},{"$f":"IF(部員名簿!A35=\"\",\"\",部員名簿!I35)","v":""},{"$f":"IF(部員名簿!A35=\"\",\"\",部員名簿!B35)","v":""}]
[{"$f":"IF(部員名簿!A36=\"\",\"\",YEAR(部員名簿!G36))","v":""},{"$f":"IF(部員名簿!A36=\"\",\"\",MONTH(部員名簿!G36))","v":""},{"$f":"IF(部員名簿!A36=\"\",\"\",DAY(部員名簿!G36))","v":""},{"$f":"IF(部員名簿!A36=\"\",\"\",学校番号*100+部員名簿!H36)","v":""},{"$f":"IF(部員名簿!A36=\"\",\"\",部員名簿!C36)","v":""},{"$f":"IF(部員名簿!A36=\"\",\"\",部員名簿!D36)","v":""},{"$f":"IF(部員名簿!A36=\"\",\"\",部員名簿!E36)","v":""},{"$f":"IF(部員名簿!A36=\"\",\"\",部員名簿!F36)","v":""},{"$f":"IF(部員名簿!A36=\"\",\"\",部員名簿!I36)","v":""},{"$f":"IF(部員名簿!A36=\"\",\"\",部員名簿!B36)","v":""}]
[{"$f":"IF(部員名簿!A37=\"\",\"\",YEAR(部員名簿!G37))","v":""},{"$f":"IF(部員名簿!A37=\"\",\"\",MONTH(部員名簿!G37))","v":""},{"$f":"IF(部員名簿!A37=\"\",\"\",DAY(部員名簿!G37))","v":""},{"$f":"IF(部員名簿!A37=\"\",\"\",学校番号*100+部員名簿!H37)","v":""},{"$f":"IF(部員名簿!A37=\"\",\"\",部員名簿!C37)","v":""},{"$f":"IF(部員名簿!A37=\"\",\"\",部員名簿!D37)","v":""},{"$f":"IF(部員名簿!A37=\"\",\"\",部員名簿!E37)","v":""},{"$f":"IF(部員名簿!A37=\"\",\"\",部員名簿!F37)","v":""},{"$f":"IF(部員名簿!A37=\"\",\"\",部員名簿!I37)","v":""},{"$f":"IF(部員名簿!A37=\"\",\"\",部員名簿!B37)","v":""}]
[{"$f":"IF(部員名簿!A38=\"\",\"\",YEAR(部員名簿!G38))","v":""},{"$f":"IF(部員名簿!A38=\"\",\"\",MONTH(部員名簿!G38))","v":""},{"$f":"IF(部員名簿!A38=\"\",\"\",DAY(部員名簿!G38))","v":""},{"$f":"IF(部員名簿!A38=\"\",\"\",学校番号*100+部員名簿!H38)","v":""},{"$f":"IF(部員名簿!A38=\"\",\"\",部員名簿!C38)","v":""},{"$f":"IF(部員名簿!A38=\"\",\"\",部員名簿!D38)","v":""},{"$f":"IF(部員名簿!A38=\"\",\"\",部員名簿!E38)","v":""},{"$f":"IF(部員名簿!A38=\"\",\"\",部員名簿!F38)","v":""},{"$f":"IF(部員名簿!A38=\"\",\"\",部員名簿!I38)","v":""},{"$f":"IF(部員名簿!A38=\"\",\"\",部員名簿!B38)","v":""}]
[{"$f":"IF(部員名簿!A39=\"\",\"\",YEAR(部員名簿!G39))","v":""},{"$f":"IF(部員名簿!A39=\"\",\"\",MONTH(部員名簿!G39))","v":""},{"$f":"IF(部員名簿!A39=\"\",\"\",DAY(部員名簿!G39))","v":""},{"$f":"IF(部員名簿!A39=\"\",\"\",学校番号*100+部員名簿!H39)","v":""},{"$f":"IF(部員名簿!A39=\"\",\"\",部員名簿!C39)","v":""},{"$f":"IF(部員名簿!A39=\"\",\"\",部員名簿!D39)","v":""},{"$f":"IF(部員名簿!A39=\"\",\"\",部員名簿!E39)","v":""},{"$f":"IF(部員名簿!A39=\"\",\"\",部員名簿!F39)","v":""},{"$f":"IF(部員名簿!A39=\"\",\"\",部員名簿!I39)","v":""},{"$f":"IF(部員名簿!A39=\"\",\"\",部員名簿!B39)","v":""}]
[{"$f":"IF(部員名簿!A40=\"\",\"\",YEAR(部員名簿!G40))","v":""},{"$f":"IF(部員名簿!A40=\"\",\"\",MONTH(部員名簿!G40))","v":""},{"$f":"IF(部員名簿!A40=\"\",\"\",DAY(部員名簿!G40))","v":""},{"$f":"IF(部員名簿!A40=\"\",\"\",学校番号*100+部員名簿!H40)","v":""},{"$f":"IF(部員名簿!A40=\"\",\"\",部員名簿!C40)","v":""},{"$f":"IF(部員名簿!A40=\"\",\"\",部員名簿!D40)","v":""},{"$f":"IF(部員名簿!A40=\"\",\"\",部員名簿!E40)","v":""},{"$f":"IF(部員名簿!A40=\"\",\"\",部員名簿!F40)","v":""},{"$f":"IF(部員名簿!A40=\"\",\"\",部員名簿!I40)","v":""},{"$f":"IF(部員名簿!A40=\"\",\"\",部員名簿!B40)","v":""}]
[{"$f":"IF(部員名簿!A41=\"\",\"\",YEAR(部員名簿!G41))","v":""},{"$f":"IF(部員名簿!A41=\"\",\"\",MONTH(部員名簿!G41))","v":""},{"$f":"IF(部員名簿!A41=\"\",\"\",DAY(部員名簿!G41))","v":""},{"$f":"IF(部員名簿!A41=\"\",\"\",学校番号*100+部員名簿!H41)","v":""},{"$f":"IF(部員名簿!A41=\"\",\"\",部員名簿!C41)","v":""},{"$f":"IF(部員名簿!A41=\"\",\"\",部員名簿!D41)","v":""},{"$f":"IF(部員名簿!A41=\"\",\"\",部員名簿!E41)","v":""},{"$f":"IF(部員名簿!A41=\"\",\"\",部員名簿!F41)","v":""},{"$f":"IF(部員名簿!A41=\"\",\"\",部員名簿!I41)","v":""},{"$f":"IF(部員名簿!A41=\"\",\"\",部員名簿!B41)","v":""}]
[{"$f":"IF(部員名簿!A42=\"\",\"\",YEAR(部員名簿!G42))","v":""},{"$f":"IF(部員名簿!A42=\"\",\"\",MONTH(部員名簿!G42))","v":""},{"$f":"IF(部員名簿!A42=\"\",\"\",DAY(部員名簿!G42))","v":""},{"$f":"IF(部員名簿!A42=\"\",\"\",学校番号*100+部員名簿!H42)","v":""},{"$f":"IF(部員名簿!A42=\"\",\"\",部員名簿!C42)","v":""},{"$f":"IF(部員名簿!A42=\"\",\"\",部員名簿!D42)","v":""},{"$f":"IF(部員名簿!A42=\"\",\"\",部員名簿!E42)","v":""},{"$f":"IF(部員名簿!A42=\"\",\"\",部員名簿!F42)","v":""},{"$f":"IF(部員名簿!A42=\"\",\"\",部員名簿!I42)","v":""},{"$f":"IF(部員名簿!A42=\"\",\"\",部員名簿!B42)","v":""}]
[{"$f":"IF(部員名簿!A43=\"\",\"\",YEAR(部員名簿!G43))","v":""},{"$f":"IF(部員名簿!A43=\"\",\"\",MONTH(部員名簿!G43))","v":""},{"$f":"IF(部員名簿!A43=\"\",\"\",DAY(部員名簿!G43))","v":""},{"$f":"IF(部員名簿!A43=\"\",\"\",学校番号*100+部員名簿!H43)","v":""},{"$f":"IF(部員名簿!A43=\"\",\"\",部員名簿!C43)","v":""},{"$f":"IF(部員名簿!A43=\"\",\"\",部員名簿!D43)","v":""},{"$f":"IF(部員名簿!A43=\"\",\"\",部員名簿!E43)","v":""},{"$f":"IF(部員名簿!A43=\"\",\"\",部員名簿!F43)","v":""},{"$f":"IF(部員名簿!A43=\"\",\"\",部員名簿!I43)","v":""},{"$f":"IF(部員名簿!A43=\"\",\"\",部員名簿!B43)","v":""}]
[{"$f":"IF(部員名簿!A44=\"\",\"\",YEAR(部員名簿!G44))","v":""},{"$f":"IF(部員名簿!A44=\"\",\"\",MONTH(部員名簿!G44))","v":""},{"$f":"IF(部員名簿!A44=\"\",\"\",DAY(部員名簿!G44))","v":""},{"$f":"IF(部員名簿!A44=\"\",\"\",学校番号*100+部員名簿!H44)","v":""},{"$f":"IF(部員名簿!A44=\"\",\"\",部員名簿!C44)","v":""},{"$f":"IF(部員名簿!A44=\"\",\"\",部員名簿!D44)","v":""},{"$f":"IF(部員名簿!A44=\"\",\"\",部員名簿!E44)","v":""},{"$f":"IF(部員名簿!A44=\"\",\"\",部員名簿!F44)","v":""},{"$f":"IF(部員名簿!A44=\"\",\"\",部員名簿!I44)","v":""},{"$f":"IF(部員名簿!A44=\"\",\"\",部員名簿!B44)","v":""}]
[{"$f":"IF(部員名簿!A45=\"\",\"\",YEAR(部員名簿!G45))","v":""},{"$f":"IF(部員名簿!A45=\"\",\"\",MONTH(部員名簿!G45))","v":""},{"$f":"IF(部員名簿!A45=\"\",\"\",DAY(部員名簿!G45))","v":""},{"$f":"IF(部員名簿!A45=\"\",\"\",学校番号*100+部員名簿!H45)","v":""},{"$f":"IF(部員名簿!A45=\"\",\"\",部員名簿!C45)","v":""},{"$f":"IF(部員名簿!A45=\"\",\"\",部員名簿!D45)","v":""},{"$f":"IF(部員名簿!A45=\"\",\"\",部員名簿!E45)","v":""},{"$f":"IF(部員名簿!A45=\"\",\"\",部員名簿!F45)","v":""},{"$f":"IF(部員名簿!A45=\"\",\"\",部員名簿!I45)","v":""},{"$f":"IF(部員名簿!A45=\"\",\"\",部員名簿!B45)","v":""}]
[{"$f":"IF(部員名簿!A46=\"\",\"\",YEAR(部員名簿!G46))","v":""},{"$f":"IF(部員名簿!A46=\"\",\"\",MONTH(部員名簿!G46))","v":""},{"$f":"IF(部員名簿!A46=\"\",\"\",DAY(部員名簿!G46))","v":""},{"$f":"IF(部員名簿!A46=\"\",\"\",学校番号*100+部員名簿!H46)","v":""},{"$f":"IF(部員名簿!A46=\"\",\"\",部員名簿!C46)","v":""},{"$f":"IF(部員名簿!A46=\"\",\"\",部員名簿!D46)","v":""},{"$f":"IF(部員名簿!A46=\"\",\"\",部員名簿!E46)","v":""},{"$f":"IF(部員名簿!A46=\"\",\"\",部員名簿!F46)","v":""},{"$f":"IF(部員名簿!A46=\"\",\"\",部員名簿!I46)","v":""},{"$f":"IF(部員名簿!A46=\"\",\"\",部員名簿!B46)","v":""}]
[{"$f":"IF(部員名簿!A47=\"\",\"\",YEAR(部員名簿!G47))","v":""},{"$f":"IF(部員名簿!A47=\"\",\"\",MONTH(部員名簿!G47))","v":""},{"$f":"IF(部員名簿!A47=\"\",\"\",DAY(部員名簿!G47))","v":""},{"$f":"IF(部員名簿!A47=\"\",\"\",学校番号*100+部員名簿!H47)","v":""},{"$f":"IF(部員名簿!A47=\"\",\"\",部員名簿!C47)","v":""},{"$f":"IF(部員名簿!A47=\"\",\"\",部員名簿!D47)","v":""},{"$f":"IF(部員名簿!A47=\"\",\"\",部員名簿!E47)","v":""},{"$f":"IF(部員名簿!A47=\"\",\"\",部員名簿!F47)","v":""},{"$f":"IF(部員名簿!A47=\"\",\"\",部員名簿!I47)","v":""},{"$f":"IF(部員名簿!A47=\"\",\"\",部員名簿!B47)","v":""}]
[{"$f":"IF(部員名簿!A48=\"\",\"\",YEAR(部員名簿!G48))","v":""},{"$f":"IF(部員名簿!A48=\"\",\"\",MONTH(部員名簿!G48))","v":""},{"$f":"IF(部員名簿!A48=\"\",\"\",DAY(部員名簿!G48))","v":""},{"$f":"IF(部員名簿!A48=\"\",\"\",学校番号*100+部員名簿!H48)","v":""},{"$f":"IF(部員名簿!A48=\"\",\"\",部員名簿!C48)","v":""},{"$f":"IF(部員名簿!A48=\"\",\"\",部員名簿!D48)","v":""},{"$f":"IF(部員名簿!A48=\"\",\"\",部員名簿!E48)","v":""},{"$f":"IF(部員名簿!A48=\"\",\"\",部員名簿!F48)","v":""},{"$f":"IF(部員名簿!A48=\"\",\"\",部員名簿!I48)","v":""},{"$f":"IF(部員名簿!A48=\"\",\"\",部員名簿!B48)","v":""}]
[{"$f":"IF(部員名簿!A49=\"\",\"\",YEAR(部員名簿!G49))","v":""},{"$f":"IF(部員名簿!A49=\"\",\"\",MONTH(部員名簿!G49))","v":""},{"$f":"IF(部員名簿!A49=\"\",\"\",DAY(部員名簿!G49))","v":""},{"$f":"IF(部員名簿!A49=\"\",\"\",学校番号*100+部員名簿!H49)","v":""},{"$f":"IF(部員名簿!A49=\"\",\"\",部員名簿!C49)","v":""},{"$f":"IF(部員名簿!A49=\"\",\"\",部員名簿!D49)","v":""},{"$f":"IF(部員名簿!A49=\"\",\"\",部員名簿!E49)","v":""},{"$f":"IF(部員名簿!A49=\"\",\"\",部員名簿!F49)","v":""},{"$f":"IF(部員名簿!A49=\"\",\"\",部員名簿!I49)","v":""},{"$f":"IF(部員名簿!A49=\"\",\"\",部員名簿!B49)","v":""}]
[{"$f":"IF(部員名簿!A50=\"\",\"\",YEAR(部員名簿!G50))","v":""},{"$f":"IF(部員名簿!A50=\"\",\"\",MONTH(部員名簿!G50))","v":""},{"$f":"IF(部員名簿!A50=\"\",\"\",DAY(部員名簿!G50))","v":""},{"$f":"IF(部員名簿!A50=\"\",\"\",学校番号*100+部員名簿!H50)","v":""},{"$f":"IF(部員名簿!A50=\"\",\"\",部員名簿!C50)","v":""},{"$f":"IF(部員名簿!A50=\"\",\"\",部員名簿!D50)","v":""},{"$f":"IF(部員名簿!A50=\"\",\"\",部員名簿!E50)","v":""},{"$f":"IF(部員名簿!A50=\"\",\"\",部員名簿!F50)","v":""},{"$f":"IF(部員名簿!A50=\"\",\"\",部員名簿!I50)","v":""},{"$f":"IF(部員名簿!A50=\"\",\"\",部員名簿!B50)","v":""}]
[{"$f":"IF(部員名簿!A51=\"\",\"\",YEAR(部員名簿!G51))","v":""},{"$f":"IF(部員名簿!A51=\"\",\"\",MONTH(部員名簿!G51))","v":""},{"$f":"IF(部員名簿!A51=\"\",\"\",DAY(部員名簿!G51))","v":""},{"$f":"IF(部員名簿!A51=\"\",\"\",学校番号*100+部員名簿!H51)","v":""},{"$f":"IF(部員名簿!A51=\"\",\"\",部員名簿!C51)","v":""},{"$f":"IF(部員名簿!A51=\"\",\"\",部員名簿!D51)","v":""},{"$f":"IF(部員名簿!A51=\"\",\"\",部員名簿!E51)","v":""},{"$f":"IF(部員名簿!A51=\"\",\"\",部員名簿!F51)","v":""},{"$f":"IF(部員名簿!A51=\"\",\"\",部員名簿!I51)","v":""},{"$f":"IF(部員名簿!A51=\"\",\"\",部員名簿!B51)","v":""}]
[{"$f":"IF(部員名簿!A52=\"\",\"\",YEAR(部員名簿!G52))","v":""},{"$f":"IF(部員名簿!A52=\"\",\"\",MONTH(部員名簿!G52))","v":""},{"$f":"IF(部員名簿!A52=\"\",\"\",DAY(部員名簿!G52))","v":""},{"$f":"IF(部員名簿!A52=\"\",\"\",学校番号*100+部員名簿!H52)","v":""},{"$f":"IF(部員名簿!A52=\"\",\"\",部員名簿!C52)","v":""},{"$f":"IF(部員名簿!A52=\"\",\"\",部員名簿!D52)","v":""},{"$f":"IF(部員名簿!A52=\"\",\"\",部員名簿!E52)","v":""},{"$f":"IF(部員名簿!A52=\"\",\"\",部員名簿!F52)","v":""},{"$f":"IF(部員名簿!A52=\"\",\"\",部員名簿!I52)","v":""},{"$f":"IF(部員名簿!A52=\"\",\"\",部員名簿!B52)","v":""}]
[{"$f":"IF(部員名簿!A53=\"\",\"\",YEAR(部員名簿!G53))","v":""},{"$f":"IF(部員名簿!A53=\"\",\"\",MONTH(部員名簿!G53))","v":""},{"$f":"IF(部員名簿!A53=\"\",\"\",DAY(部員名簿!G53))","v":""},{"$f":"IF(部員名簿!A53=\"\",\"\",学校番号*100+部員名簿!H53)","v":""},{"$f":"IF(部員名簿!A53=\"\",\"\",部員名簿!C53)","v":""},{"$f":"IF(部員名簿!A53=\"\",\"\",部員名簿!D53)","v":""},{"$f":"IF(部員名簿!A53=\"\",\"\",部員名簿!E53)","v":""},{"$f":"IF(部員名簿!A53=\"\",\"\",部員名簿!F53)","v":""},{"$f":"IF(部員名簿!A53=\"\",\"\",部員名簿!I53)","v":""},{"$f":"IF(部員名簿!A53=\"\",\"\",部員名簿!B53)","v":""}]
[{"$f":"IF(部員名簿!A54=\"\",\"\",YEAR(部員名簿!G54))","v":""},{"$f":"IF(部員名簿!A54=\"\",\"\",MONTH(部員名簿!G54))","v":""},{"$f":"IF(部員名簿!A54=\"\",\"\",DAY(部員名簿!G54))","v":""},{"$f":"IF(部員名簿!A54=\"\",\"\",学校番号*100+部員名簿!H54)","v":""},{"$f":"IF(部員名簿!A54=\"\",\"\",部員名簿!C54)","v":""},{"$f":"IF(部員名簿!A54=\"\",\"\",部員名簿!D54)","v":""},{"$f":"IF(部員名簿!A54=\"\",\"\",部員名簿!E54)","v":""},{"$f":"IF(部員名簿!A54=\"\",\"\",部員名簿!F54)","v":""},{"$f":"IF(部員名簿!A54=\"\",\"\",部員名簿!I54)","v":""},{"$f":"IF(部員名簿!A54=\"\",\"\",部員名簿!B54)","v":""}]
[{"$f":"IF(部員名簿!A55=\"\",\"\",YEAR(部員名簿!G55))","v":""},{"$f":"IF(部員名簿!A55=\"\",\"\",MONTH(部員名簿!G55))","v":""},{"$f":"IF(部員名簿!A55=\"\",\"\",DAY(部員名簿!G55))","v":""},{"$f":"IF(部員名簿!A55=\"\",\"\",学校番号*100+部員名簿!H55)","v":""},{"$f":"IF(部員名簿!A55=\"\",\"\",部員名簿!C55)","v":""},{"$f":"IF(部員名簿!A55=\"\",\"\",部員名簿!D55)","v":""},{"$f":"IF(部員名簿!A55=\"\",\"\",部員名簿!E55)","v":""},{"$f":"IF(部員名簿!A55=\"\",\"\",部員名簿!F55)","v":""},{"$f":"IF(部員名簿!A55=\"\",\"\",部員名簿!I55)","v":""},{"$f":"IF(部員名簿!A55=\"\",\"\",部員名簿!B55)","v":""}]
[{"$f":"IF(部員名簿!A56=\"\",\"\",YEAR(部員名簿!G56))","v":""},{"$f":"IF(部員名簿!A56=\"\",\"\",MONTH(部員名簿!G56))","v":""},{"$f":"IF(部員名簿!A56=\"\",\"\",DAY(部員名簿!G56))","v":""},{"$f":"IF(部員名簿!A56=\"\",\"\",学校番号*100+部員名簿!H56)","v":""},{"$f":"IF(部員名簿!A56=\"\",\"\",部員名簿!C56)","v":""},{"$f":"IF(部員名簿!A56=\"\",\"\",部員名簿!D56)","v":""},{"$f":"IF(部員名簿!A56=\"\",\"\",部員名簿!E56)","v":""},{"$f":"IF(部員名簿!A56=\"\",\"\",部員名簿!F56)","v":""},{"$f":"IF(部員名簿!A56=\"\",\"\",部員名簿!I56)","v":""},{"$f":"IF(部員名簿!A56=\"\",\"\",部員名簿!B56)","v":""}]
[{"$f":"IF(部員名簿!A57=\"\",\"\",YEAR(部員名簿!G57))","v":""},{"$f":"IF(部員名簿!A57=\"\",\"\",MONTH(部員名簿!G57))","v":""},{"$f":"IF(部員名簿!A57=\"\",\"\",DAY(部員名簿!G57))","v":""},{"$f":"IF(部員名簿!A57=\"\",\"\",学校番号*100+部員名簿!H57)","v":""},{"$f":"IF(部員名簿!A57=\"\",\"\",部員名簿!C57)","v":""},{"$f":"IF(部員名簿!A57=\"\",\"\",部員名簿!D57)","v":""},{"$f":"IF(部員名簿!A57=\"\",\"\",部員名簿!E57)","v":""},{"$f":"IF(部員名簿!A57=\"\",\"\",部員名簿!F57)","v":""},{"$f":"IF(部員名簿!A57=\"\",\"\",部員名簿!I57)","v":""},{"$f":"IF(部員名簿!A57=\"\",\"\",部員名簿!B57)","v":""}]
[{"$f":"IF(部員名簿!A58=\"\",\"\",YEAR(部員名簿!G58))","v":""},{"$f":"IF(部員名簿!A58=\"\",\"\",MONTH(部員名簿!G58))","v":""},{"$f":"IF(部員名簿!A58=\"\",\"\",DAY(部員名簿!G58))","v":""},{"$f":"IF(部員名簿!A58=\"\",\"\",学校番号*100+部員名簿!H58)","v":""},{"$f":"IF(部員名簿!A58=\"\",\"\",部員名簿!C58)","v":""},{"$f":"IF(部員名簿!A58=\"\",\"\",部員名簿!D58)","v":""},{"$f":"IF(部員名簿!A58=\"\",\"\",部員名簿!E58)","v":""},{"$f":"IF(部員名簿!A58=\"\",\"\",部員名簿!F58)","v":""},{"$f":"IF(部員名簿!A58=\"\",\"\",部員名簿!I58)","v":""},{"$f":"IF(部員名簿!A58=\"\",\"\",部員名簿!B58)","v":""}]
[{"$f":"IF(部員名簿!A59=\"\",\"\",YEAR(部員名簿!G59))","v":""},{"$f":"IF(部員名簿!A59=\"\",\"\",MONTH(部員名簿!G59))","v":""},{"$f":"IF(部員名簿!A59=\"\",\"\",DAY(部員名簿!G59))","v":""},{"$f":"IF(部員名簿!A59=\"\",\"\",学校番号*100+部員名簿!H59)","v":""},{"$f":"IF(部員名簿!A59=\"\",\"\",部員名簿!C59)","v":""},{"$f":"IF(部員名簿!A59=\"\",\"\",部員名簿!D59)","v":""},{"$f":"IF(部員名簿!A59=\"\",\"\",部員名簿!E59)","v":""},{"$f":"IF(部員名簿!A59=\"\",\"\",部員名簿!F59)","v":""},{"$f":"IF(部員名簿!A59=\"\",\"\",部員名簿!I59)","v":""},{"$f":"IF(部員名簿!A59=\"\",\"\",部員名簿!B59)","v":""}]
[{"$f":"IF(部員名簿!A60=\"\",\"\",YEAR(部員名簿!G60))","v":""},{"$f":"IF(部員名簿!A60=\"\",\"\",MONTH(部員名簿!G60))","v":""},{"$f":"IF(部員名簿!A60=\"\",\"\",DAY(部員名簿!G60))","v":""},{"$f":"IF(部員名簿!A60=\"\",\"\",学校番号*100+部員名簿!H60)","v":""},{"$f":"IF(部員名簿!A60=\"\",\"\",部員名簿!C60)","v":""},{"$f":"IF(部員名簿!A60=\"\",\"\",部員名簿!D60)","v":""},{"$f":"IF(部員名簿!A60=\"\",\"\",部員名簿!E60)","v":""},{"$f":"IF(部員名簿!A60=\"\",\"\",部員名簿!F60)","v":""},{"$f":"IF(部員名簿!A60=\"\",\"\",部員名簿!I60)","v":""},{"$f":"IF(部員名簿!A60=\"\",\"\",部員名簿!B60)","v":""}]
[{"$f":"IF(部員名簿!A61=\"\",\"\",YEAR(部員名簿!G61))","v":""},{"$f":"IF(部員名簿!A61=\"\",\"\",MONTH(部員名簿!G61))","v":""},{"$f":"IF(部員名簿!A61=\"\",\"\",DAY(部員名簿!G61))","v":""},{"$f":"IF(部員名簿!A61=\"\",\"\",学校番号*100+部員名簿!H61)","v":""},{"$f":"IF(部員名簿!A61=\"\",\"\",部員名簿!C61)","v":""},{"$f":"IF(部員名簿!A61=\"\",\"\",部員名簿!D61)","v":""},{"$f":"IF(部員名簿!A61=\"\",\"\",部員名簿!E61)","v":""},{"$f":"IF(部員名簿!A61=\"\",\"\",部員名簿!F61)","v":""},{"$f":"IF(部員名簿!A61=\"\",\"\",部員名簿!I61)","v":""},{"$f":"IF(部員名簿!A61=\"\",\"\",部員名簿!B61)","v":""}]
[{"$f":"IF(部員名簿!A62=\"\",\"\",YEAR(部員名簿!G62))","v":""},{"$f":"IF(部員名簿!A62=\"\",\"\",MONTH(部員名簿!G62))","v":""},{"$f":"IF(部員名簿!A62=\"\",\"\",DAY(部員名簿!G62))","v":""},{"$f":"IF(部員名簿!A62=\"\",\"\",学校番号*100+部員名簿!H62)","v":""},{"$f":"IF(部員名簿!A62=\"\",\"\",部員名簿!C62)","v":""},{"$f":"IF(部員名簿!A62=\"\",\"\",部員名簿!D62)","v":""},{"$f":"IF(部員名簿!A62=\"\",\"\",部員名簿!E62)","v":""},{"$f":"IF(部員名簿!A62=\"\",\"\",部員名簿!F62)","v":""},{"$f":"IF(部員名簿!A62=\"\",\"\",部員名簿!I62)","v":""},{"$f":"IF(部員名簿!A62=\"\",\"\",部員名簿!B62)","v":""}]
[{"$f":"IF(部員名簿!A63=\"\",\"\",YEAR(部員名簿!G63))","v":""},{"$f":"IF(部員名簿!A63=\"\",\"\",MONTH(部員名簿!G63))","v":""},{"$f":"IF(部員名簿!A63=\"\",\"\",DAY(部員名簿!G63))","v":""},{"$f":"IF(部員名簿!A63=\"\",\"\",学校番号*100+部員名簿!H63)","v":""},{"$f":"IF(部員名簿!A63=\"\",\"\",部員名簿!C63)","v":""},{"$f":"IF(部員名簿!A63=\"\",\"\",部員名簿!D63)","v":""},{"$f":"IF(部員名簿!A63=\"\",\"\",部員名簿!E63)","v":""},{"$f":"IF(部員名簿!A63=\"\",\"\",部員名簿!F63)","v":""},{"$f":"IF(部員名簿!A63=\"\",\"\",部員名簿!I63)","v":""},{"$f":"IF(部員名簿!A63=\"\",\"\",部員名簿!B63)","v":""}]
[{"$f":"IF(部員名簿!A64=\"\",\"\",YEAR(部員名簿!G64))","v":""},{"$f":"IF(部員名簿!A64=\"\",\"\",MONTH(部員名簿!G64))","v":""},{"$f":"IF(部員名簿!A64=\"\",\"\",DAY(部員名簿!G64))","v":""},{"$f":"IF(部員名簿!A64=\"\",\"\",学校番号*100+部員名簿!H64)","v":""},{"$f":"IF(部員名簿!A64=\"\",\"\",部員名簿!C64)","v":""},{"$f":"IF(部員名簿!A64=\"\",\"\",部員名簿!D64)","v":""},{"$f":"IF(部員名簿!A64=\"\",\"\",部員名簿!E64)","v":""},{"$f":"IF(部員名簿!A64=\"\",\"\",部員名簿!F64)","v":""},{"$f":"IF(部員名簿!A64=\"\",\"\",部員名簿!I64)","v":""},{"$f":"IF(部員名簿!A64=\"\",\"\",部員名簿!B64)","v":""}]
[{"$f":"IF(部員名簿!A65=\"\",\"\",YEAR(部員名簿!G65))","v":""},{"$f":"IF(部員名簿!A65=\"\",\"\",MONTH(部員名簿!G65))","v":""},{"$f":"IF(部員名簿!A65=\"\",\"\",DAY(部員名簿!G65))","v":""},{"$f":"IF(部員名簿!A65=\"\",\"\",学校番号*100+部員名簿!H65)","v":""},{"$f":"IF(部員名簿!A65=\"\",\"\",部員名簿!C65)","v":""},{"$f":"IF(部員名簿!A65=\"\",\"\",部員名簿!D65)","v":""},{"$f":"IF(部員名簿!A65=\"\",\"\",部員名簿!E65)","v":""},{"$f":"IF(部員名簿!A65=\"\",\"\",部員名簿!F65)","v":""},{"$f":"IF(部員名簿!A65=\"\",\"\",部員名簿!I65)","v":""},{"$f":"IF(部員名簿!A65=\"\",\"\",部員名簿!B65)","v":""}]
[{"$f":"IF(部員名簿!A66=\"\",\"\",YEAR(部員名簿!G66))","v":""},{"$f":"IF(部員名簿!A66=\"\",\"\",MONTH(部員名簿!G66))","v":""},{"$f":"IF(部員名簿!A66=\"\",\"\",DAY(部員名簿!G66))","v":""},{"$f":"IF(部員名簿!A66=\"\",\"\",学校番号*100+部員名簿!H66)","v":""},{"$f":"IF(部員名簿!A66=\"\",\"\",部員名簿!C66)","v":""},{"$f":"IF(部員名簿!A66=\"\",\"\",部員名簿!D66)","v":""},{"$f":"IF(部員名簿!A66=\"\",\"\",部員名簿!E66)","v":""},{"$f":"IF(部員名簿!A66=\"\",\"\",部員名簿!F66)","v":""},{"$f":"IF(部員名簿!A66=\"\",\"\",部員名簿!I66)","v":""},{"$f":"IF(部員名簿!A66=\"\",\"\",部員名簿!B66)","v":""}]
[{"$f":"IF(部員名簿!A67=\"\",\"\",YEAR(部員名簿!G67))","v":""},{"$f":"IF(部員名簿!A67=\"\",\"\",MONTH(部員名簿!G67))","v":""},{"$f":"IF(部員名簿!A67=\"\",\"\",DAY(部員名簿!G67))","v":""},{"$f":"IF(部員名簿!A67=\"\",\"\",学校番号*100+部員名簿!H67)","v":""},{"$f":"IF(部員名簿!A67=\"\",\"\",部員名簿!C67)","v":""},{"$f":"IF(部員名簿!A67=\"\",\"\",部員名簿!D67)","v":""},{"$f":"IF(部員名簿!A67=\"\",\"\",部員名簿!E67)","v":""},{"$f":"IF(部員名簿!A67=\"\",\"\",部員名簿!F67)","v":""},{"$f":"IF(部員名簿!A67=\"\",\"\",部員名簿!I67)","v":""},{"$f":"IF(部員名簿!A67=\"\",\"\",部員名簿!B67)","v":""}]
[{"$f":"IF(部員名簿!A68=\"\",\"\",YEAR(部員名簿!G68))","v":""},{"$f":"IF(部員名簿!A68=\"\",\"\",MONTH(部員名簿!G68))","v":""},{"$f":"IF(部員名簿!A68=\"\",\"\",DAY(部員名簿!G68))","v":""},{"$f":"IF(部員名簿!A68=\"\",\"\",学校番号*100+部員名簿!H68)","v":""},{"$f":"IF(部員名簿!A68=\"\",\"\",部員名簿!C68)","v":""},{"$f":"IF(部員名簿!A68=\"\",\"\",部員名簿!D68)","v":""},{"$f":"IF(部員名簿!A68=\"\",\"\",部員名簿!E68)","v":""},{"$f":"IF(部員名簿!A68=\"\",\"\",部員名簿!F68)","v":""},{"$f":"IF(部員名簿!A68=\"\",\"\",部員名簿!I68)","v":""},{"$f":"IF(部員名簿!A68=\"\",\"\",部員名簿!B68)","v":""}]
[{"$f":"IF(部員名簿!A69=\"\",\"\",YEAR(部員名簿!G69))","v":""},{"$f":"IF(部員名簿!A69=\"\",\"\",MONTH(部員名簿!G69))","v":""},{"$f":"IF(部員名簿!A69=\"\",\"\",DAY(部員名簿!G69))","v":""},{"$f":"IF(部員名簿!A69=\"\",\"\",学校番号*100+部員名簿!H69)","v":""},{"$f":"IF(部員名簿!A69=\"\",\"\",部員名簿!C69)","v":""},{"$f":"IF(部員名簿!A69=\"\",\"\",部員名簿!D69)","v":""},{"$f":"IF(部員名簿!A69=\"\",\"\",部員名簿!E69)","v":""},{"$f":"IF(部員名簿!A69=\"\",\"\",部員名簿!F69)","v":""},{"$f":"IF(部員名簿!A69=\"\",\"\",部員名簿!I69)","v":""},{"$f":"IF(部員名簿!A69=\"\",\"\",部員名簿!B69)","v":""}]
[{"$f":"IF(部員名簿!A70=\"\",\"\",YEAR(部員名簿!G70))","v":""},{"$f":"IF(部員名簿!A70=\"\",\"\",MONTH(部員名簿!G70))","v":""},{"$f":"IF(部員名簿!A70=\"\",\"\",DAY(部員名簿!G70))","v":""},{"$f":"IF(部員名簿!A70=\"\",\"\",学校番号*100+部員名簿!H70)","v":""},{"$f":"IF(部員名簿!A70=\"\",\"\",部員名簿!C70)","v":""},{"$f":"IF(部員名簿!A70=\"\",\"\",部員名簿!D70)","v":""},{"$f":"IF(部員名簿!A70=\"\",\"\",部員名簿!E70)","v":""},{"$f":"IF(部員名簿!A70=\"\",\"\",部員名簿!F70)","v":""},{"$f":"IF(部員名簿!A70=\"\",\"\",部員名簿!I70)","v":""},{"$f":"IF(部員名簿!A70=\"\",\"\",部員名簿!B70)","v":""}]
[{"$f":"IF(部員名簿!A71=\"\",\"\",YEAR(部員名簿!G71))","v":""},{"$f":"IF(部員名簿!A71=\"\",\"\",MONTH(部員名簿!G71))","v":""},{"$f":"IF(部員名簿!A71=\"\",\"\",DAY(部員名簿!G71))","v":""},{"$f":"IF(部員名簿!A71=\"\",\"\",学校番号*100+部員名簿!H71)","v":""},{"$f":"IF(部員名簿!A71=\"\",\"\",部員名簿!C71)","v":""},{"$f":"IF(部員名簿!A71=\"\",\"\",部員名簿!D71)","v":""},{"$f":"IF(部員名簿!A71=\"\",\"\",部員名簿!E71)","v":""},{"$f":"IF(部員名簿!A71=\"\",\"\",部員名簿!F71)","v":""},{"$f":"IF(部員名簿!A71=\"\",\"\",部員名簿!I71)","v":""},{"$f":"IF(部員名簿!A71=\"\",\"\",部員名簿!B71)","v":""}]
[{"$f":"IF(部員名簿!A72=\"\",\"\",YEAR(部員名簿!G72))","v":""},{"$f":"IF(部員名簿!A72=\"\",\"\",MONTH(部員名簿!G72))","v":""},{"$f":"IF(部員名簿!A72=\"\",\"\",DAY(部員名簿!G72))","v":""},{"$f":"IF(部員名簿!A72=\"\",\"\",学校番号*100+部員名簿!H72)","v":""},{"$f":"IF(部員名簿!A72=\"\",\"\",部員名簿!C72)","v":""},{"$f":"IF(部員名簿!A72=\"\",\"\",部員名簿!D72)","v":""},{"$f":"IF(部員名簿!A72=\"\",\"\",部員名簿!E72)","v":""},{"$f":"IF(部員名簿!A72=\"\",\"\",部員名簿!F72)","v":""},{"$f":"IF(部員名簿!A72=\"\",\"\",部員名簿!I72)","v":""},{"$f":"IF(部員名簿!A72=\"\",\"\",部員名簿!B72)","v":""}]
[{"$f":"IF(部員名簿!A73=\"\",\"\",YEAR(部員名簿!G73))","v":""},{"$f":"IF(部員名簿!A73=\"\",\"\",MONTH(部員名簿!G73))","v":""},{"$f":"IF(部員名簿!A73=\"\",\"\",DAY(部員名簿!G73))","v":""},{"$f":"IF(部員名簿!A73=\"\",\"\",学校番号*100+部員名簿!H73)","v":""},{"$f":"IF(部員名簿!A73=\"\",\"\",部員名簿!C73)","v":""},{"$f":"IF(部員名簿!A73=\"\",\"\",部員名簿!D73)","v":""},{"$f":"IF(部員名簿!A73=\"\",\"\",部員名簿!E73)","v":""},{"$f":"IF(部員名簿!A73=\"\",\"\",部員名簿!F73)","v":""},{"$f":"IF(部員名簿!A73=\"\",\"\",部員名簿!I73)","v":""},{"$f":"IF(部員名簿!A73=\"\",\"\",部員名簿!B73)","v":""}]
[{"$f":"IF(部員名簿!A74=\"\",\"\",YEAR(部員名簿!G74))","v":""},{"$f":"IF(部員名簿!A74=\"\",\"\",MONTH(部員名簿!G74))","v":""},{"$f":"IF(部員名簿!A74=\"\",\"\",DAY(部員名簿!G74))","v":""},{"$f":"IF(部員名簿!A74=\"\",\"\",学校番号*100+部員名簿!H74)","v":""},{"$f":"IF(部員名簿!A74=\"\",\"\",部員名簿!C74)","v":""},{"$f":"IF(部員名簿!A74=\"\",\"\",部員名簿!D74)","v":""},{"$f":"IF(部員名簿!A74=\"\",\"\",部員名簿!E74)","v":""},{"$f":"IF(部員名簿!A74=\"\",\"\",部員名簿!F74)","v":""},{"$f":"IF(部員名簿!A74=\"\",\"\",部員名簿!I74)","v":""},{"$f":"IF(部員名簿!A74=\"\",\"\",部員名簿!B74)","v":""}]
[{"$f":"IF(部員名簿!A75=\"\",\"\",YEAR(部員名簿!G75))","v":""},{"$f":"IF(部員名簿!A75=\"\",\"\",MONTH(部員名簿!G75))","v":""},{"$f":"IF(部員名簿!A75=\"\",\"\",DAY(部員名簿!G75))","v":""},{"$f":"IF(部員名簿!A75=\"\",\"\",学校番号*100+部員名簿!H75)","v":""},{"$f":"IF(部員名簿!A75=\"\",\"\",部員名簿!C75)","v":""},{"$f":"IF(部員名簿!A75=\"\",\"\",部員名簿!D75)","v":""},{"$f":"IF(部員名簿!A75=\"\",\"\",部員名簿!E75)","v":""},{"$f":"IF(部員名簿!A75=\"\",\"\",部員名簿!F75)","v":""},{"$f":"IF(部員名簿!A75=\"\",\"\",部員名簿!I75)","v":""},{"$f":"IF(部員名簿!A75=\"\",\"\",部員名簿!B75)","v":""}]
[{"$f":"IF(部員名簿!A76=\"\",\"\",YEAR(部員名簿!G76))","v":""},{"$f":"IF(部員名簿!A76=\"\",\"\",MONTH(部員名簿!G76))","v":""},{"$f":"IF(部員名簿!A76=\"\",\"\",DAY(部員名簿!G76))","v":""},{"$f":"IF(部員名簿!A76=\"\",\"\",学校番号*100+部員名簿!H76)","v":""},{"$f":"IF(部員名簿!A76=\"\",\"\",部員名簿!C76)","v":""},{"$f":"IF(部員名簿!A76=\"\",\"\",部員名簿!D76)","v":""},{"$f":"IF(部員名簿!A76=\"\",\"\",部員名簿!E76)","v":""},{"$f":"IF(部員名簿!A76=\"\",\"\",部員名簿!F76)","v":""},{"$f":"IF(部員名簿!A76=\"\",\"\",部員名簿!I76)","v":""},{"$f":"IF(部員名簿!A76=\"\",\"\",部員名簿!B76)","v":""}]
[{"$f":"IF(部員名簿!A77=\"\",\"\",YEAR(部員名簿!G77))","v":""},{"$f":"IF(部員名簿!A77=\"\",\"\",MONTH(部員名簿!G77))","v":""},{"$f":"IF(部員名簿!A77=\"\",\"\",DAY(部員名簿!G77))","v":""},{"$f":"IF(部員名簿!A77=\"\",\"\",学校番号*100+部員名簿!H77)","v":""},{"$f":"IF(部員名簿!A77=\"\",\"\",部員名簿!C77)","v":""},{"$f":"IF(部員名簿!A77=\"\",\"\",部員名簿!D77)","v":""},{"$f":"IF(部員名簿!A77=\"\",\"\",部員名簿!E77)","v":""},{"$f":"IF(部員名簿!A77=\"\",\"\",部員名簿!F77)","v":""},{"$f":"IF(部員名簿!A77=\"\",\"\",部員名簿!I77)","v":""},{"$f":"IF(部員名簿!A77=\"\",\"\",部員名簿!B77)","v":""}]
[{"$f":"IF(部員名簿!A78=\"\",\"\",YEAR(部員名簿!G78))","v":""},{"$f":"IF(部員名簿!A78=\"\",\"\",MONTH(部員名簿!G78))","v":""},{"$f":"IF(部員名簿!A78=\"\",\"\",DAY(部員名簿!G78))","v":""},{"$f":"IF(部員名簿!A78=\"\",\"\",学校番号*100+部員名簿!H78)","v":""},{"$f":"IF(部員名簿!A78=\"\",\"\",部員名簿!C78)","v":""},{"$f":"IF(部員名簿!A78=\"\",\"\",部員名簿!D78)","v":""},{"$f":"IF(部員名簿!A78=\"\",\"\",部員名簿!E78)","v":""},{"$f":"IF(部員名簿!A78=\"\",\"\",部員名簿!F78)","v":""},{"$f":"IF(部員名簿!A78=\"\",\"\",部員名簿!I78)","v":""},{"$f":"IF(部員名簿!A78=\"\",\"\",部員名簿!B78)","v":""}]
[{"$f":"IF(部員名簿!A79=\"\",\"\",YEAR(部員名簿!G79))","v":""},{"$f":"IF(部員名簿!A79=\"\",\"\",MONTH(部員名簿!G79))","v":""},{"$f":"IF(部員名簿!A79=\"\",\"\",DAY(部員名簿!G79))","v":""},{"$f":"IF(部員名簿!A79=\"\",\"\",学校番号*100+部員名簿!H79)","v":""},{"$f":"IF(部員名簿!A79=\"\",\"\",部員名簿!C79)","v":""},{"$f":"IF(部員名簿!A79=\"\",\"\",部員名簿!D79)","v":""},{"$f":"IF(部員名簿!A79=\"\",\"\",部員名簿!E79)","v":""},{"$f":"IF(部員名簿!A79=\"\",\"\",部員名簿!F79)","v":""},{"$f":"IF(部員名簿!A79=\"\",\"\",部員名簿!I79)","v":""},{"$f":"IF(部員名簿!A79=\"\",\"\",部員名簿!B79)","v":""}]
[{"$f":"IF(部員名簿!A80=\"\",\"\",YEAR(部員名簿!G80))","v":""},{"$f":"IF(部員名簿!A80=\"\",\"\",MONTH(部員名簿!G80))","v":""},{"$f":"IF(部員名簿!A80=\"\",\"\",DAY(部員名簿!G80))","v":""},{"$f":"IF(部員名簿!A80=\"\",\"\",学校番号*100+部員名簿!H80)","v":""},{"$f":"IF(部員名簿!A80=\"\",\"\",部員名簿!C80)","v":""},{"$f":"IF(部員名簿!A80=\"\",\"\",部員名簿!D80)","v":""},{"$f":"IF(部員名簿!A80=\"\",\"\",部員名簿!E80)","v":""},{"$f":"IF(部員名簿!A80=\"\",\"\",部員名簿!F80)","v":""},{"$f":"IF(部員名簿!A80=\"\",\"\",部員名簿!I80)","v":""},{"$f":"IF(部員名簿!A80=\"\",\"\",部員名簿!B80)","v":""}]
[{"$f":"IF(部員名簿!A81=\"\",\"\",YEAR(部員名簿!G81))","v":""},{"$f":"IF(部員名簿!A81=\"\",\"\",MONTH(部員名簿!G81))","v":""},{"$f":"IF(部員名簿!A81=\"\",\"\",DAY(部員名簿!G81))","v":""},{"$f":"IF(部員名簿!A81=\"\",\"\",学校番号*100+部員名簿!H81)","v":""},{"$f":"IF(部員名簿!A81=\"\",\"\",部員名簿!C81)","v":""},{"$f":"IF(部員名簿!A81=\"\",\"\",部員名簿!D81)","v":""},{"$f":"IF(部員名簿!A81=\"\",\"\",部員名簿!E81)","v":""},{"$f":"IF(部員名簿!A81=\"\",\"\",部員名簿!F81)","v":""},{"$f":"IF(部員名簿!A81=\"\",\"\",部員名簿!I81)","v":""},{"$f":"IF(部員名簿!A81=\"\",\"\",部員名簿!B81)","v":""}]
[{"$f":"IF(部員名簿!A82=\"\",\"\",YEAR(部員名簿!G82))","v":""},{"$f":"IF(部員名簿!A82=\"\",\"\",MONTH(部員名簿!G82))","v":""},{"$f":"IF(部員名簿!A82=\"\",\"\",DAY(部員名簿!G82))","v":""},{"$f":"IF(部員名簿!A82=\"\",\"\",学校番号*100+部員名簿!H82)","v":""},{"$f":"IF(部員名簿!A82=\"\",\"\",部員名簿!C82)","v":""},{"$f":"IF(部員名簿!A82=\"\",\"\",部員名簿!D82)","v":""},{"$f":"IF(部員名簿!A82=\"\",\"\",部員名簿!E82)","v":""},{"$f":"IF(部員名簿!A82=\"\",\"\",部員名簿!F82)","v":""},{"$f":"IF(部員名簿!A82=\"\",\"\",部員名簿!I82)","v":""},{"$f":"IF(部員名簿!A82=\"\",\"\",部員名簿!B82)","v":""}]
[{"$f":"IF(部員名簿!A83=\"\",\"\",YEAR(部員名簿!G83))","v":""},{"$f":"IF(部員名簿!A83=\"\",\"\",MONTH(部員名簿!G83))","v":""},{"$f":"IF(部員名簿!A83=\"\",\"\",DAY(部員名簿!G83))","v":""},{"$f":"IF(部員名簿!A83=\"\",\"\",学校番号*100+部員名簿!H83)","v":""},{"$f":"IF(部員名簿!A83=\"\",\"\",部員名簿!C83)","v":""},{"$f":"IF(部員名簿!A83=\"\",\"\",部員名簿!D83)","v":""},{"$f":"IF(部員名簿!A83=\"\",\"\",部員名簿!E83)","v":""},{"$f":"IF(部員名簿!A83=\"\",\"\",部員名簿!F83)","v":""},{"$f":"IF(部員名簿!A83=\"\",\"\",部員名簿!I83)","v":""},{"$f":"IF(部員名簿!A83=\"\",\"\",部員名簿!B83)","v":""}]
[{"$f":"IF(部員名簿!A84=\"\",\"\",YEAR(部員名簿!G84))","v":""},{"$f":"IF(部員名簿!A84=\"\",\"\",MONTH(部員名簿!G84))","v":""},{"$f":"IF(部員名簿!A84=\"\",\"\",DAY(部員名簿!G84))","v":""},{"$f":"IF(部員名簿!A84=\"\",\"\",学校番号*100+部員名簿!H84)","v":""},{"$f":"IF(部員名簿!A84=\"\",\"\",部員名簿!C84)","v":""},{"$f":"IF(部員名簿!A84=\"\",\"\",部員名簿!D84)","v":""},{"$f":"IF(部員名簿!A84=\"\",\"\",部員名簿!E84)","v":""},{"$f":"IF(部員名簿!A84=\"\",\"\",部員名簿!F84)","v":""},{"$f":"IF(部員名簿!A84=\"\",\"\",部員名簿!I84)","v":""},{"$f":"IF(部員名簿!A84=\"\",\"\",部員名簿!B84)","v":""}]
[{"$f":"IF(部員名簿!A85=\"\",\"\",YEAR(部員名簿!G85))","v":""},{"$f":"IF(部員名簿!A85=\"\",\"\",MONTH(部員名簿!G85))","v":""},{"$f":"IF(部員名簿!A85=\"\",\"\",DAY(部員名簿!G85))","v":""},{"$f":"IF(部員名簿!A85=\"\",\"\",学校番号*100+部員名簿!H85)","v":""},{"$f":"IF(部員名簿!A85=\"\",\"\",部員名簿!C85)","v":""},{"$f":"IF(部員名簿!A85=\"\",\"\",部員名簿!D85)","v":""},{"$f":"IF(部員名簿!A85=\"\",\"\",部員名簿!E85)","v":""},{"$f":"IF(部員名簿!A85=\"\",\"\",部員名簿!F85)","v":""},{"$f":"IF(部員名簿!A85=\"\",\"\",部員名簿!I85)","v":""},{"$f":"IF(部員名簿!A85=\"\",\"\",部員名簿!B85)","v":""}]
[{"$f":"IF(部員名簿!A86=\"\",\"\",YEAR(部員名簿!G86))","v":""},{"$f":"IF(部員名簿!A86=\"\",\"\",MONTH(部員名簿!G86))","v":""},{"$f":"IF(部員名簿!A86=\"\",\"\",DAY(部員名簿!G86))","v":""},{"$f":"IF(部員名簿!A86=\"\",\"\",学校番号*100+部員名簿!H86)","v":""},{"$f":"IF(部員名簿!A86=\"\",\"\",部員名簿!C86)","v":""},{"$f":"IF(部員名簿!A86=\"\",\"\",部員名簿!D86)","v":""},{"$f":"IF(部員名簿!A86=\"\",\"\",部員名簿!E86)","v":""},{"$f":"IF(部員名簿!A86=\"\",\"\",部員名簿!F86)","v":""},{"$f":"IF(部員名簿!A86=\"\",\"\",部員名簿!I86)","v":""},{"$f":"IF(部員名簿!A86=\"\",\"\",部員名簿!B86)","v":""}]
[{"$f":"IF(部員名簿!A87=\"\",\"\",YEAR(部員名簿!G87))","v":""},{"$f":"IF(部員名簿!A87=\"\",\"\",MONTH(部員名簿!G87))","v":""},{"$f":"IF(部員名簿!A87=\"\",\"\",DAY(部員名簿!G87))","v":""},{"$f":"IF(部員名簿!A87=\"\",\"\",学校番号*100+部員名簿!H87)","v":""},{"$f":"IF(部員名簿!A87=\"\",\"\",部員名簿!C87)","v":""},{"$f":"IF(部員名簿!A87=\"\",\"\",部員名簿!D87)","v":""},{"$f":"IF(部員名簿!A87=\"\",\"\",部員名簿!E87)","v":""},{"$f":"IF(部員名簿!A87=\"\",\"\",部員名簿!F87)","v":""},{"$f":"IF(部員名簿!A87=\"\",\"\",部員名簿!I87)","v":""},{"$f":"IF(部員名簿!A87=\"\",\"\",部員名簿!B87)","v":""}]
[{"$f":"IF(部員名簿!A88=\"\",\"\",YEAR(部員名簿!G88))","v":""},{"$f":"IF(部員名簿!A88=\"\",\"\",MONTH(部員名簿!G88))","v":""},{"$f":"IF(部員名簿!A88=\"\",\"\",DAY(部員名簿!G88))","v":""},{"$f":"IF(部員名簿!A88=\"\",\"\",学校番号*100+部員名簿!H88)","v":""},{"$f":"IF(部員名簿!A88=\"\",\"\",部員名簿!C88)","v":""},{"$f":"IF(部員名簿!A88=\"\",\"\",部員名簿!D88)","v":""},{"$f":"IF(部員名簿!A88=\"\",\"\",部員名簿!E88)","v":""},{"$f":"IF(部員名簿!A88=\"\",\"\",部員名簿!F88)","v":""},{"$f":"IF(部員名簿!A88=\"\",\"\",部員名簿!I88)","v":""},{"$f":"IF(部員名簿!A88=\"\",\"\",部員名簿!B88)","v":""}]
[{"$f":"IF(部員名簿!A89=\"\",\"\",YEAR(部員名簿!G89))","v":""},{"$f":"IF(部員名簿!A89=\"\",\"\",MONTH(部員名簿!G89))","v":""},{"$f":"IF(部員名簿!A89=\"\",\"\",DAY(部員名簿!G89))","v":""},{"$f":"IF(部員名簿!A89=\"\",\"\",学校番号*100+部員名簿!H89)","v":""},{"$f":"IF(部員名簿!A89=\"\",\"\",部員名簿!C89)","v":""},{"$f":"IF(部員名簿!A89=\"\",\"\",部員名簿!D89)","v":""},{"$f":"IF(部員名簿!A89=\"\",\"\",部員名簿!E89)","v":""},{"$f":"IF(部員名簿!A89=\"\",\"\",部員名簿!F89)","v":""},{"$f":"IF(部員名簿!A89=\"\",\"\",部員名簿!I89)","v":""},{"$f":"IF(部員名簿!A89=\"\",\"\",部員名簿!B89)","v":""}]
[{"$f":"IF(部員名簿!A90=\"\",\"\",YEAR(部員名簿!G90))","v":""},{"$f":"IF(部員名簿!A90=\"\",\"\",MONTH(部員名簿!G90))","v":""},{"$f":"IF(部員名簿!A90=\"\",\"\",DAY(部員名簿!G90))","v":""},{"$f":"IF(部員名簿!A90=\"\",\"\",学校番号*100+部員名簿!H90)","v":""},{"$f":"IF(部員名簿!A90=\"\",\"\",部員名簿!C90)","v":""},{"$f":"IF(部員名簿!A90=\"\",\"\",部員名簿!D90)","v":""},{"$f":"IF(部員名簿!A90=\"\",\"\",部員名簿!E90)","v":""},{"$f":"IF(部員名簿!A90=\"\",\"\",部員名簿!F90)","v":""},{"$f":"IF(部員名簿!A90=\"\",\"\",部員名簿!I90)","v":""},{"$f":"IF(部員名簿!A90=\"\",\"\",部員名簿!B90)","v":""}]
[{"$f":"IF(部員名簿!A91=\"\",\"\",YEAR(部員名簿!G91))","v":""},{"$f":"IF(部員名簿!A91=\"\",\"\",MONTH(部員名簿!G91))","v":""},{"$f":"IF(部員名簿!A91=\"\",\"\",DAY(部員名簿!G91))","v":""},{"$f":"IF(部員名簿!A91=\"\",\"\",学校番号*100+部員名簿!H91)","v":""},{"$f":"IF(部員名簿!A91=\"\",\"\",部員名簿!C91)","v":""},{"$f":"IF(部員名簿!A91=\"\",\"\",部員名簿!D91)","v":""},{"$f":"IF(部員名簿!A91=\"\",\"\",部員名簿!E91)","v":""},{"$f":"IF(部員名簿!A91=\"\",\"\",部員名簿!F91)","v":""},{"$f":"IF(部員名簿!A91=\"\",\"\",部員名簿!I91)","v":""},{"$f":"IF(部員名簿!A91=\"\",\"\",部員名簿!B91)","v":""}]
[{"$f":"IF(部員名簿!A92=\"\",\"\",YEAR(部員名簿!G92))","v":""},{"$f":"IF(部員名簿!A92=\"\",\"\",MONTH(部員名簿!G92))","v":""},{"$f":"IF(部員名簿!A92=\"\",\"\",DAY(部員名簿!G92))","v":""},{"$f":"IF(部員名簿!A92=\"\",\"\",学校番号*100+部員名簿!H92)","v":""},{"$f":"IF(部員名簿!A92=\"\",\"\",部員名簿!C92)","v":""},{"$f":"IF(部員名簿!A92=\"\",\"\",部員名簿!D92)","v":""},{"$f":"IF(部員名簿!A92=\"\",\"\",部員名簿!E92)","v":""},{"$f":"IF(部員名簿!A92=\"\",\"\",部員名簿!F92)","v":""},{"$f":"IF(部員名簿!A92=\"\",\"\",部員名簿!I92)","v":""},{"$f":"IF(部員名簿!A92=\"\",\"\",部員名簿!B92)","v":""}]
[{"$f":"IF(部員名簿!A93=\"\",\"\",YEAR(部員名簿!G93))","v":""},{"$f":"IF(部員名簿!A93=\"\",\"\",MONTH(部員名簿!G93))","v":""},{"$f":"IF(部員名簿!A93=\"\",\"\",DAY(部員名簿!G93))","v":""},{"$f":"IF(部員名簿!A93=\"\",\"\",学校番号*100+部員名簿!H93)","v":""},{"$f":"IF(部員名簿!A93=\"\",\"\",部員名簿!C93)","v":""},{"$f":"IF(部員名簿!A93=\"\",\"\",部員名簿!D93)","v":""},{"$f":"IF(部員名簿!A93=\"\",\"\",部員名簿!E93)","v":""},{"$f":"IF(部員名簿!A93=\"\",\"\",部員名簿!F93)","v":""},{"$f":"IF(部員名簿!A93=\"\",\"\",部員名簿!I93)","v":""},{"$f":"IF(部員名簿!A93=\"\",\"\",部員名簿!B93)","v":""}]
[{"$f":"IF(部員名簿!A94=\"\",\"\",YEAR(部員名簿!G94))","v":""},{"$f":"IF(部員名簿!A94=\"\",\"\",MONTH(部員名簿!G94))","v":""},{"$f":"IF(部員名簿!A94=\"\",\"\",DAY(部員名簿!G94))","v":""},{"$f":"IF(部員名簿!A94=\"\",\"\",学校番号*100+部員名簿!H94)","v":""},{"$f":"IF(部員名簿!A94=\"\",\"\",部員名簿!C94)","v":""},{"$f":"IF(部員名簿!A94=\"\",\"\",部員名簿!D94)","v":""},{"$f":"IF(部員名簿!A94=\"\",\"\",部員名簿!E94)","v":""},{"$f":"IF(部員名簿!A94=\"\",\"\",部員名簿!F94)","v":""},{"$f":"IF(部員名簿!A94=\"\",\"\",部員名簿!I94)","v":""},{"$f":"IF(部員名簿!A94=\"\",\"\",部員名簿!B94)","v":""}]
[{"$f":"IF(部員名簿!A95=\"\",\"\",YEAR(部員名簿!G95))","v":""},{"$f":"IF(部員名簿!A95=\"\",\"\",MONTH(部員名簿!G95))","v":""},{"$f":"IF(部員名簿!A95=\"\",\"\",DAY(部員名簿!G95))","v":""},{"$f":"IF(部員名簿!A95=\"\",\"\",学校番号*100+部員名簿!H95)","v":""},{"$f":"IF(部員名簿!A95=\"\",\"\",部員名簿!C95)","v":""},{"$f":"IF(部員名簿!A95=\"\",\"\",部員名簿!D95)","v":""},{"$f":"IF(部員名簿!A95=\"\",\"\",部員名簿!E95)","v":""},{"$f":"IF(部員名簿!A95=\"\",\"\",部員名簿!F95)","v":""},{"$f":"IF(部員名簿!A95=\"\",\"\",部員名簿!I95)","v":""},{"$f":"IF(部員名簿!A95=\"\",\"\",部員名簿!B95)","v":""}]
[{"$f":"IF(部員名簿!A96=\"\",\"\",YEAR(部員名簿!G96))","v":""},{"$f":"IF(部員名簿!A96=\"\",\"\",MONTH(部員名簿!G96))","v":""},{"$f":"IF(部員名簿!A96=\"\",\"\",DAY(部員名簿!G96))","v":""},{"$f":"IF(部員名簿!A96=\"\",\"\",学校番号*100+部員名簿!H96)","v":""},{"$f":"IF(部員名簿!A96=\"\",\"\",部員名簿!C96)","v":""},{"$f":"IF(部員名簿!A96=\"\",\"\",部員名簿!D96)","v":""},{"$f":"IF(部員名簿!A96=\"\",\"\",部員名簿!E96)","v":""},{"$f":"IF(部員名簿!A96=\"\",\"\",部員名簿!F96)","v":""},{"$f":"IF(部員名簿!A96=\"\",\"\",部員名簿!I96)","v":""},{"$f":"IF(部員名簿!A96=\"\",\"\",部員名簿!B96)","v":""}]
[{"$f":"IF(部員名簿!A97=\"\",\"\",YEAR(部員名簿!G97))","v":""},{"$f":"IF(部員名簿!A97=\"\",\"\",MONTH(部員名簿!G97))","v":""},{"$f":"IF(部員名簿!A97=\"\",\"\",DAY(部員名簿!G97))","v":""},{"$f":"IF(部員名簿!A97=\"\",\"\",学校番号*100+部員名簿!H97)","v":""},{"$f":"IF(部員名簿!A97=\"\",\"\",部員名簿!C97)","v":""},{"$f":"IF(部員名簿!A97=\"\",\"\",部員名簿!D97)","v":""},{"$f":"IF(部員名簿!A97=\"\",\"\",部員名簿!E97)","v":""},{"$f":"IF(部員名簿!A97=\"\",\"\",部員名簿!F97)","v":""},{"$f":"IF(部員名簿!A97=\"\",\"\",部員名簿!I97)","v":""},{"$f":"IF(部員名簿!A97=\"\",\"\",部員名簿!B97)","v":""}]
[{"$f":"IF(部員名簿!A98=\"\",\"\",YEAR(部員名簿!G98))","v":""},{"$f":"IF(部員名簿!A98=\"\",\"\",MONTH(部員名簿!G98))","v":""},{"$f":"IF(部員名簿!A98=\"\",\"\",DAY(部員名簿!G98))","v":""},{"$f":"IF(部員名簿!A98=\"\",\"\",学校番号*100+部員名簿!H98)","v":""},{"$f":"IF(部員名簿!A98=\"\",\"\",部員名簿!C98)","v":""},{"$f":"IF(部員名簿!A98=\"\",\"\",部員名簿!D98)","v":""},{"$f":"IF(部員名簿!A98=\"\",\"\",部員名簿!E98)","v":""},{"$f":"IF(部員名簿!A98=\"\",\"\",部員名簿!F98)","v":""},{"$f":"IF(部員名簿!A98=\"\",\"\",部員名簿!I98)","v":""},{"$f":"IF(部員名簿!A98=\"\",\"\",部員名簿!B98)","v":""}]
[{"$f":"IF(部員名簿!A99=\"\",\"\",YEAR(部員名簿!G99))","v":""},{"$f":"IF(部員名簿!A99=\"\",\"\",MONTH(部員名簿!G99))","v":""},{"$f":"IF(部員名簿!A99=\"\",\"\",DAY(部員名簿!G99))","v":""},{"$f":"IF(部員名簿!A99=\"\",\"\",学校番号*100+部員名簿!H99)","v":""},{"$f":"IF(部員名簿!A99=\"\",\"\",部員名簿!C99)","v":""},{"$f":"IF(部員名簿!A99=\"\",\"\",部員名簿!D99)","v":""},{"$f":"IF(部員名簿!A99=\"\",\"\",部員名簿!E99)","v":""},{"$f":"IF(部員名簿!A99=\"\",\"\",部員名簿!F99)","v":""},{"$f":"IF(部員名簿!A99=\"\",\"\",部員名簿!I99)","v":""},{"$f":"IF(部員名簿!A99=\"\",\"\",部員名簿!B99)","v":""}]
[{"$f":"IF(部員名簿!A100=\"\",\"\",YEAR(部員名簿!G100))","v":""},{"$f":"IF(部員名簿!A100=\"\",\"\",MONTH(部員名簿!G100))","v":""},{"$f":"IF(部員名簿!A100=\"\",\"\",DAY(部員名簿!G100))","v":""},{"$f":"IF(部員名簿!A100=\"\",\"\",学校番号*100+部員名簿!H100)","v":""},{"$f":"IF(部員名簿!A100=\"\",\"\",部員名簿!C100)","v":""},{"$f":"IF(部員名簿!A100=\"\",\"\",部員名簿!D100)","v":""},{"$f":"IF(部員名簿!A100=\"\",\"\",部員名簿!E100)","v":""},{"$f":"IF(部員名簿!A100=\"\",\"\",部員名簿!F100)","v":""},{"$f":"IF(部員名簿!A100=\"\",\"\",部員名簿!I100)","v":""},{"$f":"IF(部員名簿!A100=\"\",\"\",部員名簿!B100)","v":""}]
[{"$f":"IF(部員名簿!A101=\"\",\"\",YEAR(部員名簿!G101))","v":""},{"$f":"IF(部員名簿!A101=\"\",\"\",MONTH(部員名簿!G101))","v":""},{"$f":"IF(部員名簿!A101=\"\",\"\",DAY(部員名簿!G101))","v":""},{"$f":"IF(部員名簿!A101=\"\",\"\",学校番号*100+部員名簿!H101)","v":""},{"$f":"IF(部員名簿!A101=\"\",\"\",部員名簿!C101)","v":""},{"$f":"IF(部員名簿!A101=\"\",\"\",部員名簿!D101)","v":""},{"$f":"IF(部員名簿!A101=\"\",\"\",部員名簿!E101)","v":""},{"$f":"IF(部員名簿!A101=\"\",\"\",部員名簿!F101)","v":""},{"$f":"IF(部員名簿!A101=\"\",\"\",部員名簿!I101)","v":""},{"$f":"IF(部員名簿!A101=\"\",\"\",部員名簿!B101)","v":""}]
[{"$f":"IF(部員名簿!A102=\"\",\"\",YEAR(部員名簿!G102))","v":""},{"$f":"IF(部員名簿!A102=\"\",\"\",MONTH(部員名簿!G102))","v":""},{"$f":"IF(部員名簿!A102=\"\",\"\",DAY(部員名簿!G102))","v":""},{"$f":"IF(部員名簿!A102=\"\",\"\",学校番号*100+部員名簿!H102)","v":""},{"$f":"IF(部員名簿!A102=\"\",\"\",部員名簿!C102)","v":""},{"$f":"IF(部員名簿!A102=\"\",\"\",部員名簿!D102)","v":""},{"$f":"IF(部員名簿!A102=\"\",\"\",部員名簿!E102)","v":""},{"$f":"IF(部員名簿!A102=\"\",\"\",部員名簿!F102)","v":""},{"$f":"IF(部員名簿!A102=\"\",\"\",部員名簿!I102)","v":""},{"$f":"IF(部員名簿!A102=\"\",\"\",部員名簿!B102)","v":""}]
[{"$f":"IF(部員名簿!A103=\"\",\"\",YEAR(部員名簿!G103))","v":""},{"$f":"IF(部員名簿!A103=\"\",\"\",MONTH(部員名簿!G103))","v":""},{"$f":"IF(部員名簿!A103=\"\",\"\",DAY(部員名簿!G103))","v":""},{"$f":"IF(部員名簿!A103=\"\",\"\",学校番号*100+部員名簿!H103)","v":""},{"$f":"IF(部員名簿!A103=\"\",\"\",部員名簿!C103)","v":""},{"$f":"IF(部員名簿!A103=\"\",\"\",部員名簿!D103)","v":""},{"$f":"IF(部員名簿!A103=\"\",\"\",部員名簿!E103)","v":""},{"$f":"IF(部員名簿!A103=\"\",\"\",部員名簿!F103)","v":""},{"$f":"IF(部員名簿!A103=\"\",\"\",部員名簿!I103)","v":""},{"$f":"IF(部員名簿!A103=\"\",\"\",部員名簿!B103)","v":""}]
[{"$f":"IF(部員名簿!A104=\"\",\"\",YEAR(部員名簿!G104))","v":""},{"$f":"IF(部員名簿!A104=\"\",\"\",MONTH(部員名簿!G104))","v":""},{"$f":"IF(部員名簿!A104=\"\",\"\",DAY(部員名簿!G104))","v":""},{"$f":"IF(部員名簿!A104=\"\",\"\",学校番号*100+部員名簿!H104)","v":""},{"$f":"IF(部員名簿!A104=\"\",\"\",部員名簿!C104)","v":""},{"$f":"IF(部員名簿!A104=\"\",\"\",部員名簿!D104)","v":""},{"$f":"IF(部員名簿!A104=\"\",\"\",部員名簿!E104)","v":""},{"$f":"IF(部員名簿!A104=\"\",\"\",部員名簿!F104)","v":""},{"$f":"IF(部員名簿!A104=\"\",\"\",部員名簿!I104)","v":""},{"$f":"IF(部員名簿!A104=\"\",\"\",部員名簿!B104)","v":""}]
[{"$f":"IF(部員名簿!A105=\"\",\"\",YEAR(部員名簿!G105))","v":""},{"$f":"IF(部員名簿!A105=\"\",\"\",MONTH(部員名簿!G105))","v":""},{"$f":"IF(部員名簿!A105=\"\",\"\",DAY(部員名簿!G105))","v":""},{"$f":"IF(部員名簿!A105=\"\",\"\",学校番号*100+部員名簿!H105)","v":""},{"$f":"IF(部員名簿!A105=\"\",\"\",部員名簿!C105)","v":""},{"$f":"IF(部員名簿!A105=\"\",\"\",部員名簿!D105)","v":""},{"$f":"IF(部員名簿!A105=\"\",\"\",部員名簿!E105)","v":""},{"$f":"IF(部員名簿!A105=\"\",\"\",部員名簿!F105)","v":""},{"$f":"IF(部員名簿!A105=\"\",\"\",部員名簿!I105)","v":""},{"$f":"IF(部員名簿!A105=\"\",\"\",部員名簿!B105)","v":""}]
[{"$f":"IF(部員名簿!A106=\"\",\"\",YEAR(部員名簿!G106))","v":""},{"$f":"IF(部員名簿!A106=\"\",\"\",MONTH(部員名簿!G106))","v":""},{"$f":"IF(部員名簿!A106=\"\",\"\",DAY(部員名簿!G106))","v":""},{"$f":"IF(部員名簿!A106=\"\",\"\",学校番号*100+部員名簿!H106)","v":""},{"$f":"IF(部員名簿!A106=\"\",\"\",部員名簿!C106)","v":""},{"$f":"IF(部員名簿!A106=\"\",\"\",部員名簿!D106)","v":""},{"$f":"IF(部員名簿!A106=\"\",\"\",部員名簿!E106)","v":""},{"$f":"IF(部員名簿!A106=\"\",\"\",部員名簿!F106)","v":""},{"$f":"IF(部員名簿!A106=\"\",\"\",部員名簿!I106)","v":""},{"$f":"IF(部員名簿!A106=\"\",\"\",部員名簿!B106)","v":""}]
[{"$f":"IF(部員名簿!A107=\"\",\"\",YEAR(部員名簿!G107))","v":""},{"$f":"IF(部員名簿!A107=\"\",\"\",MONTH(部員名簿!G107))","v":""},{"$f":"IF(部員名簿!A107=\"\",\"\",DAY(部員名簿!G107))","v":""},{"$f":"IF(部員名簿!A107=\"\",\"\",学校番号*100+部員名簿!H107)","v":""},{"$f":"IF(部員名簿!A107=\"\",\"\",部員名簿!C107)","v":""},{"$f":"IF(部員名簿!A107=\"\",\"\",部員名簿!D107)","v":""},{"$f":"IF(部員名簿!A107=\"\",\"\",部員名簿!E107)","v":""},{"$f":"IF(部員名簿!A107=\"\",\"\",部員名簿!F107)","v":""},{"$f":"IF(部員名簿!A107=\"\",\"\",部員名簿!I107)","v":""},{"$f":"IF(部員名簿!A107=\"\",\"\",部員名簿!B107)","v":""}]
[{"$f":"IF(部員名簿!A108=\"\",\"\",YEAR(部員名簿!G108))","v":""},{"$f":"IF(部員名簿!A108=\"\",\"\",MONTH(部員名簿!G108))","v":""},{"$f":"IF(部員名簿!A108=\"\",\"\",DAY(部員名簿!G108))","v":""},{"$f":"IF(部員名簿!A108=\"\",\"\",学校番号*100+部員名簿!H108)","v":""},{"$f":"IF(部員名簿!A108=\"\",\"\",部員名簿!C108)","v":""},{"$f":"IF(部員名簿!A108=\"\",\"\",部員名簿!D108)","v":""},{"$f":"IF(部員名簿!A108=\"\",\"\",部員名簿!E108)","v":""},{"$f":"IF(部員名簿!A108=\"\",\"\",部員名簿!F108)","v":""},{"$f":"IF(部員名簿!A108=\"\",\"\",部員名簿!I108)","v":""},{"$f":"IF(部員名簿!A108=\"\",\"\",部員名簿!B108)","v":""}]
[{"$f":"IF(部員名簿!A109=\"\",\"\",YEAR(部員名簿!G109))","v":""},{"$f":"IF(部員名簿!A109=\"\",\"\",MONTH(部員名簿!G109))","v":""},{"$f":"IF(部員名簿!A109=\"\",\"\",DAY(部員名簿!G109))","v":""},{"$f":"IF(部員名簿!A109=\"\",\"\",学校番号*100+部員名簿!H109)","v":""},{"$f":"IF(部員名簿!A109=\"\",\"\",部員名簿!C109)","v":""},{"$f":"IF(部員名簿!A109=\"\",\"\",部員名簿!D109)","v":""},{"$f":"IF(部員名簿!A109=\"\",\"\",部員名簿!E109)","v":""},{"$f":"IF(部員名簿!A109=\"\",\"\",部員名簿!F109)","v":""},{"$f":"IF(部員名簿!A109=\"\",\"\",部員名簿!I109)","v":""},{"$f":"IF(部員名簿!A109=\"\",\"\",部員名簿!B109)","v":""}]
[{"$f":"IF(部員名簿!A110=\"\",\"\",YEAR(部員名簿!G110))","v":""},{"$f":"IF(部員名簿!A110=\"\",\"\",MONTH(部員名簿!G110))","v":""},{"$f":"IF(部員名簿!A110=\"\",\"\",DAY(部員名簿!G110))","v":""},{"$f":"IF(部員名簿!A110=\"\",\"\",学校番号*100+部員名簿!H110)","v":""},{"$f":"IF(部員名簿!A110=\"\",\"\",部員名簿!C110)","v":""},{"$f":"IF(部員名簿!A110=\"\",\"\",部員名簿!D110)","v":""},{"$f":"IF(部員名簿!A110=\"\",\"\",部員名簿!E110)","v":""},{"$f":"IF(部員名簿!A110=\"\",\"\",部員名簿!F110)","v":""},{"$f":"IF(部員名簿!A110=\"\",\"\",部員名簿!I110)","v":""},{"$f":"IF(部員名簿!A110=\"\",\"\",部員名簿!B110)","v":""}]
[{"$f":"IF(部員名簿!A111=\"\",\"\",YEAR(部員名簿!G111))","v":""},{"$f":"IF(部員名簿!A111=\"\",\"\",MONTH(部員名簿!G111))","v":""},{"$f":"IF(部員名簿!A111=\"\",\"\",DAY(部員名簿!G111))","v":""},{"$f":"IF(部員名簿!A111=\"\",\"\",学校番号*100+部員名簿!H111)","v":""},{"$f":"IF(部員名簿!A111=\"\",\"\",部員名簿!C111)","v":""},{"$f":"IF(部員名簿!A111=\"\",\"\",部員名簿!D111)","v":""},{"$f":"IF(部員名簿!A111=\"\",\"\",部員名簿!E111)","v":""},{"$f":"IF(部員名簿!A111=\"\",\"\",部員名簿!F111)","v":""},{"$f":"IF(部員名簿!A111=\"\",\"\",部員名簿!I111)","v":""},{"$f":"IF(部員名簿!A111=\"\",\"\",部員名簿!B111)","v":""}]
[{"$f":"IF(部員名簿!A112=\"\",\"\",YEAR(部員名簿!G112))","v":""},{"$f":"IF(部員名簿!A112=\"\",\"\",MONTH(部員名簿!G112))","v":""},{"$f":"IF(部員名簿!A112=\"\",\"\",DAY(部員名簿!G112))","v":""},{"$f":"IF(部員名簿!A112=\"\",\"\",学校番号*100+部員名簿!H112)","v":""},{"$f":"IF(部員名簿!A112=\"\",\"\",部員名簿!C112)","v":""},{"$f":"IF(部員名簿!A112=\"\",\"\",部員名簿!D112)","v":""},{"$f":"IF(部員名簿!A112=\"\",\"\",部員名簿!E112)","v":""},{"$f":"IF(部員名簿!A112=\"\",\"\",部員名簿!F112)","v":""},{"$f":"IF(部員名簿!A112=\"\",\"\",部員名簿!I112)","v":""},{"$f":"IF(部員名簿!A112=\"\",\"\",部員名簿!B112)","v":""}]
[{"$f":"IF(部員名簿!A113=\"\",\"\",YEAR(部員名簿!G113))","v":""},{"$f":"IF(部員名簿!A113=\"\",\"\",MONTH(部員名簿!G113))","v":""},{"$f":"IF(部員名簿!A113=\"\",\"\",DAY(部員名簿!G113))","v":""},{"$f":"IF(部員名簿!A113=\"\",\"\",学校番号*100+部員名簿!H113)","v":""},{"$f":"IF(部員名簿!A113=\"\",\"\",部員名簿!C113)","v":""},{"$f":"IF(部員名簿!A113=\"\",\"\",部員名簿!D113)","v":""},{"$f":"IF(部員名簿!A113=\"\",\"\",部員名簿!E113)","v":""},{"$f":"IF(部員名簿!A113=\"\",\"\",部員名簿!F113)","v":""},{"$f":"IF(部員名簿!A113=\"\",\"\",部員名簿!I113)","v":""},{"$f":"IF(部員名簿!A113=\"\",\"\",部員名簿!B113)","v":""}]
[{"$f":"IF(部員名簿!A114=\"\",\"\",YEAR(部員名簿!G114))","v":""},{"$f":"IF(部員名簿!A114=\"\",\"\",MONTH(部員名簿!G114))","v":""},{"$f":"IF(部員名簿!A114=\"\",\"\",DAY(部員名簿!G114))","v":""},{"$f":"IF(部員名簿!A114=\"\",\"\",学校番号*100+部員名簿!H114)","v":""},{"$f":"IF(部員名簿!A114=\"\",\"\",部員名簿!C114)","v":""},{"$f":"IF(部員名簿!A114=\"\",\"\",部員名簿!D114)","v":""},{"$f":"IF(部員名簿!A114=\"\",\"\",部員名簿!E114)","v":""},{"$f":"IF(部員名簿!A114=\"\",\"\",部員名簿!F114)","v":""},{"$f":"IF(部員名簿!A114=\"\",\"\",部員名簿!I114)","v":""},{"$f":"IF(部員名簿!A114=\"\",\"\",部員名簿!B114)","v":""}]
[{"$f":"IF(部員名簿!A115=\"\",\"\",YEAR(部員名簿!G115))","v":""},{"$f":"IF(部員名簿!A115=\"\",\"\",MONTH(部員名簿!G115))","v":""},{"$f":"IF(部員名簿!A115=\"\",\"\",DAY(部員名簿!G115))","v":""},{"$f":"IF(部員名簿!A115=\"\",\"\",学校番号*100+部員名簿!H115)","v":""},{"$f":"IF(部員名簿!A115=\"\",\"\",部員名簿!C115)","v":""},{"$f":"IF(部員名簿!A115=\"\",\"\",部員名簿!D115)","v":""},{"$f":"IF(部員名簿!A115=\"\",\"\",部員名簿!E115)","v":""},{"$f":"IF(部員名簿!A115=\"\",\"\",部員名簿!F115)","v":""},{"$f":"IF(部員名簿!A115=\"\",\"\",部員名簿!I115)","v":""},{"$f":"IF(部員名簿!A115=\"\",\"\",部員名簿!B115)","v":""}]
[{"$f":"IF(部員名簿!A116=\"\",\"\",YEAR(部員名簿!G116))","v":""},{"$f":"IF(部員名簿!A116=\"\",\"\",MONTH(部員名簿!G116))","v":""},{"$f":"IF(部員名簿!A116=\"\",\"\",DAY(部員名簿!G116))","v":""},{"$f":"IF(部員名簿!A116=\"\",\"\",学校番号*100+部員名簿!H116)","v":""},{"$f":"IF(部員名簿!A116=\"\",\"\",部員名簿!C116)","v":""},{"$f":"IF(部員名簿!A116=\"\",\"\",部員名簿!D116)","v":""},{"$f":"IF(部員名簿!A116=\"\",\"\",部員名簿!E116)","v":""},{"$f":"IF(部員名簿!A116=\"\",\"\",部員名簿!F116)","v":""},{"$f":"IF(部員名簿!A116=\"\",\"\",部員名簿!I116)","v":""},{"$f":"IF(部員名簿!A116=\"\",\"\",部員名簿!B116)","v":""}]
[{"$f":"IF(部員名簿!A117=\"\",\"\",YEAR(部員名簿!G117))","v":""},{"$f":"IF(部員名簿!A117=\"\",\"\",MONTH(部員名簿!G117))","v":""},{"$f":"IF(部員名簿!A117=\"\",\"\",DAY(部員名簿!G117))","v":""},{"$f":"IF(部員名簿!A117=\"\",\"\",学校番号*100+部員名簿!H117)","v":""},{"$f":"IF(部員名簿!A117=\"\",\"\",部員名簿!C117)","v":""},{"$f":"IF(部員名簿!A117=\"\",\"\",部員名簿!D117)","v":""},{"$f":"IF(部員名簿!A117=\"\",\"\",部員名簿!E117)","v":""},{"$f":"IF(部員名簿!A117=\"\",\"\",部員名簿!F117)","v":""},{"$f":"IF(部員名簿!A117=\"\",\"\",部員名簿!I117)","v":""},{"$f":"IF(部員名簿!A117=\"\",\"\",部員名簿!B117)","v":""}]
[{"$f":"IF(部員名簿!A118=\"\",\"\",YEAR(部員名簿!G118))","v":""},{"$f":"IF(部員名簿!A118=\"\",\"\",MONTH(部員名簿!G118))","v":""},{"$f":"IF(部員名簿!A118=\"\",\"\",DAY(部員名簿!G118))","v":""},{"$f":"IF(部員名簿!A118=\"\",\"\",学校番号*100+部員名簿!H118)","v":""},{"$f":"IF(部員名簿!A118=\"\",\"\",部員名簿!C118)","v":""},{"$f":"IF(部員名簿!A118=\"\",\"\",部員名簿!D118)","v":""},{"$f":"IF(部員名簿!A118=\"\",\"\",部員名簿!E118)","v":""},{"$f":"IF(部員名簿!A118=\"\",\"\",部員名簿!F118)","v":""},{"$f":"IF(部員名簿!A118=\"\",\"\",部員名簿!I118)","v":""},{"$f":"IF(部員名簿!A118=\"\",\"\",部員名簿!B118)","v":""}]
[{"$f":"IF(部員名簿!A119=\"\",\"\",YEAR(部員名簿!G119))","v":""},{"$f":"IF(部員名簿!A119=\"\",\"\",MONTH(部員名簿!G119))","v":""},{"$f":"IF(部員名簿!A119=\"\",\"\",DAY(部員名簿!G119))","v":""},{"$f":"IF(部員名簿!A119=\"\",\"\",学校番号*100+部員名簿!H119)","v":""},{"$f":"IF(部員名簿!A119=\"\",\"\",部員名簿!C119)","v":""},{"$f":"IF(部員名簿!A119=\"\",\"\",部員名簿!D119)","v":""},{"$f":"IF(部員名簿!A119=\"\",\"\",部員名簿!E119)","v":""},{"$f":"IF(部員名簿!A119=\"\",\"\",部員名簿!F119)","v":""},{"$f":"IF(部員名簿!A119=\"\",\"\",部員名簿!I119)","v":""},{"$f":"IF(部員名簿!A119=\"\",\"\",部員名簿!B119)","v":""}]
[{"$f":"IF(部員名簿!A120=\"\",\"\",YEAR(部員名簿!G120))","v":""},{"$f":"IF(部員名簿!A120=\"\",\"\",MONTH(部員名簿!G120))","v":""},{"$f":"IF(部員名簿!A120=\"\",\"\",DAY(部員名簿!G120))","v":""},{"$f":"IF(部員名簿!A120=\"\",\"\",学校番号*100+部員名簿!H120)","v":""},{"$f":"IF(部員名簿!A120=\"\",\"\",部員名簿!C120)","v":""},{"$f":"IF(部員名簿!A120=\"\",\"\",部員名簿!D120)","v":""},{"$f":"IF(部員名簿!A120=\"\",\"\",部員名簿!E120)","v":""},{"$f":"IF(部員名簿!A120=\"\",\"\",部員名簿!F120)","v":""},{"$f":"IF(部員名簿!A120=\"\",\"\",部員名簿!I120)","v":""},{"$f":"IF(部員名簿!A120=\"\",\"\",部員名簿!B120)","v":""}]
[{"$f":"IF(部員名簿!A121=\"\",\"\",YEAR(部員名簿!G121))","v":""},{"$f":"IF(部員名簿!A121=\"\",\"\",MONTH(部員名簿!G121))","v":""},{"$f":"IF(部員名簿!A121=\"\",\"\",DAY(部員名簿!G121))","v":""},{"$f":"IF(部員名簿!A121=\"\",\"\",学校番号*100+部員名簿!H121)","v":""},{"$f":"IF(部員名簿!A121=\"\",\"\",部員名簿!C121)","v":""},{"$f":"IF(部員名簿!A121=\"\",\"\",部員名簿!D121)","v":""},{"$f":"IF(部員名簿!A121=\"\",\"\",部員名簿!E121)","v":""},{"$f":"IF(部員名簿!A121=\"\",\"\",部員名簿!F121)","v":""},{"$f":"IF(部員名簿!A121=\"\",\"\",部員名簿!I121)","v":""},{"$f":"IF(部員名簿!A121=\"\",\"\",部員名簿!B121)","v":""}]
[{"$f":"IF(部員名簿!A122=\"\",\"\",YEAR(部員名簿!G122))","v":""},{"$f":"IF(部員名簿!A122=\"\",\"\",MONTH(部員名簿!G122))","v":""},{"$f":"IF(部員名簿!A122=\"\",\"\",DAY(部員名簿!G122))","v":""},{"$f":"IF(部員名簿!A122=\"\",\"\",学校番号*100+部員名簿!H122)","v":""},{"$f":"IF(部員名簿!A122=\"\",\"\",部員名簿!C122)","v":""},{"$f":"IF(部員名簿!A122=\"\",\"\",部員名簿!D122)","v":""},{"$f":"IF(部員名簿!A122=\"\",\"\",部員名簿!E122)","v":""},{"$f":"IF(部員名簿!A122=\"\",\"\",部員名簿!F122)","v":""},{"$f":"IF(部員名簿!A122=\"\",\"\",部員名簿!I122)","v":""},{"$f":"IF(部員名簿!A122=\"\",\"\",部員名簿!B122)","v":""}]
[{"$f":"IF(部員名簿!A123=\"\",\"\",YEAR(部員名簿!G123))","v":""},{"$f":"IF(部員名簿!A123=\"\",\"\",MONTH(部員名簿!G123))","v":""},{"$f":"IF(部員名簿!A123=\"\",\"\",DAY(部員名簿!G123))","v":""},{"$f":"IF(部員名簿!A123=\"\",\"\",学校番号*100+部員名簿!H123)","v":""},{"$f":"IF(部員名簿!A123=\"\",\"\",部員名簿!C123)","v":""},{"$f":"IF(部員名簿!A123=\"\",\"\",部員名簿!D123)","v":""},{"$f":"IF(部員名簿!A123=\"\",\"\",部員名簿!E123)","v":""},{"$f":"IF(部員名簿!A123=\"\",\"\",部員名簿!F123)","v":""},{"$f":"IF(部員名簿!A123=\"\",\"\",部員名簿!I123)","v":""},{"$f":"IF(部員名簿!A123=\"\",\"\",部員名簿!B123)","v":""}]
[{"$f":"IF(部員名簿!A124=\"\",\"\",YEAR(部員名簿!G124))","v":""},{"$f":"IF(部員名簿!A124=\"\",\"\",MONTH(部員名簿!G124))","v":""},{"$f":"IF(部員名簿!A124=\"\",\"\",DAY(部員名簿!G124))","v":""},{"$f":"IF(部員名簿!A124=\"\",\"\",学校番号*100+部員名簿!H124)","v":""},{"$f":"IF(部員名簿!A124=\"\",\"\",部員名簿!C124)","v":""},{"$f":"IF(部員名簿!A124=\"\",\"\",部員名簿!D124)","v":""},{"$f":"IF(部員名簿!A124=\"\",\"\",部員名簿!E124)","v":""},{"$f":"IF(部員名簿!A124=\"\",\"\",部員名簿!F124)","v":""},{"$f":"IF(部員名簿!A124=\"\",\"\",部員名簿!I124)","v":""},{"$f":"IF(部員名簿!A124=\"\",\"\",部員名簿!B124)","v":""}]
[{"$f":"IF(部員名簿!A125=\"\",\"\",YEAR(部員名簿!G125))","v":""},{"$f":"IF(部員名簿!A125=\"\",\"\",MONTH(部員名簿!G125))","v":""},{"$f":"IF(部員名簿!A125=\"\",\"\",DAY(部員名簿!G125))","v":""},{"$f":"IF(部員名簿!A125=\"\",\"\",学校番号*100+部員名簿!H125)","v":""},{"$f":"IF(部員名簿!A125=\"\",\"\",部員名簿!C125)","v":""},{"$f":"IF(部員名簿!A125=\"\",\"\",部員名簿!D125)","v":""},{"$f":"IF(部員名簿!A125=\"\",\"\",部員名簿!E125)","v":""},{"$f":"IF(部員名簿!A125=\"\",\"\",部員名簿!F125)","v":""},{"$f":"IF(部員名簿!A125=\"\",\"\",部員名簿!I125)","v":""},{"$f":"IF(部員名簿!A125=\"\",\"\",部員名簿!B125)","v":""}]
[{"$f":"IF(部員名簿!A126=\"\",\"\",YEAR(部員名簿!G126))","v":""},{"$f":"IF(部員名簿!A126=\"\",\"\",MONTH(部員名簿!G126))","v":""},{"$f":"IF(部員名簿!A126=\"\",\"\",DAY(部員名簿!G126))","v":""},{"$f":"IF(部員名簿!A126=\"\",\"\",学校番号*100+部員名簿!H126)","v":""},{"$f":"IF(部員名簿!A126=\"\",\"\",部員名簿!C126)","v":""},{"$f":"IF(部員名簿!A126=\"\",\"\",部員名簿!D126)","v":""},{"$f":"IF(部員名簿!A126=\"\",\"\",部員名簿!E126)","v":""},{"$f":"IF(部員名簿!A126=\"\",\"\",部員名簿!F126)","v":""},{"$f":"IF(部員名簿!A126=\"\",\"\",部員名簿!I126)","v":""},{"$f":"IF(部員名簿!A126=\"\",\"\",部員名簿!B126)","v":""}]
[{"$f":"IF(部員名簿!A127=\"\",\"\",YEAR(部員名簿!G127))","v":""},{"$f":"IF(部員名簿!A127=\"\",\"\",MONTH(部員名簿!G127))","v":""},{"$f":"IF(部員名簿!A127=\"\",\"\",DAY(部員名簿!G127))","v":""},{"$f":"IF(部員名簿!A127=\"\",\"\",学校番号*100+部員名簿!H127)","v":""},{"$f":"IF(部員名簿!A127=\"\",\"\",部員名簿!C127)","v":""},{"$f":"IF(部員名簿!A127=\"\",\"\",部員名簿!D127)","v":""},{"$f":"IF(部員名簿!A127=\"\",\"\",部員名簿!E127)","v":""},{"$f":"IF(部員名簿!A127=\"\",\"\",部員名簿!F127)","v":""},{"$f":"IF(部員名簿!A127=\"\",\"\",部員名簿!I127)","v":""},{"$f":"IF(部員名簿!A127=\"\",\"\",部員名簿!B127)","v":""}]
[{"$f":"IF(部員名簿!A128=\"\",\"\",YEAR(部員名簿!G128))","v":""},{"$f":"IF(部員名簿!A128=\"\",\"\",MONTH(部員名簿!G128))","v":""},{"$f":"IF(部員名簿!A128=\"\",\"\",DAY(部員名簿!G128))","v":""},{"$f":"IF(部員名簿!A128=\"\",\"\",学校番号*100+部員名簿!H128)","v":""},{"$f":"IF(部員名簿!A128=\"\",\"\",部員名簿!C128)","v":""},{"$f":"IF(部員名簿!A128=\"\",\"\",部員名簿!D128)","v":""},{"$f":"IF(部員名簿!A128=\"\",\"\",部員名簿!E128)","v":""},{"$f":"IF(部員名簿!A128=\"\",\"\",部員名簿!F128)","v":""},{"$f":"IF(部員名簿!A128=\"\",\"\",部員名簿!I128)","v":""},{"$f":"IF(部員名簿!A128=\"\",\"\",部員名簿!B128)","v":""}]
[{"$f":"IF(部員名簿!A129=\"\",\"\",YEAR(部員名簿!G129))","v":""},{"$f":"IF(部員名簿!A129=\"\",\"\",MONTH(部員名簿!G129))","v":""},{"$f":"IF(部員名簿!A129=\"\",\"\",DAY(部員名簿!G129))","v":""},{"$f":"IF(部員名簿!A129=\"\",\"\",学校番号*100+部員名簿!H129)","v":""},{"$f":"IF(部員名簿!A129=\"\",\"\",部員名簿!C129)","v":""},{"$f":"IF(部員名簿!A129=\"\",\"\",部員名簿!D129)","v":""},{"$f":"IF(部員名簿!A129=\"\",\"\",部員名簿!E129)","v":""},{"$f":"IF(部員名簿!A129=\"\",\"\",部員名簿!F129)","v":""},{"$f":"IF(部員名簿!A129=\"\",\"\",部員名簿!I129)","v":""},{"$f":"IF(部員名簿!A129=\"\",\"\",部員名簿!B129)","v":""}]
[{"$f":"IF(部員名簿!A130=\"\",\"\",YEAR(部員名簿!G130))","v":""},{"$f":"IF(部員名簿!A130=\"\",\"\",MONTH(部員名簿!G130))","v":""},{"$f":"IF(部員名簿!A130=\"\",\"\",DAY(部員名簿!G130))","v":""},{"$f":"IF(部員名簿!A130=\"\",\"\",学校番号*100+部員名簿!H130)","v":""},{"$f":"IF(部員名簿!A130=\"\",\"\",部員名簿!C130)","v":""},{"$f":"IF(部員名簿!A130=\"\",\"\",部員名簿!D130)","v":""},{"$f":"IF(部員名簿!A130=\"\",\"\",部員名簿!E130)","v":""},{"$f":"IF(部員名簿!A130=\"\",\"\",部員名簿!F130)","v":""},{"$f":"IF(部員名簿!A130=\"\",\"\",部員名簿!I130)","v":""},{"$f":"IF(部員名簿!A130=\"\",\"\",部員名簿!B130)","v":""}]
[{"$f":"IF(部員名簿!A131=\"\",\"\",YEAR(部員名簿!G131))","v":""},{"$f":"IF(部員名簿!A131=\"\",\"\",MONTH(部員名簿!G131))","v":""},{"$f":"IF(部員名簿!A131=\"\",\"\",DAY(部員名簿!G131))","v":""},{"$f":"IF(部員名簿!A131=\"\",\"\",学校番号*100+部員名簿!H131)","v":""},{"$f":"IF(部員名簿!A131=\"\",\"\",部員名簿!C131)","v":""},{"$f":"IF(部員名簿!A131=\"\",\"\",部員名簿!D131)","v":""},{"$f":"IF(部員名簿!A131=\"\",\"\",部員名簿!E131)","v":""},{"$f":"IF(部員名簿!A131=\"\",\"\",部員名簿!F131)","v":""},{"$f":"IF(部員名簿!A131=\"\",\"\",部員名簿!I131)","v":""},{"$f":"IF(部員名簿!A131=\"\",\"\",部員名簿!B131)","v":""}]
[{"$f":"IF(部員名簿!A132=\"\",\"\",YEAR(部員名簿!G132))","v":""},{"$f":"IF(部員名簿!A132=\"\",\"\",MONTH(部員名簿!G132))","v":""},{"$f":"IF(部員名簿!A132=\"\",\"\",DAY(部員名簿!G132))","v":""},{"$f":"IF(部員名簿!A132=\"\",\"\",学校番号*100+部員名簿!H132)","v":""},{"$f":"IF(部員名簿!A132=\"\",\"\",部員名簿!C132)","v":""},{"$f":"IF(部員名簿!A132=\"\",\"\",部員名簿!D132)","v":""},{"$f":"IF(部員名簿!A132=\"\",\"\",部員名簿!E132)","v":""},{"$f":"IF(部員名簿!A132=\"\",\"\",部員名簿!F132)","v":""},{"$f":"IF(部員名簿!A132=\"\",\"\",部員名簿!I132)","v":""},{"$f":"IF(部員名簿!A132=\"\",\"\",部員名簿!B132)","v":""}]
[{"$f":"IF(部員名簿!A133=\"\",\"\",YEAR(部員名簿!G133))","v":""},{"$f":"IF(部員名簿!A133=\"\",\"\",MONTH(部員名簿!G133))","v":""},{"$f":"IF(部員名簿!A133=\"\",\"\",DAY(部員名簿!G133))","v":""},{"$f":"IF(部員名簿!A133=\"\",\"\",学校番号*100+部員名簿!H133)","v":""},{"$f":"IF(部員名簿!A133=\"\",\"\",部員名簿!C133)","v":""},{"$f":"IF(部員名簿!A133=\"\",\"\",部員名簿!D133)","v":""},{"$f":"IF(部員名簿!A133=\"\",\"\",部員名簿!E133)","v":""},{"$f":"IF(部員名簿!A133=\"\",\"\",部員名簿!F133)","v":""},{"$f":"IF(部員名簿!A133=\"\",\"\",部員名簿!I133)","v":""},{"$f":"IF(部員名簿!A133=\"\",\"\",部員名簿!B133)","v":""}]
[{"$f":"IF(部員名簿!A134=\"\",\"\",YEAR(部員名簿!G134))","v":""},{"$f":"IF(部員名簿!A134=\"\",\"\",MONTH(部員名簿!G134))","v":""},{"$f":"IF(部員名簿!A134=\"\",\"\",DAY(部員名簿!G134))","v":""},{"$f":"IF(部員名簿!A134=\"\",\"\",学校番号*100+部員名簿!H134)","v":""},{"$f":"IF(部員名簿!A134=\"\",\"\",部員名簿!C134)","v":""},{"$f":"IF(部員名簿!A134=\"\",\"\",部員名簿!D134)","v":""},{"$f":"IF(部員名簿!A134=\"\",\"\",部員名簿!E134)","v":""},{"$f":"IF(部員名簿!A134=\"\",\"\",部員名簿!F134)","v":""},{"$f":"IF(部員名簿!A134=\"\",\"\",部員名簿!I134)","v":""},{"$f":"IF(部員名簿!A134=\"\",\"\",部員名簿!B134)","v":""}]
[{"$f":"IF(部員名簿!A135=\"\",\"\",YEAR(部員名簿!G135))","v":""},{"$f":"IF(部員名簿!A135=\"\",\"\",MONTH(部員名簿!G135))","v":""},{"$f":"IF(部員名簿!A135=\"\",\"\",DAY(部員名簿!G135))","v":""},{"$f":"IF(部員名簿!A135=\"\",\"\",学校番号*100+部員名簿!H135)","v":""},{"$f":"IF(部員名簿!A135=\"\",\"\",部員名簿!C135)","v":""},{"$f":"IF(部員名簿!A135=\"\",\"\",部員名簿!D135)","v":""},{"$f":"IF(部員名簿!A135=\"\",\"\",部員名簿!E135)","v":""},{"$f":"IF(部員名簿!A135=\"\",\"\",部員名簿!F135)","v":""},{"$f":"IF(部員名簿!A135=\"\",\"\",部員名簿!I135)","v":""},{"$f":"IF(部員名簿!A135=\"\",\"\",部員名簿!B135)","v":""}]
[{"$f":"IF(部員名簿!A136=\"\",\"\",YEAR(部員名簿!G136))","v":""},{"$f":"IF(部員名簿!A136=\"\",\"\",MONTH(部員名簿!G136))","v":""},{"$f":"IF(部員名簿!A136=\"\",\"\",DAY(部員名簿!G136))","v":""},{"$f":"IF(部員名簿!A136=\"\",\"\",学校番号*100+部員名簿!H136)","v":""},{"$f":"IF(部員名簿!A136=\"\",\"\",部員名簿!C136)","v":""},{"$f":"IF(部員名簿!A136=\"\",\"\",部員名簿!D136)","v":""},{"$f":"IF(部員名簿!A136=\"\",\"\",部員名簿!E136)","v":""},{"$f":"IF(部員名簿!A136=\"\",\"\",部員名簿!F136)","v":""},{"$f":"IF(部員名簿!A136=\"\",\"\",部員名簿!I136)","v":""},{"$f":"IF(部員名簿!A136=\"\",\"\",部員名簿!B136)","v":""}]
[{"$f":"IF(部員名簿!A137=\"\",\"\",YEAR(部員名簿!G137))","v":""},{"$f":"IF(部員名簿!A137=\"\",\"\",MONTH(部員名簿!G137))","v":""},{"$f":"IF(部員名簿!A137=\"\",\"\",DAY(部員名簿!G137))","v":""},{"$f":"IF(部員名簿!A137=\"\",\"\",学校番号*100+部員名簿!H137)","v":""},{"$f":"IF(部員名簿!A137=\"\",\"\",部員名簿!C137)","v":""},{"$f":"IF(部員名簿!A137=\"\",\"\",部員名簿!D137)","v":""},{"$f":"IF(部員名簿!A137=\"\",\"\",部員名簿!E137)","v":""},{"$f":"IF(部員名簿!A137=\"\",\"\",部員名簿!F137)","v":""},{"$f":"IF(部員名簿!A137=\"\",\"\",部員名簿!I137)","v":""},{"$f":"IF(部員名簿!A137=\"\",\"\",部員名簿!B137)","v":""}]
[{"$f":"IF(部員名簿!A138=\"\",\"\",YEAR(部員名簿!G138))","v":""},{"$f":"IF(部員名簿!A138=\"\",\"\",MONTH(部員名簿!G138))","v":""},{"$f":"IF(部員名簿!A138=\"\",\"\",DAY(部員名簿!G138))","v":""},{"$f":"IF(部員名簿!A138=\"\",\"\",学校番号*100+部員名簿!H138)","v":""},{"$f":"IF(部員名簿!A138=\"\",\"\",部員名簿!C138)","v":""},{"$f":"IF(部員名簿!A138=\"\",\"\",部員名簿!D138)","v":""},{"$f":"IF(部員名簿!A138=\"\",\"\",部員名簿!E138)","v":""},{"$f":"IF(部員名簿!A138=\"\",\"\",部員名簿!F138)","v":""},{"$f":"IF(部員名簿!A138=\"\",\"\",部員名簿!I138)","v":""},{"$f":"IF(部員名簿!A138=\"\",\"\",部員名簿!B138)","v":""}]
[{"$f":"IF(部員名簿!A139=\"\",\"\",YEAR(部員名簿!G139))","v":""},{"$f":"IF(部員名簿!A139=\"\",\"\",MONTH(部員名簿!G139))","v":""},{"$f":"IF(部員名簿!A139=\"\",\"\",DAY(部員名簿!G139))","v":""},{"$f":"IF(部員名簿!A139=\"\",\"\",学校番号*100+部員名簿!H139)","v":""},{"$f":"IF(部員名簿!A139=\"\",\"\",部員名簿!C139)","v":""},{"$f":"IF(部員名簿!A139=\"\",\"\",部員名簿!D139)","v":""},{"$f":"IF(部員名簿!A139=\"\",\"\",部員名簿!E139)","v":""},{"$f":"IF(部員名簿!A139=\"\",\"\",部員名簿!F139)","v":""},{"$f":"IF(部員名簿!A139=\"\",\"\",部員名簿!I139)","v":""},{"$f":"IF(部員名簿!A139=\"\",\"\",部員名簿!B139)","v":""}]
[{"$f":"IF(部員名簿!A140=\"\",\"\",YEAR(部員名簿!G140))","v":""},{"$f":"IF(部員名簿!A140=\"\",\"\",MONTH(部員名簿!G140))","v":""},{"$f":"IF(部員名簿!A140=\"\",\"\",DAY(部員名簿!G140))","v":""},{"$f":"IF(部員名簿!A140=\"\",\"\",学校番号*100+部員名簿!H140)","v":""},{"$f":"IF(部員名簿!A140=\"\",\"\",部員名簿!C140)","v":""},{"$f":"IF(部員名簿!A140=\"\",\"\",部員名簿!D140)","v":""},{"$f":"IF(部員名簿!A140=\"\",\"\",部員名簿!E140)","v":""},{"$f":"IF(部員名簿!A140=\"\",\"\",部員名簿!F140)","v":""},{"$f":"IF(部員名簿!A140=\"\",\"\",部員名簿!I140)","v":""},{"$f":"IF(部員名簿!A140=\"\",\"\",部員名簿!B140)","v":""}]
[{"$f":"IF(部員名簿!A141=\"\",\"\",YEAR(部員名簿!G141))","v":""},{"$f":"IF(部員名簿!A141=\"\",\"\",MONTH(部員名簿!G141))","v":""},{"$f":"IF(部員名簿!A141=\"\",\"\",DAY(部員名簿!G141))","v":""},{"$f":"IF(部員名簿!A141=\"\",\"\",学校番号*100+部員名簿!H141)","v":""},{"$f":"IF(部員名簿!A141=\"\",\"\",部員名簿!C141)","v":""},{"$f":"IF(部員名簿!A141=\"\",\"\",部員名簿!D141)","v":""},{"$f":"IF(部員名簿!A141=\"\",\"\",部員名簿!E141)","v":""},{"$f":"IF(部員名簿!A141=\"\",\"\",部員名簿!F141)","v":""},{"$f":"IF(部員名簿!A141=\"\",\"\",部員名簿!I141)","v":""},{"$f":"IF(部員名簿!A141=\"\",\"\",部員名簿!B141)","v":""}]
[{"$f":"IF(部員名簿!A142=\"\",\"\",YEAR(部員名簿!G142))","v":""},{"$f":"IF(部員名簿!A142=\"\",\"\",MONTH(部員名簿!G142))","v":""},{"$f":"IF(部員名簿!A142=\"\",\"\",DAY(部員名簿!G142))","v":""},{"$f":"IF(部員名簿!A142=\"\",\"\",学校番号*100+部員名簿!H142)","v":""},{"$f":"IF(部員名簿!A142=\"\",\"\",部員名簿!C142)","v":""},{"$f":"IF(部員名簿!A142=\"\",\"\",部員名簿!D142)","v":""},{"$f":"IF(部員名簿!A142=\"\",\"\",部員名簿!E142)","v":""},{"$f":"IF(部員名簿!A142=\"\",\"\",部員名簿!F142)","v":""},{"$f":"IF(部員名簿!A142=\"\",\"\",部員名簿!I142)","v":""},{"$f":"IF(部員名簿!A142=\"\",\"\",部員名簿!B142)","v":""}]
[{"$f":"IF(部員名簿!A143=\"\",\"\",YEAR(部員名簿!G143))","v":""},{"$f":"IF(部員名簿!A143=\"\",\"\",MONTH(部員名簿!G143))","v":""},{"$f":"IF(部員名簿!A143=\"\",\"\",DAY(部員名簿!G143))","v":""},{"$f":"IF(部員名簿!A143=\"\",\"\",学校番号*100+部員名簿!H143)","v":""},{"$f":"IF(部員名簿!A143=\"\",\"\",部員名簿!C143)","v":""},{"$f":"IF(部員名簿!A143=\"\",\"\",部員名簿!D143)","v":""},{"$f":"IF(部員名簿!A143=\"\",\"\",部員名簿!E143)","v":""},{"$f":"IF(部員名簿!A143=\"\",\"\",部員名簿!F143)","v":""},{"$f":"IF(部員名簿!A143=\"\",\"\",部員名簿!I143)","v":""},{"$f":"IF(部員名簿!A143=\"\",\"\",部員名簿!B143)","v":""}]
[{"$f":"IF(部員名簿!A144=\"\",\"\",YEAR(部員名簿!G144))","v":""},{"$f":"IF(部員名簿!A144=\"\",\"\",MONTH(部員名簿!G144))","v":""},{"$f":"IF(部員名簿!A144=\"\",\"\",DAY(部員名簿!G144))","v":""},{"$f":"IF(部員名簿!A144=\"\",\"\",学校番号*100+部員名簿!H144)","v":""},{"$f":"IF(部員名簿!A144=\"\",\"\",部員名簿!C144)","v":""},{"$f":"IF(部員名簿!A144=\"\",\"\",部員名簿!D144)","v":""},{"$f":"IF(部員名簿!A144=\"\",\"\",部員名簿!E144)","v":""},{"$f":"IF(部員名簿!A144=\"\",\"\",部員名簿!F144)","v":""},{"$f":"IF(部員名簿!A144=\"\",\"\",部員名簿!I144)","v":""},{"$f":"IF(部員名簿!A144=\"\",\"\",部員名簿!B144)","v":""}]
[{"$f":"IF(部員名簿!A145=\"\",\"\",YEAR(部員名簿!G145))","v":""},{"$f":"IF(部員名簿!A145=\"\",\"\",MONTH(部員名簿!G145))","v":""},{"$f":"IF(部員名簿!A145=\"\",\"\",DAY(部員名簿!G145))","v":""},{"$f":"IF(部員名簿!A145=\"\",\"\",学校番号*100+部員名簿!H145)","v":""},{"$f":"IF(部員名簿!A145=\"\",\"\",部員名簿!C145)","v":""},{"$f":"IF(部員名簿!A145=\"\",\"\",部員名簿!D145)","v":""},{"$f":"IF(部員名簿!A145=\"\",\"\",部員名簿!E145)","v":""},{"$f":"IF(部員名簿!A145=\"\",\"\",部員名簿!F145)","v":""},{"$f":"IF(部員名簿!A145=\"\",\"\",部員名簿!I145)","v":""},{"$f":"IF(部員名簿!A145=\"\",\"\",部員名簿!B145)","v":""}]
[{"$f":"IF(部員名簿!A146=\"\",\"\",YEAR(部員名簿!G146))","v":""},{"$f":"IF(部員名簿!A146=\"\",\"\",MONTH(部員名簿!G146))","v":""},{"$f":"IF(部員名簿!A146=\"\",\"\",DAY(部員名簿!G146))","v":""},{"$f":"IF(部員名簿!A146=\"\",\"\",学校番号*100+部員名簿!H146)","v":""},{"$f":"IF(部員名簿!A146=\"\",\"\",部員名簿!C146)","v":""},{"$f":"IF(部員名簿!A146=\"\",\"\",部員名簿!D146)","v":""},{"$f":"IF(部員名簿!A146=\"\",\"\",部員名簿!E146)","v":""},{"$f":"IF(部員名簿!A146=\"\",\"\",部員名簿!F146)","v":""},{"$f":"IF(部員名簿!A146=\"\",\"\",部員名簿!I146)","v":""},{"$f":"IF(部員名簿!A146=\"\",\"\",部員名簿!B146)","v":""}]
[{"$f":"IF(部員名簿!A147=\"\",\"\",YEAR(部員名簿!G147))","v":""},{"$f":"IF(部員名簿!A147=\"\",\"\",MONTH(部員名簿!G147))","v":""},{"$f":"IF(部員名簿!A147=\"\",\"\",DAY(部員名簿!G147))","v":""},{"$f":"IF(部員名簿!A147=\"\",\"\",学校番号*100+部員名簿!H147)","v":""},{"$f":"IF(部員名簿!A147=\"\",\"\",部員名簿!C147)","v":""},{"$f":"IF(部員名簿!A147=\"\",\"\",部員名簿!D147)","v":""},{"$f":"IF(部員名簿!A147=\"\",\"\",部員名簿!E147)","v":""},{"$f":"IF(部員名簿!A147=\"\",\"\",部員名簿!F147)","v":""},{"$f":"IF(部員名簿!A147=\"\",\"\",部員名簿!I147)","v":""},{"$f":"IF(部員名簿!A147=\"\",\"\",部員名簿!B147)","v":""}]
[{"$f":"IF(部員名簿!A148=\"\",\"\",YEAR(部員名簿!G148))","v":""},{"$f":"IF(部員名簿!A148=\"\",\"\",MONTH(部員名簿!G148))","v":""},{"$f":"IF(部員名簿!A148=\"\",\"\",DAY(部員名簿!G148))","v":""},{"$f":"IF(部員名簿!A148=\"\",\"\",学校番号*100+部員名簿!H148)","v":""},{"$f":"IF(部員名簿!A148=\"\",\"\",部員名簿!C148)","v":""},{"$f":"IF(部員名簿!A148=\"\",\"\",部員名簿!D148)","v":""},{"$f":"IF(部員名簿!A148=\"\",\"\",部員名簿!E148)","v":""},{"$f":"IF(部員名簿!A148=\"\",\"\",部員名簿!F148)","v":""},{"$f":"IF(部員名簿!A148=\"\",\"\",部員名簿!I148)","v":""},{"$f":"IF(部員名簿!A148=\"\",\"\",部員名簿!B148)","v":""}]
[{"$f":"IF(部員名簿!A149=\"\",\"\",YEAR(部員名簿!G149))","v":""},{"$f":"IF(部員名簿!A149=\"\",\"\",MONTH(部員名簿!G149))","v":""},{"$f":"IF(部員名簿!A149=\"\",\"\",DAY(部員名簿!G149))","v":""},{"$f":"IF(部員名簿!A149=\"\",\"\",学校番号*100+部員名簿!H149)","v":""},{"$f":"IF(部員名簿!A149=\"\",\"\",部員名簿!C149)","v":""},{"$f":"IF(部員名簿!A149=\"\",\"\",部員名簿!D149)","v":""},{"$f":"IF(部員名簿!A149=\"\",\"\",部員名簿!E149)","v":""},{"$f":"IF(部員名簿!A149=\"\",\"\",部員名簿!F149)","v":""},{"$f":"IF(部員名簿!A149=\"\",\"\",部員名簿!I149)","v":""},{"$f":"IF(部員名簿!A149=\"\",\"\",部員名簿!B149)","v":""}]
[{"$f":"IF(部員名簿!A150=\"\",\"\",YEAR(部員名簿!G150))","v":""},{"$f":"IF(部員名簿!A150=\"\",\"\",MONTH(部員名簿!G150))","v":""},{"$f":"IF(部員名簿!A150=\"\",\"\",DAY(部員名簿!G150))","v":""},{"$f":"IF(部員名簿!A150=\"\",\"\",学校番号*100+部員名簿!H150)","v":""},{"$f":"IF(部員名簿!A150=\"\",\"\",部員名簿!C150)","v":""},{"$f":"IF(部員名簿!A150=\"\",\"\",部員名簿!D150)","v":""},{"$f":"IF(部員名簿!A150=\"\",\"\",部員名簿!E150)","v":""},{"$f":"IF(部員名簿!A150=\"\",\"\",部員名簿!F150)","v":""},{"$f":"IF(部員名簿!A150=\"\",\"\",部員名簿!I150)","v":""},{"$f":"IF(部員名簿!A150=\"\",\"\",部員名簿!B150)","v":""}]
[{"$f":"IF(部員名簿!A151=\"\",\"\",YEAR(部員名簿!G151))","v":""},{"$f":"IF(部員名簿!A151=\"\",\"\",MONTH(部員名簿!G151))","v":""},{"$f":"IF(部員名簿!A151=\"\",\"\",DAY(部員名簿!G151))","v":""},{"$f":"IF(部員名簿!A151=\"\",\"\",学校番号*100+部員名簿!H151)","v":""},{"$f":"IF(部員名簿!A151=\"\",\"\",部員名簿!C151)","v":""},{"$f":"IF(部員名簿!A151=\"\",\"\",部員名簿!D151)","v":""},{"$f":"IF(部員名簿!A151=\"\",\"\",部員名簿!E151)","v":""},{"$f":"IF(部員名簿!A151=\"\",\"\",部員名簿!F151)","v":""},{"$f":"IF(部員名簿!A151=\"\",\"\",部員名簿!I151)","v":""},{"$f":"IF(部員名簿!A151=\"\",\"\",部員名簿!B151)","v":""}]
[{"$f":"IF(部員名簿!A152=\"\",\"\",YEAR(部員名簿!G152))","v":""},{"$f":"IF(部員名簿!A152=\"\",\"\",MONTH(部員名簿!G152))","v":""},{"$f":"IF(部員名簿!A152=\"\",\"\",DAY(部員名簿!G152))","v":""},{"$f":"IF(部員名簿!A152=\"\",\"\",学校番号*100+部員名簿!H152)","v":""},{"$f":"IF(部員名簿!A152=\"\",\"\",部員名簿!C152)","v":""},{"$f":"IF(部員名簿!A152=\"\",\"\",部員名簿!D152)","v":""},{"$f":"IF(部員名簿!A152=\"\",\"\",部員名簿!E152)","v":""},{"$f":"IF(部員名簿!A152=\"\",\"\",部員名簿!F152)","v":""},{"$f":"IF(部員名簿!A152=\"\",\"\",部員名簿!I152)","v":""},{"$f":"IF(部員名簿!A152=\"\",\"\",部員名簿!B152)","v":""}]
[{"$f":"IF(部員名簿!A153=\"\",\"\",YEAR(部員名簿!G153))","v":""},{"$f":"IF(部員名簿!A153=\"\",\"\",MONTH(部員名簿!G153))","v":""},{"$f":"IF(部員名簿!A153=\"\",\"\",DAY(部員名簿!G153))","v":""},{"$f":"IF(部員名簿!A153=\"\",\"\",学校番号*100+部員名簿!H153)","v":""},{"$f":"IF(部員名簿!A153=\"\",\"\",部員名簿!C153)","v":""},{"$f":"IF(部員名簿!A153=\"\",\"\",部員名簿!D153)","v":""},{"$f":"IF(部員名簿!A153=\"\",\"\",部員名簿!E153)","v":""},{"$f":"IF(部員名簿!A153=\"\",\"\",部員名簿!F153)","v":""},{"$f":"IF(部員名簿!A153=\"\",\"\",部員名簿!I153)","v":""},{"$f":"IF(部員名簿!A153=\"\",\"\",部員名簿!B153)","v":""}]
[{"$f":"IF(部員名簿!A154=\"\",\"\",YEAR(部員名簿!G154))","v":""},{"$f":"IF(部員名簿!A154=\"\",\"\",MONTH(部員名簿!G154))","v":""},{"$f":"IF(部員名簿!A154=\"\",\"\",DAY(部員名簿!G154))","v":""},{"$f":"IF(部員名簿!A154=\"\",\"\",学校番号*100+部員名簿!H154)","v":""},{"$f":"IF(部員名簿!A154=\"\",\"\",部員名簿!C154)","v":""},{"$f":"IF(部員名簿!A154=\"\",\"\",部員名簿!D154)","v":""},{"$f":"IF(部員名簿!A154=\"\",\"\",部員名簿!E154)","v":""},{"$f":"IF(部員名簿!A154=\"\",\"\",部員名簿!F154)","v":""},{"$f":"IF(部員名簿!A154=\"\",\"\",部員名簿!I154)","v":""},{"$f":"IF(部員名簿!A154=\"\",\"\",部員名簿!B154)","v":""}]
[{"$f":"IF(部員名簿!A155=\"\",\"\",YEAR(部員名簿!G155))","v":""},{"$f":"IF(部員名簿!A155=\"\",\"\",MONTH(部員名簿!G155))","v":""},{"$f":"IF(部員名簿!A155=\"\",\"\",DAY(部員名簿!G155))","v":""},{"$f":"IF(部員名簿!A155=\"\",\"\",学校番号*100+部員名簿!H155)","v":""},{"$f":"IF(部員名簿!A155=\"\",\"\",部員名簿!C155)","v":""},{"$f":"IF(部員名簿!A155=\"\",\"\",部員名簿!D155)","v":""},{"$f":"IF(部員名簿!A155=\"\",\"\",部員名簿!E155)","v":""},{"$f":"IF(部員名簿!A155=\"\",\"\",部員名簿!F155)","v":""},{"$f":"IF(部員名簿!A155=\"\",\"\",部員名簿!I155)","v":""},{"$f":"IF(部員名簿!A155=\"\",\"\",部員名簿!B155)","v":""}]
[{"$f":"IF(部員名簿!A156=\"\",\"\",YEAR(部員名簿!G156))","v":""},{"$f":"IF(部員名簿!A156=\"\",\"\",MONTH(部員名簿!G156))","v":""},{"$f":"IF(部員名簿!A156=\"\",\"\",DAY(部員名簿!G156))","v":""},{"$f":"IF(部員名簿!A156=\"\",\"\",学校番号*100+部員名簿!H156)","v":""},{"$f":"IF(部員名簿!A156=\"\",\"\",部員名簿!C156)","v":""},{"$f":"IF(部員名簿!A156=\"\",\"\",部員名簿!D156)","v":""},{"$f":"IF(部員名簿!A156=\"\",\"\",部員名簿!E156)","v":""},{"$f":"IF(部員名簿!A156=\"\",\"\",部員名簿!F156)","v":""},{"$f":"IF(部員名簿!A156=\"\",\"\",部員名簿!I156)","v":""},{"$f":"IF(部員名簿!A156=\"\",\"\",部員名簿!B156)","v":""}]
[{"$f":"IF(部員名簿!A157=\"\",\"\",YEAR(部員名簿!G157))","v":""},{"$f":"IF(部員名簿!A157=\"\",\"\",MONTH(部員名簿!G157))","v":""},{"$f":"IF(部員名簿!A157=\"\",\"\",DAY(部員名簿!G157))","v":""},{"$f":"IF(部員名簿!A157=\"\",\"\",学校番号*100+部員名簿!H157)","v":""},{"$f":"IF(部員名簿!A157=\"\",\"\",部員名簿!C157)","v":""},{"$f":"IF(部員名簿!A157=\"\",\"\",部員名簿!D157)","v":""},{"$f":"IF(部員名簿!A157=\"\",\"\",部員名簿!E157)","v":""},{"$f":"IF(部員名簿!A157=\"\",\"\",部員名簿!F157)","v":""},{"$f":"IF(部員名簿!A157=\"\",\"\",部員名簿!I157)","v":""},{"$f":"IF(部員名簿!A157=\"\",\"\",部員名簿!B157)","v":""}]
[{"$f":"IF(部員名簿!A158=\"\",\"\",YEAR(部員名簿!G158))","v":""},{"$f":"IF(部員名簿!A158=\"\",\"\",MONTH(部員名簿!G158))","v":""},{"$f":"IF(部員名簿!A158=\"\",\"\",DAY(部員名簿!G158))","v":""},{"$f":"IF(部員名簿!A158=\"\",\"\",学校番号*100+部員名簿!H158)","v":""},{"$f":"IF(部員名簿!A158=\"\",\"\",部員名簿!C158)","v":""},{"$f":"IF(部員名簿!A158=\"\",\"\",部員名簿!D158)","v":""},{"$f":"IF(部員名簿!A158=\"\",\"\",部員名簿!E158)","v":""},{"$f":"IF(部員名簿!A158=\"\",\"\",部員名簿!F158)","v":""},{"$f":"IF(部員名簿!A158=\"\",\"\",部員名簿!I158)","v":""},{"$f":"IF(部員名簿!A158=\"\",\"\",部員名簿!B158)","v":""}]
[{"$f":"IF(部員名簿!A159=\"\",\"\",YEAR(部員名簿!G159))","v":""},{"$f":"IF(部員名簿!A159=\"\",\"\",MONTH(部員名簿!G159))","v":""},{"$f":"IF(部員名簿!A159=\"\",\"\",DAY(部員名簿!G159))","v":""},{"$f":"IF(部員名簿!A159=\"\",\"\",学校番号*100+部員名簿!H159)","v":""},{"$f":"IF(部員名簿!A159=\"\",\"\",部員名簿!C159)","v":""},{"$f":"IF(部員名簿!A159=\"\",\"\",部員名簿!D159)","v":""},{"$f":"IF(部員名簿!A159=\"\",\"\",部員名簿!E159)","v":""},{"$f":"IF(部員名簿!A159=\"\",\"\",部員名簿!F159)","v":""},{"$f":"IF(部員名簿!A159=\"\",\"\",部員名簿!I159)","v":""},{"$f":"IF(部員名簿!A159=\"\",\"\",部員名簿!B159)","v":""}]
[{"$f":"IF(部員名簿!A160=\"\",\"\",YEAR(部員名簿!G160))","v":""},{"$f":"IF(部員名簿!A160=\"\",\"\",MONTH(部員名簿!G160))","v":""},{"$f":"IF(部員名簿!A160=\"\",\"\",DAY(部員名簿!G160))","v":""},{"$f":"IF(部員名簿!A160=\"\",\"\",学校番号*100+部員名簿!H160)","v":""},{"$f":"IF(部員名簿!A160=\"\",\"\",部員名簿!C160)","v":""},{"$f":"IF(部員名簿!A160=\"\",\"\",部員名簿!D160)","v":""},{"$f":"IF(部員名簿!A160=\"\",\"\",部員名簿!E160)","v":""},{"$f":"IF(部員名簿!A160=\"\",\"\",部員名簿!F160)","v":""},{"$f":"IF(部員名簿!A160=\"\",\"\",部員名簿!I160)","v":""},{"$f":"IF(部員名簿!A160=\"\",\"\",部員名簿!B160)","v":""}]
[{"$f":"IF(部員名簿!A161=\"\",\"\",YEAR(部員名簿!G161))","v":""},{"$f":"IF(部員名簿!A161=\"\",\"\",MONTH(部員名簿!G161))","v":""},{"$f":"IF(部員名簿!A161=\"\",\"\",DAY(部員名簿!G161))","v":""},{"$f":"IF(部員名簿!A161=\"\",\"\",学校番号*100+部員名簿!H161)","v":""},{"$f":"IF(部員名簿!A161=\"\",\"\",部員名簿!C161)","v":""},{"$f":"IF(部員名簿!A161=\"\",\"\",部員名簿!D161)","v":""},{"$f":"IF(部員名簿!A161=\"\",\"\",部員名簿!E161)","v":""},{"$f":"IF(部員名簿!A161=\"\",\"\",部員名簿!F161)","v":""},{"$f":"IF(部員名簿!A161=\"\",\"\",部員名簿!I161)","v":""},{"$f":"IF(部員名簿!A161=\"\",\"\",部員名簿!B161)","v":""}]
[{"$f":"IF(部員名簿!A162=\"\",\"\",YEAR(部員名簿!G162))","v":""},{"$f":"IF(部員名簿!A162=\"\",\"\",MONTH(部員名簿!G162))","v":""},{"$f":"IF(部員名簿!A162=\"\",\"\",DAY(部員名簿!G162))","v":""},{"$f":"IF(部員名簿!A162=\"\",\"\",学校番号*100+部員名簿!H162)","v":""},{"$f":"IF(部員名簿!A162=\"\",\"\",部員名簿!C162)","v":""},{"$f":"IF(部員名簿!A162=\"\",\"\",部員名簿!D162)","v":""},{"$f":"IF(部員名簿!A162=\"\",\"\",部員名簿!E162)","v":""},{"$f":"IF(部員名簿!A162=\"\",\"\",部員名簿!F162)","v":""},{"$f":"IF(部員名簿!A162=\"\",\"\",部員名簿!I162)","v":""},{"$f":"IF(部員名簿!A162=\"\",\"\",部員名簿!B162)","v":""}]
[{"$f":"IF(部員名簿!A163=\"\",\"\",YEAR(部員名簿!G163))","v":""},{"$f":"IF(部員名簿!A163=\"\",\"\",MONTH(部員名簿!G163))","v":""},{"$f":"IF(部員名簿!A163=\"\",\"\",DAY(部員名簿!G163))","v":""},{"$f":"IF(部員名簿!A163=\"\",\"\",学校番号*100+部員名簿!H163)","v":""},{"$f":"IF(部員名簿!A163=\"\",\"\",部員名簿!C163)","v":""},{"$f":"IF(部員名簿!A163=\"\",\"\",部員名簿!D163)","v":""},{"$f":"IF(部員名簿!A163=\"\",\"\",部員名簿!E163)","v":""},{"$f":"IF(部員名簿!A163=\"\",\"\",部員名簿!F163)","v":""},{"$f":"IF(部員名簿!A163=\"\",\"\",部員名簿!I163)","v":""},{"$f":"IF(部員名簿!A163=\"\",\"\",部員名簿!B163)","v":""}]
[{"$f":"IF(部員名簿!A164=\"\",\"\",YEAR(部員名簿!G164))","v":""},{"$f":"IF(部員名簿!A164=\"\",\"\",MONTH(部員名簿!G164))","v":""},{"$f":"IF(部員名簿!A164=\"\",\"\",DAY(部員名簿!G164))","v":""},{"$f":"IF(部員名簿!A164=\"\",\"\",学校番号*100+部員名簿!H164)","v":""},{"$f":"IF(部員名簿!A164=\"\",\"\",部員名簿!C164)","v":""},{"$f":"IF(部員名簿!A164=\"\",\"\",部員名簿!D164)","v":""},{"$f":"IF(部員名簿!A164=\"\",\"\",部員名簿!E164)","v":""},{"$f":"IF(部員名簿!A164=\"\",\"\",部員名簿!F164)","v":""},{"$f":"IF(部員名簿!A164=\"\",\"\",部員名簿!I164)","v":""},{"$f":"IF(部員名簿!A164=\"\",\"\",部員名簿!B164)","v":""}]
[{"$f":"IF(部員名簿!A165=\"\",\"\",YEAR(部員名簿!G165))","v":""},{"$f":"IF(部員名簿!A165=\"\",\"\",MONTH(部員名簿!G165))","v":""},{"$f":"IF(部員名簿!A165=\"\",\"\",DAY(部員名簿!G165))","v":""},{"$f":"IF(部員名簿!A165=\"\",\"\",学校番号*100+部員名簿!H165)","v":""},{"$f":"IF(部員名簿!A165=\"\",\"\",部員名簿!C165)","v":""},{"$f":"IF(部員名簿!A165=\"\",\"\",部員名簿!D165)","v":""},{"$f":"IF(部員名簿!A165=\"\",\"\",部員名簿!E165)","v":""},{"$f":"IF(部員名簿!A165=\"\",\"\",部員名簿!F165)","v":""},{"$f":"IF(部員名簿!A165=\"\",\"\",部員名簿!I165)","v":""},{"$f":"IF(部員名簿!A165=\"\",\"\",部員名簿!B165)","v":""}]
[{"$f":"IF(部員名簿!A166=\"\",\"\",YEAR(部員名簿!G166))","v":""},{"$f":"IF(部員名簿!A166=\"\",\"\",MONTH(部員名簿!G166))","v":""},{"$f":"IF(部員名簿!A166=\"\",\"\",DAY(部員名簿!G166))","v":""},{"$f":"IF(部員名簿!A166=\"\",\"\",学校番号*100+部員名簿!H166)","v":""},{"$f":"IF(部員名簿!A166=\"\",\"\",部員名簿!C166)","v":""},{"$f":"IF(部員名簿!A166=\"\",\"\",部員名簿!D166)","v":""},{"$f":"IF(部員名簿!A166=\"\",\"\",部員名簿!E166)","v":""},{"$f":"IF(部員名簿!A166=\"\",\"\",部員名簿!F166)","v":""},{"$f":"IF(部員名簿!A166=\"\",\"\",部員名簿!I166)","v":""},{"$f":"IF(部員名簿!A166=\"\",\"\",部員名簿!B166)","v":""}]
[{"$f":"IF(部員名簿!A167=\"\",\"\",YEAR(部員名簿!G167))","v":""},{"$f":"IF(部員名簿!A167=\"\",\"\",MONTH(部員名簿!G167))","v":""},{"$f":"IF(部員名簿!A167=\"\",\"\",DAY(部員名簿!G167))","v":""},{"$f":"IF(部員名簿!A167=\"\",\"\",学校番号*100+部員名簿!H167)","v":""},{"$f":"IF(部員名簿!A167=\"\",\"\",部員名簿!C167)","v":""},{"$f":"IF(部員名簿!A167=\"\",\"\",部員名簿!D167)","v":""},{"$f":"IF(部員名簿!A167=\"\",\"\",部員名簿!E167)","v":""},{"$f":"IF(部員名簿!A167=\"\",\"\",部員名簿!F167)","v":""},{"$f":"IF(部員名簿!A167=\"\",\"\",部員名簿!I167)","v":""},{"$f":"IF(部員名簿!A167=\"\",\"\",部員名簿!B167)","v":""}]
[{"$f":"IF(部員名簿!A168=\"\",\"\",YEAR(部員名簿!G168))","v":""},{"$f":"IF(部員名簿!A168=\"\",\"\",MONTH(部員名簿!G168))","v":""},{"$f":"IF(部員名簿!A168=\"\",\"\",DAY(部員名簿!G168))","v":""},{"$f":"IF(部員名簿!A168=\"\",\"\",学校番号*100+部員名簿!H168)","v":""},{"$f":"IF(部員名簿!A168=\"\",\"\",部員名簿!C168)","v":""},{"$f":"IF(部員名簿!A168=\"\",\"\",部員名簿!D168)","v":""},{"$f":"IF(部員名簿!A168=\"\",\"\",部員名簿!E168)","v":""},{"$f":"IF(部員名簿!A168=\"\",\"\",部員名簿!F168)","v":""},{"$f":"IF(部員名簿!A168=\"\",\"\",部員名簿!I168)","v":""},{"$f":"IF(部員名簿!A168=\"\",\"\",部員名簿!B168)","v":""}]
[{"$f":"IF(部員名簿!A169=\"\",\"\",YEAR(部員名簿!G169))","v":""},{"$f":"IF(部員名簿!A169=\"\",\"\",MONTH(部員名簿!G169))","v":""},{"$f":"IF(部員名簿!A169=\"\",\"\",DAY(部員名簿!G169))","v":""},{"$f":"IF(部員名簿!A169=\"\",\"\",学校番号*100+部員名簿!H169)","v":""},{"$f":"IF(部員名簿!A169=\"\",\"\",部員名簿!C169)","v":""},{"$f":"IF(部員名簿!A169=\"\",\"\",部員名簿!D169)","v":""},{"$f":"IF(部員名簿!A169=\"\",\"\",部員名簿!E169)","v":""},{"$f":"IF(部員名簿!A169=\"\",\"\",部員名簿!F169)","v":""},{"$f":"IF(部員名簿!A169=\"\",\"\",部員名簿!I169)","v":""},{"$f":"IF(部員名簿!A169=\"\",\"\",部員名簿!B169)","v":""}]
[{"$f":"IF(部員名簿!A170=\"\",\"\",YEAR(部員名簿!G170))","v":""},{"$f":"IF(部員名簿!A170=\"\",\"\",MONTH(部員名簿!G170))","v":""},{"$f":"IF(部員名簿!A170=\"\",\"\",DAY(部員名簿!G170))","v":""},{"$f":"IF(部員名簿!A170=\"\",\"\",学校番号*100+部員名簿!H170)","v":""},{"$f":"IF(部員名簿!A170=\"\",\"\",部員名簿!C170)","v":""},{"$f":"IF(部員名簿!A170=\"\",\"\",部員名簿!D170)","v":""},{"$f":"IF(部員名簿!A170=\"\",\"\",部員名簿!E170)","v":""},{"$f":"IF(部員名簿!A170=\"\",\"\",部員名簿!F170)","v":""},{"$f":"IF(部員名簿!A170=\"\",\"\",部員名簿!I170)","v":""},{"$f":"IF(部員名簿!A170=\"\",\"\",部員名簿!B170)","v":""}]
[{"$f":"IF(部員名簿!A171=\"\",\"\",YEAR(部員名簿!G171))","v":""},{"$f":"IF(部員名簿!A171=\"\",\"\",MONTH(部員名簿!G171))","v":""},{"$f":"IF(部員名簿!A171=\"\",\"\",DAY(部員名簿!G171))","v":""},{"$f":"IF(部員名簿!A171=\"\",\"\",学校番号*100+部員名簿!H171)","v":""},{"$f":"IF(部員名簿!A171=\"\",\"\",部員名簿!C171)","v":""},{"$f":"IF(部員名簿!A171=\"\",\"\",部員名簿!D171)","v":""},{"$f":"IF(部員名簿!A171=\"\",\"\",部員名簿!E171)","v":""},{"$f":"IF(部員名簿!A171=\"\",\"\",部員名簿!F171)","v":""},{"$f":"IF(部員名簿!A171=\"\",\"\",部員名簿!I171)","v":""},{"$f":"IF(部員名簿!A171=\"\",\"\",部員名簿!B171)","v":""}]
[{"$f":"IF(部員名簿!A172=\"\",\"\",YEAR(部員名簿!G172))","v":""},{"$f":"IF(部員名簿!A172=\"\",\"\",MONTH(部員名簿!G172))","v":""},{"$f":"IF(部員名簿!A172=\"\",\"\",DAY(部員名簿!G172))","v":""},{"$f":"IF(部員名簿!A172=\"\",\"\",学校番号*100+部員名簿!H172)","v":""},{"$f":"IF(部員名簿!A172=\"\",\"\",部員名簿!C172)","v":""},{"$f":"IF(部員名簿!A172=\"\",\"\",部員名簿!D172)","v":""},{"$f":"IF(部員名簿!A172=\"\",\"\",部員名簿!E172)","v":""},{"$f":"IF(部員名簿!A172=\"\",\"\",部員名簿!F172)","v":""},{"$f":"IF(部員名簿!A172=\"\",\"\",部員名簿!I172)","v":""},{"$f":"IF(部員名簿!A172=\"\",\"\",部員名簿!B172)","v":""}]
[{"$f":"IF(部員名簿!A173=\"\",\"\",YEAR(部員名簿!G173))","v":""},{"$f":"IF(部員名簿!A173=\"\",\"\",MONTH(部員名簿!G173))","v":""},{"$f":"IF(部員名簿!A173=\"\",\"\",DAY(部員名簿!G173))","v":""},{"$f":"IF(部員名簿!A173=\"\",\"\",学校番号*100+部員名簿!H173)","v":""},{"$f":"IF(部員名簿!A173=\"\",\"\",部員名簿!C173)","v":""},{"$f":"IF(部員名簿!A173=\"\",\"\",部員名簿!D173)","v":""},{"$f":"IF(部員名簿!A173=\"\",\"\",部員名簿!E173)","v":""},{"$f":"IF(部員名簿!A173=\"\",\"\",部員名簿!F173)","v":""},{"$f":"IF(部員名簿!A173=\"\",\"\",部員名簿!I173)","v":""},{"$f":"IF(部員名簿!A173=\"\",\"\",部員名簿!B173)","v":""}]
[{"$f":"IF(部員名簿!A174=\"\",\"\",YEAR(部員名簿!G174))","v":""},{"$f":"IF(部員名簿!A174=\"\",\"\",MONTH(部員名簿!G174))","v":""},{"$f":"IF(部員名簿!A174=\"\",\"\",DAY(部員名簿!G174))","v":""},{"$f":"IF(部員名簿!A174=\"\",\"\",学校番号*100+部員名簿!H174)","v":""},{"$f":"IF(部員名簿!A174=\"\",\"\",部員名簿!C174)","v":""},{"$f":"IF(部員名簿!A174=\"\",\"\",部員名簿!D174)","v":""},{"$f":"IF(部員名簿!A174=\"\",\"\",部員名簿!E174)","v":""},{"$f":"IF(部員名簿!A174=\"\",\"\",部員名簿!F174)","v":""},{"$f":"IF(部員名簿!A174=\"\",\"\",部員名簿!I174)","v":""},{"$f":"IF(部員名簿!A174=\"\",\"\",部員名簿!B174)","v":""}]
[{"$f":"IF(部員名簿!A175=\"\",\"\",YEAR(部員名簿!G175))","v":""},{"$f":"IF(部員名簿!A175=\"\",\"\",MONTH(部員名簿!G175))","v":""},{"$f":"IF(部員名簿!A175=\"\",\"\",DAY(部員名簿!G175))","v":""},{"$f":"IF(部員名簿!A175=\"\",\"\",学校番号*100+部員名簿!H175)","v":""},{"$f":"IF(部員名簿!A175=\"\",\"\",部員名簿!C175)","v":""},{"$f":"IF(部員名簿!A175=\"\",\"\",部員名簿!D175)","v":""},{"$f":"IF(部員名簿!A175=\"\",\"\",部員名簿!E175)","v":""},{"$f":"IF(部員名簿!A175=\"\",\"\",部員名簿!F175)","v":""},{"$f":"IF(部員名簿!A175=\"\",\"\",部員名簿!I175)","v":""},{"$f":"IF(部員名簿!A175=\"\",\"\",部員名簿!B175)","v":""}]
[{"$f":"IF(部員名簿!A176=\"\",\"\",YEAR(部員名簿!G176))","v":""},{"$f":"IF(部員名簿!A176=\"\",\"\",MONTH(部員名簿!G176))","v":""},{"$f":"IF(部員名簿!A176=\"\",\"\",DAY(部員名簿!G176))","v":""},{"$f":"IF(部員名簿!A176=\"\",\"\",学校番号*100+部員名簿!H176)","v":""},{"$f":"IF(部員名簿!A176=\"\",\"\",部員名簿!C176)","v":""},{"$f":"IF(部員名簿!A176=\"\",\"\",部員名簿!D176)","v":""},{"$f":"IF(部員名簿!A176=\"\",\"\",部員名簿!E176)","v":""},{"$f":"IF(部員名簿!A176=\"\",\"\",部員名簿!F176)","v":""},{"$f":"IF(部員名簿!A176=\"\",\"\",部員名簿!I176)","v":""},{"$f":"IF(部員名簿!A176=\"\",\"\",部員名簿!B176)","v":""}]
[{"$f":"IF(部員名簿!A177=\"\",\"\",YEAR(部員名簿!G177))","v":""},{"$f":"IF(部員名簿!A177=\"\",\"\",MONTH(部員名簿!G177))","v":""},{"$f":"IF(部員名簿!A177=\"\",\"\",DAY(部員名簿!G177))","v":""},{"$f":"IF(部員名簿!A177=\"\",\"\",学校番号*100+部員名簿!H177)","v":""},{"$f":"IF(部員名簿!A177=\"\",\"\",部員名簿!C177)","v":""},{"$f":"IF(部員名簿!A177=\"\",\"\",部員名簿!D177)","v":""},{"$f":"IF(部員名簿!A177=\"\",\"\",部員名簿!E177)","v":""},{"$f":"IF(部員名簿!A177=\"\",\"\",部員名簿!F177)","v":""},{"$f":"IF(部員名簿!A177=\"\",\"\",部員名簿!I177)","v":""},{"$f":"IF(部員名簿!A177=\"\",\"\",部員名簿!B177)","v":""}]
[{"$f":"IF(部員名簿!A178=\"\",\"\",YEAR(部員名簿!G178))","v":""},{"$f":"IF(部員名簿!A178=\"\",\"\",MONTH(部員名簿!G178))","v":""},{"$f":"IF(部員名簿!A178=\"\",\"\",DAY(部員名簿!G178))","v":""},{"$f":"IF(部員名簿!A178=\"\",\"\",学校番号*100+部員名簿!H178)","v":""},{"$f":"IF(部員名簿!A178=\"\",\"\",部員名簿!C178)","v":""},{"$f":"IF(部員名簿!A178=\"\",\"\",部員名簿!D178)","v":""},{"$f":"IF(部員名簿!A178=\"\",\"\",部員名簿!E178)","v":""},{"$f":"IF(部員名簿!A178=\"\",\"\",部員名簿!F178)","v":""},{"$f":"IF(部員名簿!A178=\"\",\"\",部員名簿!I178)","v":""},{"$f":"IF(部員名簿!A178=\"\",\"\",部員名簿!B178)","v":""}]
[{"$f":"IF(部員名簿!A179=\"\",\"\",YEAR(部員名簿!G179))","v":""},{"$f":"IF(部員名簿!A179=\"\",\"\",MONTH(部員名簿!G179))","v":""},{"$f":"IF(部員名簿!A179=\"\",\"\",DAY(部員名簿!G179))","v":""},{"$f":"IF(部員名簿!A179=\"\",\"\",学校番号*100+部員名簿!H179)","v":""},{"$f":"IF(部員名簿!A179=\"\",\"\",部員名簿!C179)","v":""},{"$f":"IF(部員名簿!A179=\"\",\"\",部員名簿!D179)","v":""},{"$f":"IF(部員名簿!A179=\"\",\"\",部員名簿!E179)","v":""},{"$f":"IF(部員名簿!A179=\"\",\"\",部員名簿!F179)","v":""},{"$f":"IF(部員名簿!A179=\"\",\"\",部員名簿!I179)","v":""},{"$f":"IF(部員名簿!A179=\"\",\"\",部員名簿!B179)","v":""}]
[{"$f":"IF(部員名簿!A180=\"\",\"\",YEAR(部員名簿!G180))","v":""},{"$f":"IF(部員名簿!A180=\"\",\"\",MONTH(部員名簿!G180))","v":""},{"$f":"IF(部員名簿!A180=\"\",\"\",DAY(部員名簿!G180))","v":""},{"$f":"IF(部員名簿!A180=\"\",\"\",学校番号*100+部員名簿!H180)","v":""},{"$f":"IF(部員名簿!A180=\"\",\"\",部員名簿!C180)","v":""},{"$f":"IF(部員名簿!A180=\"\",\"\",部員名簿!D180)","v":""},{"$f":"IF(部員名簿!A180=\"\",\"\",部員名簿!E180)","v":""},{"$f":"IF(部員名簿!A180=\"\",\"\",部員名簿!F180)","v":""},{"$f":"IF(部員名簿!A180=\"\",\"\",部員名簿!I180)","v":""},{"$f":"IF(部員名簿!A180=\"\",\"\",部員名簿!B180)","v":""}]
[{"$f":"IF(部員名簿!A181=\"\",\"\",YEAR(部員名簿!G181))","v":""},{"$f":"IF(部員名簿!A181=\"\",\"\",MONTH(部員名簿!G181))","v":""},{"$f":"IF(部員名簿!A181=\"\",\"\",DAY(部員名簿!G181))","v":""},{"$f":"IF(部員名簿!A181=\"\",\"\",学校番号*100+部員名簿!H181)","v":""},{"$f":"IF(部員名簿!A181=\"\",\"\",部員名簿!C181)","v":""},{"$f":"IF(部員名簿!A181=\"\",\"\",部員名簿!D181)","v":""},{"$f":"IF(部員名簿!A181=\"\",\"\",部員名簿!E181)","v":""},{"$f":"IF(部員名簿!A181=\"\",\"\",部員名簿!F181)","v":""},{"$f":"IF(部員名簿!A181=\"\",\"\",部員名簿!I181)","v":""},{"$f":"IF(部員名簿!A181=\"\",\"\",部員名簿!B181)","v":""}]
[{"$f":"IF(部員名簿!A182=\"\",\"\",YEAR(部員名簿!G182))","v":""},{"$f":"IF(部員名簿!A182=\"\",\"\",MONTH(部員名簿!G182))","v":""},{"$f":"IF(部員名簿!A182=\"\",\"\",DAY(部員名簿!G182))","v":""},{"$f":"IF(部員名簿!A182=\"\",\"\",学校番号*100+部員名簿!H182)","v":""},{"$f":"IF(部員名簿!A182=\"\",\"\",部員名簿!C182)","v":""},{"$f":"IF(部員名簿!A182=\"\",\"\",部員名簿!D182)","v":""},{"$f":"IF(部員名簿!A182=\"\",\"\",部員名簿!E182)","v":""},{"$f":"IF(部員名簿!A182=\"\",\"\",部員名簿!F182)","v":""},{"$f":"IF(部員名簿!A182=\"\",\"\",部員名簿!I182)","v":""},{"$f":"IF(部員名簿!A182=\"\",\"\",部員名簿!B182)","v":""}]
[{"$f":"IF(部員名簿!A183=\"\",\"\",YEAR(部員名簿!G183))","v":""},{"$f":"IF(部員名簿!A183=\"\",\"\",MONTH(部員名簿!G183))","v":""},{"$f":"IF(部員名簿!A183=\"\",\"\",DAY(部員名簿!G183))","v":""},{"$f":"IF(部員名簿!A183=\"\",\"\",学校番号*100+部員名簿!H183)","v":""},{"$f":"IF(部員名簿!A183=\"\",\"\",部員名簿!C183)","v":""},{"$f":"IF(部員名簿!A183=\"\",\"\",部員名簿!D183)","v":""},{"$f":"IF(部員名簿!A183=\"\",\"\",部員名簿!E183)","v":""},{"$f":"IF(部員名簿!A183=\"\",\"\",部員名簿!F183)","v":""},{"$f":"IF(部員名簿!A183=\"\",\"\",部員名簿!I183)","v":""},{"$f":"IF(部員名簿!A183=\"\",\"\",部員名簿!B183)","v":""}]
[{"$f":"IF(部員名簿!A184=\"\",\"\",YEAR(部員名簿!G184))","v":""},{"$f":"IF(部員名簿!A184=\"\",\"\",MONTH(部員名簿!G184))","v":""},{"$f":"IF(部員名簿!A184=\"\",\"\",DAY(部員名簿!G184))","v":""},{"$f":"IF(部員名簿!A184=\"\",\"\",学校番号*100+部員名簿!H184)","v":""},{"$f":"IF(部員名簿!A184=\"\",\"\",部員名簿!C184)","v":""},{"$f":"IF(部員名簿!A184=\"\",\"\",部員名簿!D184)","v":""},{"$f":"IF(部員名簿!A184=\"\",\"\",部員名簿!E184)","v":""},{"$f":"IF(部員名簿!A184=\"\",\"\",部員名簿!F184)","v":""},{"$f":"IF(部員名簿!A184=\"\",\"\",部員名簿!I184)","v":""},{"$f":"IF(部員名簿!A184=\"\",\"\",部員名簿!B184)","v":""}]
[{"$f":"IF(部員名簿!A185=\"\",\"\",YEAR(部員名簿!G185))","v":""},{"$f":"IF(部員名簿!A185=\"\",\"\",MONTH(部員名簿!G185))","v":""},{"$f":"IF(部員名簿!A185=\"\",\"\",DAY(部員名簿!G185))","v":""},{"$f":"IF(部員名簿!A185=\"\",\"\",学校番号*100+部員名簿!H185)","v":""},{"$f":"IF(部員名簿!A185=\"\",\"\",部員名簿!C185)","v":""},{"$f":"IF(部員名簿!A185=\"\",\"\",部員名簿!D185)","v":""},{"$f":"IF(部員名簿!A185=\"\",\"\",部員名簿!E185)","v":""},{"$f":"IF(部員名簿!A185=\"\",\"\",部員名簿!F185)","v":""},{"$f":"IF(部員名簿!A185=\"\",\"\",部員名簿!I185)","v":""},{"$f":"IF(部員名簿!A185=\"\",\"\",部員名簿!B185)","v":""}]
[{"$f":"IF(部員名簿!A186=\"\",\"\",YEAR(部員名簿!G186))","v":""},{"$f":"IF(部員名簿!A186=\"\",\"\",MONTH(部員名簿!G186))","v":""},{"$f":"IF(部員名簿!A186=\"\",\"\",DAY(部員名簿!G186))","v":""},{"$f":"IF(部員名簿!A186=\"\",\"\",学校番号*100+部員名簿!H186)","v":""},{"$f":"IF(部員名簿!A186=\"\",\"\",部員名簿!C186)","v":""},{"$f":"IF(部員名簿!A186=\"\",\"\",部員名簿!D186)","v":""},{"$f":"IF(部員名簿!A186=\"\",\"\",部員名簿!E186)","v":""},{"$f":"IF(部員名簿!A186=\"\",\"\",部員名簿!F186)","v":""},{"$f":"IF(部員名簿!A186=\"\",\"\",部員名簿!I186)","v":""},{"$f":"IF(部員名簿!A186=\"\",\"\",部員名簿!B186)","v":""}]
[{"$f":"IF(部員名簿!A187=\"\",\"\",YEAR(部員名簿!G187))","v":""},{"$f":"IF(部員名簿!A187=\"\",\"\",MONTH(部員名簿!G187))","v":""},{"$f":"IF(部員名簿!A187=\"\",\"\",DAY(部員名簿!G187))","v":""},{"$f":"IF(部員名簿!A187=\"\",\"\",学校番号*100+部員名簿!H187)","v":""},{"$f":"IF(部員名簿!A187=\"\",\"\",部員名簿!C187)","v":""},{"$f":"IF(部員名簿!A187=\"\",\"\",部員名簿!D187)","v":""},{"$f":"IF(部員名簿!A187=\"\",\"\",部員名簿!E187)","v":""},{"$f":"IF(部員名簿!A187=\"\",\"\",部員名簿!F187)","v":""},{"$f":"IF(部員名簿!A187=\"\",\"\",部員名簿!I187)","v":""},{"$f":"IF(部員名簿!A187=\"\",\"\",部員名簿!B187)","v":""}]
[{"$f":"IF(部員名簿!A188=\"\",\"\",YEAR(部員名簿!G188))","v":""},{"$f":"IF(部員名簿!A188=\"\",\"\",MONTH(部員名簿!G188))","v":""},{"$f":"IF(部員名簿!A188=\"\",\"\",DAY(部員名簿!G188))","v":""},{"$f":"IF(部員名簿!A188=\"\",\"\",学校番号*100+部員名簿!H188)","v":""},{"$f":"IF(部員名簿!A188=\"\",\"\",部員名簿!C188)","v":""},{"$f":"IF(部員名簿!A188=\"\",\"\",部員名簿!D188)","v":""},{"$f":"IF(部員名簿!A188=\"\",\"\",部員名簿!E188)","v":""},{"$f":"IF(部員名簿!A188=\"\",\"\",部員名簿!F188)","v":""},{"$f":"IF(部員名簿!A188=\"\",\"\",部員名簿!I188)","v":""},{"$f":"IF(部員名簿!A188=\"\",\"\",部員名簿!B188)","v":""}]
[{"$f":"IF(部員名簿!A189=\"\",\"\",YEAR(部員名簿!G189))","v":""},{"$f":"IF(部員名簿!A189=\"\",\"\",MONTH(部員名簿!G189))","v":""},{"$f":"IF(部員名簿!A189=\"\",\"\",DAY(部員名簿!G189))","v":""},{"$f":"IF(部員名簿!A189=\"\",\"\",学校番号*100+部員名簿!H189)","v":""},{"$f":"IF(部員名簿!A189=\"\",\"\",部員名簿!C189)","v":""},{"$f":"IF(部員名簿!A189=\"\",\"\",部員名簿!D189)","v":""},{"$f":"IF(部員名簿!A189=\"\",\"\",部員名簿!E189)","v":""},{"$f":"IF(部員名簿!A189=\"\",\"\",部員名簿!F189)","v":""},{"$f":"IF(部員名簿!A189=\"\",\"\",部員名簿!I189)","v":""},{"$f":"IF(部員名簿!A189=\"\",\"\",部員名簿!B189)","v":""}]
[{"$f":"IF(部員名簿!A190=\"\",\"\",YEAR(部員名簿!G190))","v":""},{"$f":"IF(部員名簿!A190=\"\",\"\",MONTH(部員名簿!G190))","v":""},{"$f":"IF(部員名簿!A190=\"\",\"\",DAY(部員名簿!G190))","v":""},{"$f":"IF(部員名簿!A190=\"\",\"\",学校番号*100+部員名簿!H190)","v":""},{"$f":"IF(部員名簿!A190=\"\",\"\",部員名簿!C190)","v":""},{"$f":"IF(部員名簿!A190=\"\",\"\",部員名簿!D190)","v":""},{"$f":"IF(部員名簿!A190=\"\",\"\",部員名簿!E190)","v":""},{"$f":"IF(部員名簿!A190=\"\",\"\",部員名簿!F190)","v":""},{"$f":"IF(部員名簿!A190=\"\",\"\",部員名簿!I190)","v":""},{"$f":"IF(部員名簿!A190=\"\",\"\",部員名簿!B190)","v":""}]
[{"$f":"IF(部員名簿!A191=\"\",\"\",YEAR(部員名簿!G191))","v":""},{"$f":"IF(部員名簿!A191=\"\",\"\",MONTH(部員名簿!G191))","v":""},{"$f":"IF(部員名簿!A191=\"\",\"\",DAY(部員名簿!G191))","v":""},{"$f":"IF(部員名簿!A191=\"\",\"\",学校番号*100+部員名簿!H191)","v":""},{"$f":"IF(部員名簿!A191=\"\",\"\",部員名簿!C191)","v":""},{"$f":"IF(部員名簿!A191=\"\",\"\",部員名簿!D191)","v":""},{"$f":"IF(部員名簿!A191=\"\",\"\",部員名簿!E191)","v":""},{"$f":"IF(部員名簿!A191=\"\",\"\",部員名簿!F191)","v":""},{"$f":"IF(部員名簿!A191=\"\",\"\",部員名簿!I191)","v":""},{"$f":"IF(部員名簿!A191=\"\",\"\",部員名簿!B191)","v":""}]
[{"$f":"IF(部員名簿!A192=\"\",\"\",YEAR(部員名簿!G192))","v":""},{"$f":"IF(部員名簿!A192=\"\",\"\",MONTH(部員名簿!G192))","v":""},{"$f":"IF(部員名簿!A192=\"\",\"\",DAY(部員名簿!G192))","v":""},{"$f":"IF(部員名簿!A192=\"\",\"\",学校番号*100+部員名簿!H192)","v":""},{"$f":"IF(部員名簿!A192=\"\",\"\",部員名簿!C192)","v":""},{"$f":"IF(部員名簿!A192=\"\",\"\",部員名簿!D192)","v":""},{"$f":"IF(部員名簿!A192=\"\",\"\",部員名簿!E192)","v":""},{"$f":"IF(部員名簿!A192=\"\",\"\",部員名簿!F192)","v":""},{"$f":"IF(部員名簿!A192=\"\",\"\",部員名簿!I192)","v":""},{"$f":"IF(部員名簿!A192=\"\",\"\",部員名簿!B192)","v":""}]
[{"$f":"IF(部員名簿!A193=\"\",\"\",YEAR(部員名簿!G193))","v":""},{"$f":"IF(部員名簿!A193=\"\",\"\",MONTH(部員名簿!G193))","v":""},{"$f":"IF(部員名簿!A193=\"\",\"\",DAY(部員名簿!G193))","v":""},{"$f":"IF(部員名簿!A193=\"\",\"\",学校番号*100+部員名簿!H193)","v":""},{"$f":"IF(部員名簿!A193=\"\",\"\",部員名簿!C193)","v":""},{"$f":"IF(部員名簿!A193=\"\",\"\",部員名簿!D193)","v":""},{"$f":"IF(部員名簿!A193=\"\",\"\",部員名簿!E193)","v":""},{"$f":"IF(部員名簿!A193=\"\",\"\",部員名簿!F193)","v":""},{"$f":"IF(部員名簿!A193=\"\",\"\",部員名簿!I193)","v":""},{"$f":"IF(部員名簿!A193=\"\",\"\",部員名簿!B193)","v":""}]
[{"$f":"IF(部員名簿!A194=\"\",\"\",YEAR(部員名簿!G194))","v":""},{"$f":"IF(部員名簿!A194=\"\",\"\",MONTH(部員名簿!G194))","v":""},{"$f":"IF(部員名簿!A194=\"\",\"\",DAY(部員名簿!G194))","v":""},{"$f":"IF(部員名簿!A194=\"\",\"\",学校番号*100+部員名簿!H194)","v":""},{"$f":"IF(部員名簿!A194=\"\",\"\",部員名簿!C194)","v":""},{"$f":"IF(部員名簿!A194=\"\",\"\",部員名簿!D194)","v":""},{"$f":"IF(部員名簿!A194=\"\",\"\",部員名簿!E194)","v":""},{"$f":"IF(部員名簿!A194=\"\",\"\",部員名簿!F194)","v":""},{"$f":"IF(部員名簿!A194=\"\",\"\",部員名簿!I194)","v":""},{"$f":"IF(部員名簿!A194=\"\",\"\",部員名簿!B194)","v":""}]
[{"$f":"IF(部員名簿!A195=\"\",\"\",YEAR(部員名簿!G195))","v":""},{"$f":"IF(部員名簿!A195=\"\",\"\",MONTH(部員名簿!G195))","v":""},{"$f":"IF(部員名簿!A195=\"\",\"\",DAY(部員名簿!G195))","v":""},{"$f":"IF(部員名簿!A195=\"\",\"\",学校番号*100+部員名簿!H195)","v":""},{"$f":"IF(部員名簿!A195=\"\",\"\",部員名簿!C195)","v":""},{"$f":"IF(部員名簿!A195=\"\",\"\",部員名簿!D195)","v":""},{"$f":"IF(部員名簿!A195=\"\",\"\",部員名簿!E195)","v":""},{"$f":"IF(部員名簿!A195=\"\",\"\",部員名簿!F195)","v":""},{"$f":"IF(部員名簿!A195=\"\",\"\",部員名簿!I195)","v":""},{"$f":"IF(部員名簿!A195=\"\",\"\",部員名簿!B195)","v":""}]
[{"$f":"IF(部員名簿!A196=\"\",\"\",YEAR(部員名簿!G196))","v":""},{"$f":"IF(部員名簿!A196=\"\",\"\",MONTH(部員名簿!G196))","v":""},{"$f":"IF(部員名簿!A196=\"\",\"\",DAY(部員名簿!G196))","v":""},{"$f":"IF(部員名簿!A196=\"\",\"\",学校番号*100+部員名簿!H196)","v":""},{"$f":"IF(部員名簿!A196=\"\",\"\",部員名簿!C196)","v":""},{"$f":"IF(部員名簿!A196=\"\",\"\",部員名簿!D196)","v":""},{"$f":"IF(部員名簿!A196=\"\",\"\",部員名簿!E196)","v":""},{"$f":"IF(部員名簿!A196=\"\",\"\",部員名簿!F196)","v":""},{"$f":"IF(部員名簿!A196=\"\",\"\",部員名簿!I196)","v":""},{"$f":"IF(部員名簿!A196=\"\",\"\",部員名簿!B196)","v":""}]
[{"$f":"IF(部員名簿!A197=\"\",\"\",YEAR(部員名簿!G197))","v":""},{"$f":"IF(部員名簿!A197=\"\",\"\",MONTH(部員名簿!G197))","v":""},{"$f":"IF(部員名簿!A197=\"\",\"\",DAY(部員名簿!G197))","v":""},{"$f":"IF(部員名簿!A197=\"\",\"\",学校番号*100+部員名簿!H197)","v":""},{"$f":"IF(部員名簿!A197=\"\",\"\",部員名簿!C197)","v":""},{"$f":"IF(部員名簿!A197=\"\",\"\",部員名簿!D197)","v":""},{"$f":"IF(部員名簿!A197=\"\",\"\",部員名簿!E197)","v":""},{"$f":"IF(部員名簿!A197=\"\",\"\",部員名簿!F197)","v":""},{"$f":"IF(部員名簿!A197=\"\",\"\",部員名簿!I197)","v":""},{"$f":"IF(部員名簿!A197=\"\",\"\",部員名簿!B197)","v":""}]
[{"$f":"IF(部員名簿!A198=\"\",\"\",YEAR(部員名簿!G198))","v":""},{"$f":"IF(部員名簿!A198=\"\",\"\",MONTH(部員名簿!G198))","v":""},{"$f":"IF(部員名簿!A198=\"\",\"\",DAY(部員名簿!G198))","v":""},{"$f":"IF(部員名簿!A198=\"\",\"\",学校番号*100+部員名簿!H198)","v":""},{"$f":"IF(部員名簿!A198=\"\",\"\",部員名簿!C198)","v":""},{"$f":"IF(部員名簿!A198=\"\",\"\",部員名簿!D198)","v":""},{"$f":"IF(部員名簿!A198=\"\",\"\",部員名簿!E198)","v":""},{"$f":"IF(部員名簿!A198=\"\",\"\",部員名簿!F198)","v":""},{"$f":"IF(部員名簿!A198=\"\",\"\",部員名簿!I198)","v":""},{"$f":"IF(部員名簿!A198=\"\",\"\",部員名簿!B198)","v":""}]
[{"$f":"IF(部員名簿!A199=\"\",\"\",YEAR(部員名簿!G199))","v":""},{"$f":"IF(部員名簿!A199=\"\",\"\",MONTH(部員名簿!G199))","v":""},{"$f":"IF(部員名簿!A199=\"\",\"\",DAY(部員名簿!G199))","v":""},{"$f":"IF(部員名簿!A199=\"\",\"\",学校番号*100+部員名簿!H199)","v":""},{"$f":"IF(部員名簿!A199=\"\",\"\",部員名簿!C199)","v":""},{"$f":"IF(部員名簿!A199=\"\",\"\",部員名簿!D199)","v":""},{"$f":"IF(部員名簿!A199=\"\",\"\",部員名簿!E199)","v":""},{"$f":"IF(部員名簿!A199=\"\",\"\",部員名簿!F199)","v":""},{"$f":"IF(部員名簿!A199=\"\",\"\",部員名簿!I199)","v":""},{"$f":"IF(部員名簿!A199=\"\",\"\",部員名簿!B199)","v":""}]
[{"$f":"IF(部員名簿!A200=\"\",\"\",YEAR(部員名簿!G200))","v":""},{"$f":"IF(部員名簿!A200=\"\",\"\",MONTH(部員名簿!G200))","v":""},{"$f":"IF(部員名簿!A200=\"\",\"\",DAY(部員名簿!G200))","v":""},{"$f":"IF(部員名簿!A200=\"\",\"\",学校番号*100+部員名簿!H200)","v":""},{"$f":"IF(部員名簿!A200=\"\",\"\",部員名簿!C200)","v":""},{"$f":"IF(部員名簿!A200=\"\",\"\",部員名簿!D200)","v":""},{"$f":"IF(部員名簿!A200=\"\",\"\",部員名簿!E200)","v":""},{"$f":"IF(部員名簿!A200=\"\",\"\",部員名簿!F200)","v":""},{"$f":"IF(部員名簿!A200=\"\",\"\",部員名簿!I200)","v":""},{"$f":"IF(部員名簿!A200=\"\",\"\",部員名簿!B200)","v":""}]
[{"$f":"IF(部員名簿!A201=\"\",\"\",YEAR(部員名簿!G201))","v":""},{"$f":"IF(部員名簿!A201=\"\",\"\",MONTH(部員名簿!G201))","v":""},{"$f":"IF(部員名簿!A201=\"\",\"\",DAY(部員名簿!G201))","v":""},{"$f":"IF(部員名簿!A201=\"\",\"\",学校番号*100+部員名簿!H201)","v":""},{"$f":"IF(部員名簿!A201=\"\",\"\",部員名簿!C201)","v":""},{"$f":"IF(部員名簿!A201=\"\",\"\",部員名簿!D201)","v":""},{"$f":"IF(部員名簿!A201=\"\",\"\",部員名簿!E201)","v":""},{"$f":"IF(部員名簿!A201=\"\",\"\",部員名簿!F201)","v":""},{"$f":"IF(部員名簿!A201=\"\",\"\",部員名簿!I201)","v":""},{"$f":"IF(部員名簿!A201=\"\",\"\",部員名簿!B201)","v":""}]
[{"$f":"IF(部員名簿!A202=\"\",\"\",YEAR(部員名簿!G202))","v":""},{"$f":"IF(部員名簿!A202=\"\",\"\",MONTH(部員名簿!G202))","v":""},{"$f":"IF(部員名簿!A202=\"\",\"\",DAY(部員名簿!G202))","v":""},{"$f":"IF(部員名簿!A202=\"\",\"\",学校番号*100+部員名簿!H202)","v":""},{"$f":"IF(部員名簿!A202=\"\",\"\",部員名簿!C202)","v":""},{"$f":"IF(部員名簿!A202=\"\",\"\",部員名簿!D202)","v":""},{"$f":"IF(部員名簿!A202=\"\",\"\",部員名簿!E202)","v":""},{"$f":"IF(部員名簿!A202=\"\",\"\",部員名簿!F202)","v":""},{"$f":"IF(部員名簿!A202=\"\",\"\",部員名簿!I202)","v":""},{"$f":"IF(部員名簿!A202=\"\",\"\",部員名簿!B202)","v":""}]
[{"$f":"IF(部員名簿!A203=\"\",\"\",YEAR(部員名簿!G203))","v":""},{"$f":"IF(部員名簿!A203=\"\",\"\",MONTH(部員名簿!G203))","v":""},{"$f":"IF(部員名簿!A203=\"\",\"\",DAY(部員名簿!G203))","v":""},{"$f":"IF(部員名簿!A203=\"\",\"\",学校番号*100+部員名簿!H203)","v":""},{"$f":"IF(部員名簿!A203=\"\",\"\",部員名簿!C203)","v":""},{"$f":"IF(部員名簿!A203=\"\",\"\",部員名簿!D203)","v":""},{"$f":"IF(部員名簿!A203=\"\",\"\",部員名簿!E203)","v":""},{"$f":"IF(部員名簿!A203=\"\",\"\",部員名簿!F203)","v":""},{"$f":"IF(部員名簿!A203=\"\",\"\",部員名簿!I203)","v":""},{"$f":"IF(部員名簿!A203=\"\",\"\",部員名簿!B203)","v":""}]
[{"$f":"IF(部員名簿!A204=\"\",\"\",YEAR(部員名簿!G204))","v":""},{"$f":"IF(部員名簿!A204=\"\",\"\",MONTH(部員名簿!G204))","v":""},{"$f":"IF(部員名簿!A204=\"\",\"\",DAY(部員名簿!G204))","v":""},{"$f":"IF(部員名簿!A204=\"\",\"\",学校番号*100+部員名簿!H204)","v":""},{"$f":"IF(部員名簿!A204=\"\",\"\",部員名簿!C204)","v":""},{"$f":"IF(部員名簿!A204=\"\",\"\",部員名簿!D204)","v":""},{"$f":"IF(部員名簿!A204=\"\",\"\",部員名簿!E204)","v":""},{"$f":"IF(部員名簿!A204=\"\",\"\",部員名簿!F204)","v":""},{"$f":"IF(部員名簿!A204=\"\",\"\",部員名簿!I204)","v":""},{"$f":"IF(部員名簿!A204=\"\",\"\",部員名簿!B204)","v":""}]
[{"$f":"IF(部員名簿!A205=\"\",\"\",YEAR(部員名簿!G205))","v":""},{"$f":"IF(部員名簿!A205=\"\",\"\",MONTH(部員名簿!G205))","v":""},{"$f":"IF(部員名簿!A205=\"\",\"\",DAY(部員名簿!G205))","v":""},{"$f":"IF(部員名簿!A205=\"\",\"\",学校番号*100+部員名簿!H205)","v":""},{"$f":"IF(部員名簿!A205=\"\",\"\",部員名簿!C205)","v":""},{"$f":"IF(部員名簿!A205=\"\",\"\",部員名簿!D205)","v":""},{"$f":"IF(部員名簿!A205=\"\",\"\",部員名簿!E205)","v":""},{"$f":"IF(部員名簿!A205=\"\",\"\",部員名簿!F205)","v":""},{"$f":"IF(部員名簿!A205=\"\",\"\",部員名簿!I205)","v":""},{"$f":"IF(部員名簿!A205=\"\",\"\",部員名簿!B205)","v":""}]
[{"$f":"IF(部員名簿!A207=\"\",\"\",YEAR(部員名簿!G207))","v":""},{"$f":"IF(部員名簿!A207=\"\",\"\",MONTH(部員名簿!G207))","v":""},{"$f":"IF(部員名簿!A207=\"\",\"\",DAY(部員名簿!G207))","v":""},{"$f":"IF(部員名簿!A207=\"\",\"\",学校番号*100+部員名簿!H207)","v":""},{"$f":"IF(部員名簿!A207=\"\",\"\",部員名簿!C207)","v":""},{"$f":"IF(部員名簿!A207=\"\",\"\",部員名簿!D207)","v":""},{"$f":"IF(部員名簿!A207=\"\",\"\",部員名簿!E207)","v":""},{"$f":"IF(部員名簿!A207=\"\",\"\",部員名簿!F207)","v":""},{"$f":"IF(部員名簿!A207=\"\",\"\",部員名簿!I207)","v":""},{"$f":"IF(部員名簿!A207=\"\",\"\",部員名簿!B207)","v":""}]
[{"$f":"IF(部員名簿!A208=\"\",\"\",YEAR(部員名簿!G208))","v":""},{"$f":"IF(部員名簿!A208=\"\",\"\",MONTH(部員名簿!G208))","v":""},{"$f":"IF(部員名簿!A208=\"\",\"\",DAY(部員名簿!G208))","v":""},{"$f":"IF(部員名簿!A208=\"\",\"\",学校番号*100+部員名簿!H208)","v":""},{"$f":"IF(部員名簿!A208=\"\",\"\",部員名簿!C208)","v":""},{"$f":"IF(部員名簿!A208=\"\",\"\",部員名簿!D208)","v":""},{"$f":"IF(部員名簿!A208=\"\",\"\",部員名簿!E208)","v":""},{"$f":"IF(部員名簿!A208=\"\",\"\",部員名簿!F208)","v":""},{"$f":"IF(部員名簿!A208=\"\",\"\",部員名簿!I208)","v":""},{"$f":"IF(部員名簿!A208=\"\",\"\",部員名簿!B208)","v":""}]
[{"$f":"IF(部員名簿!A209=\"\",\"\",YEAR(部員名簿!G209))","v":""},{"$f":"IF(部員名簿!A209=\"\",\"\",MONTH(部員名簿!G209))","v":""},{"$f":"IF(部員名簿!A209=\"\",\"\",DAY(部員名簿!G209))","v":""},{"$f":"IF(部員名簿!A209=\"\",\"\",学校番号*100+部員名簿!H209)","v":""},{"$f":"IF(部員名簿!A209=\"\",\"\",部員名簿!C209)","v":""},{"$f":"IF(部員名簿!A209=\"\",\"\",部員名簿!D209)","v":""},{"$f":"IF(部員名簿!A209=\"\",\"\",部員名簿!E209)","v":""},{"$f":"IF(部員名簿!A209=\"\",\"\",部員名簿!F209)","v":""},{"$f":"IF(部員名簿!A209=\"\",\"\",部員名簿!I209)","v":""},{"$f":"IF(部員名簿!A209=\"\",\"\",部員名簿!B209)","v":""}]
[{"$f":"IF(部員名簿!A210=\"\",\"\",YEAR(部員名簿!G210))","v":""},{"$f":"IF(部員名簿!A210=\"\",\"\",MONTH(部員名簿!G210))","v":""},{"$f":"IF(部員名簿!A210=\"\",\"\",DAY(部員名簿!G210))","v":""},{"$f":"IF(部員名簿!A210=\"\",\"\",学校番号*100+部員名簿!H210)","v":""},{"$f":"IF(部員名簿!A210=\"\",\"\",部員名簿!C210)","v":""},{"$f":"IF(部員名簿!A210=\"\",\"\",部員名簿!D210)","v":""},{"$f":"IF(部員名簿!A210=\"\",\"\",部員名簿!E210)","v":""},{"$f":"IF(部員名簿!A210=\"\",\"\",部員名簿!F210)","v":""},{"$f":"IF(部員名簿!A210=\"\",\"\",部員名簿!I210)","v":""},{"$f":"IF(部員名簿!A210=\"\",\"\",部員名簿!B210)","v":""}]
[{"$f":"IF(部員名簿!A211=\"\",\"\",YEAR(部員名簿!G211))","v":""},{"$f":"IF(部員名簿!A211=\"\",\"\",MONTH(部員名簿!G211))","v":""},{"$f":"IF(部員名簿!A211=\"\",\"\",DAY(部員名簿!G211))","v":""},{"$f":"IF(部員名簿!A211=\"\",\"\",学校番号*100+部員名簿!H211)","v":""},{"$f":"IF(部員名簿!A211=\"\",\"\",部員名簿!C211)","v":""},{"$f":"IF(部員名簿!A211=\"\",\"\",部員名簿!D211)","v":""},{"$f":"IF(部員名簿!A211=\"\",\"\",部員名簿!E211)","v":""},{"$f":"IF(部員名簿!A211=\"\",\"\",部員名簿!F211)","v":""},{"$f":"IF(部員名簿!A211=\"\",\"\",部員名簿!I211)","v":""},{"$f":"IF(部員名簿!A211=\"\",\"\",部員名簿!B211)","v":""}]
[{"$f":"IF(部員名簿!A212=\"\",\"\",YEAR(部員名簿!G212))","v":""},{"$f":"IF(部員名簿!A212=\"\",\"\",MONTH(部員名簿!G212))","v":""},{"$f":"IF(部員名簿!A212=\"\",\"\",DAY(部員名簿!G212))","v":""},{"$f":"IF(部員名簿!A212=\"\",\"\",学校番号*100+部員名簿!H212)","v":""},{"$f":"IF(部員名簿!A212=\"\",\"\",部員名簿!C212)","v":""},{"$f":"IF(部員名簿!A212=\"\",\"\",部員名簿!D212)","v":""},{"$f":"IF(部員名簿!A212=\"\",\"\",部員名簿!E212)","v":""},{"$f":"IF(部員名簿!A212=\"\",\"\",部員名簿!F212)","v":""},{"$f":"IF(部員名簿!A212=\"\",\"\",部員名簿!I212)","v":""},{"$f":"IF(部員名簿!A212=\"\",\"\",部員名簿!B212)","v":""}]
[{"$f":"IF(部員名簿!A213=\"\",\"\",YEAR(部員名簿!G213))","v":""},{"$f":"IF(部員名簿!A213=\"\",\"\",MONTH(部員名簿!G213))","v":""},{"$f":"IF(部員名簿!A213=\"\",\"\",DAY(部員名簿!G213))","v":""},{"$f":"IF(部員名簿!A213=\"\",\"\",学校番号*100+部員名簿!H213)","v":""},{"$f":"IF(部員名簿!A213=\"\",\"\",部員名簿!C213)","v":""},{"$f":"IF(部員名簿!A213=\"\",\"\",部員名簿!D213)","v":""},{"$f":"IF(部員名簿!A213=\"\",\"\",部員名簿!E213)","v":""},{"$f":"IF(部員名簿!A213=\"\",\"\",部員名簿!F213)","v":""},{"$f":"IF(部員名簿!A213=\"\",\"\",部員名簿!I213)","v":""},{"$f":"IF(部員名簿!A213=\"\",\"\",部員名簿!B213)","v":""}]
[{"$f":"IF(部員名簿!A214=\"\",\"\",YEAR(部員名簿!G214))","v":""},{"$f":"IF(部員名簿!A214=\"\",\"\",MONTH(部員名簿!G214))","v":""},{"$f":"IF(部員名簿!A214=\"\",\"\",DAY(部員名簿!G214))","v":""},{"$f":"IF(部員名簿!A214=\"\",\"\",学校番号*100+部員名簿!H214)","v":""},{"$f":"IF(部員名簿!A214=\"\",\"\",部員名簿!C214)","v":""},{"$f":"IF(部員名簿!A214=\"\",\"\",部員名簿!D214)","v":""},{"$f":"IF(部員名簿!A214=\"\",\"\",部員名簿!E214)","v":""},{"$f":"IF(部員名簿!A214=\"\",\"\",部員名簿!F214)","v":""},{"$f":"IF(部員名簿!A214=\"\",\"\",部員名簿!I214)","v":""},{"$f":"IF(部員名簿!A214=\"\",\"\",部員名簿!B214)","v":""}]
[{"$f":"IF(部員名簿!A215=\"\",\"\",YEAR(部員名簿!G215))","v":""},{"$f":"IF(部員名簿!A215=\"\",\"\",MONTH(部員名簿!G215))","v":""},{"$f":"IF(部員名簿!A215=\"\",\"\",DAY(部員名簿!G215))","v":""},{"$f":"IF(部員名簿!A215=\"\",\"\",学校番号*100+部員名簿!H215)","v":""},{"$f":"IF(部員名簿!A215=\"\",\"\",部員名簿!C215)","v":""},{"$f":"IF(部員名簿!A215=\"\",\"\",部員名簿!D215)","v":""},{"$f":"IF(部員名簿!A215=\"\",\"\",部員名簿!E215)","v":""},{"$f":"IF(部員名簿!A215=\"\",\"\",部員名簿!F215)","v":""},{"$f":"IF(部員名簿!A215=\"\",\"\",部員名簿!I215)","v":""},{"$f":"IF(部員名簿!A215=\"\",\"\",部員名簿!B215)","v":""}]
[{"$f":"IF(部員名簿!A216=\"\",\"\",YEAR(部員名簿!G216))","v":""},{"$f":"IF(部員名簿!A216=\"\",\"\",MONTH(部員名簿!G216))","v":""},{"$f":"IF(部員名簿!A216=\"\",\"\",DAY(部員名簿!G216))","v":""},{"$f":"IF(部員名簿!A216=\"\",\"\",学校番号*100+部員名簿!H216)","v":""},{"$f":"IF(部員名簿!A216=\"\",\"\",部員名簿!C216)","v":""},{"$f":"IF(部員名簿!A216=\"\",\"\",部員名簿!D216)","v":""},{"$f":"IF(部員名簿!A216=\"\",\"\",部員名簿!E216)","v":""},{"$f":"IF(部員名簿!A216=\"\",\"\",部員名簿!F216)","v":""},{"$f":"IF(部員名簿!A216=\"\",\"\",部員名簿!I216)","v":""},{"$f":"IF(部員名簿!A216=\"\",\"\",部員名簿!B216)","v":""}]
[{"$f":"IF(部員名簿!A217=\"\",\"\",YEAR(部員名簿!G217))","v":""},{"$f":"IF(部員名簿!A217=\"\",\"\",MONTH(部員名簿!G217))","v":""},{"$f":"IF(部員名簿!A217=\"\",\"\",DAY(部員名簿!G217))","v":""},{"$f":"IF(部員名簿!A217=\"\",\"\",学校番号*100+部員名簿!H217)","v":""},{"$f":"IF(部員名簿!A217=\"\",\"\",部員名簿!C217)","v":""},{"$f":"IF(部員名簿!A217=\"\",\"\",部員名簿!D217)","v":""},{"$f":"IF(部員名簿!A217=\"\",\"\",部員名簿!E217)","v":""},{"$f":"IF(部員名簿!A217=\"\",\"\",部員名簿!F217)","v":""},{"$f":"IF(部員名簿!A217=\"\",\"\",部員名簿!I217)","v":""},{"$f":"IF(部員名簿!A217=\"\",\"\",部員名簿!B217)","v":""}]
[{"$f":"IF(部員名簿!A218=\"\",\"\",YEAR(部員名簿!G218))","v":""},{"$f":"IF(部員名簿!A218=\"\",\"\",MONTH(部員名簿!G218))","v":""},{"$f":"IF(部員名簿!A218=\"\",\"\",DAY(部員名簿!G218))","v":""},{"$f":"IF(部員名簿!A218=\"\",\"\",学校番号*100+部員名簿!H218)","v":""},{"$f":"IF(部員名簿!A218=\"\",\"\",部員名簿!C218)","v":""},{"$f":"IF(部員名簿!A218=\"\",\"\",部員名簿!D218)","v":""},{"$f":"IF(部員名簿!A218=\"\",\"\",部員名簿!E218)","v":""},{"$f":"IF(部員名簿!A218=\"\",\"\",部員名簿!F218)","v":""},{"$f":"IF(部員名簿!A218=\"\",\"\",部員名簿!I218)","v":""},{"$f":"IF(部員名簿!A218=\"\",\"\",部員名簿!B218)","v":""}]
[{"$f":"IF(部員名簿!A219=\"\",\"\",YEAR(部員名簿!G219))","v":""},{"$f":"IF(部員名簿!A219=\"\",\"\",MONTH(部員名簿!G219))","v":""},{"$f":"IF(部員名簿!A219=\"\",\"\",DAY(部員名簿!G219))","v":""},{"$f":"IF(部員名簿!A219=\"\",\"\",学校番号*100+部員名簿!H219)","v":""},{"$f":"IF(部員名簿!A219=\"\",\"\",部員名簿!C219)","v":""},{"$f":"IF(部員名簿!A219=\"\",\"\",部員名簿!D219)","v":""},{"$f":"IF(部員名簿!A219=\"\",\"\",部員名簿!E219)","v":""},{"$f":"IF(部員名簿!A219=\"\",\"\",部員名簿!F219)","v":""},{"$f":"IF(部員名簿!A219=\"\",\"\",部員名簿!I219)","v":""},{"$f":"IF(部員名簿!A219=\"\",\"\",部員名簿!B219)","v":""}]
[{"$f":"IF(部員名簿!A220=\"\",\"\",YEAR(部員名簿!G220))","v":""},{"$f":"IF(部員名簿!A220=\"\",\"\",MONTH(部員名簿!G220))","v":""},{"$f":"IF(部員名簿!A220=\"\",\"\",DAY(部員名簿!G220))","v":""},{"$f":"IF(部員名簿!A220=\"\",\"\",学校番号*100+部員名簿!H220)","v":""},{"$f":"IF(部員名簿!A220=\"\",\"\",部員名簿!C220)","v":""},{"$f":"IF(部員名簿!A220=\"\",\"\",部員名簿!D220)","v":""},{"$f":"IF(部員名簿!A220=\"\",\"\",部員名簿!E220)","v":""},{"$f":"IF(部員名簿!A220=\"\",\"\",部員名簿!F220)","v":""},{"$f":"IF(部員名簿!A220=\"\",\"\",部員名簿!I220)","v":""},{"$f":"IF(部員名簿!A220=\"\",\"\",部員名簿!B220)","v":""}]
[{"$f":"IF(部員名簿!A221=\"\",\"\",YEAR(部員名簿!G221))","v":""},{"$f":"IF(部員名簿!A221=\"\",\"\",MONTH(部員名簿!G221))","v":""},{"$f":"IF(部員名簿!A221=\"\",\"\",DAY(部員名簿!G221))","v":""},{"$f":"IF(部員名簿!A221=\"\",\"\",学校番号*100+部員名簿!H221)","v":""},{"$f":"IF(部員名簿!A221=\"\",\"\",部員名簿!C221)","v":""},{"$f":"IF(部員名簿!A221=\"\",\"\",部員名簿!D221)","v":""},{"$f":"IF(部員名簿!A221=\"\",\"\",部員名簿!E221)","v":""},{"$f":"IF(部員名簿!A221=\"\",\"\",部員名簿!F221)","v":""},{"$f":"IF(部員名簿!A221=\"\",\"\",部員名簿!I221)","v":""},{"$f":"IF(部員名簿!A221=\"\",\"\",部員名簿!B221)","v":""}]
[{"$f":"IF(部員名簿!A222=\"\",\"\",YEAR(部員名簿!G222))","v":""},{"$f":"IF(部員名簿!A222=\"\",\"\",MONTH(部員名簿!G222))","v":""},{"$f":"IF(部員名簿!A222=\"\",\"\",DAY(部員名簿!G222))","v":""},{"$f":"IF(部員名簿!A222=\"\",\"\",学校番号*100+部員名簿!H222)","v":""},{"$f":"IF(部員名簿!A222=\"\",\"\",部員名簿!C222)","v":""},{"$f":"IF(部員名簿!A222=\"\",\"\",部員名簿!D222)","v":""},{"$f":"IF(部員名簿!A222=\"\",\"\",部員名簿!E222)","v":""},{"$f":"IF(部員名簿!A222=\"\",\"\",部員名簿!F222)","v":""},{"$f":"IF(部員名簿!A222=\"\",\"\",部員名簿!I222)","v":""},{"$f":"IF(部員名簿!A222=\"\",\"\",部員名簿!B222)","v":""}]
[{"$f":"IF(部員名簿!A223=\"\",\"\",YEAR(部員名簿!G223))","v":""},{"$f":"IF(部員名簿!A223=\"\",\"\",MONTH(部員名簿!G223))","v":""},{"$f":"IF(部員名簿!A223=\"\",\"\",DAY(部員名簿!G223))","v":""},{"$f":"IF(部員名簿!A223=\"\",\"\",学校番号*100+部員名簿!H223)","v":""},{"$f":"IF(部員名簿!A223=\"\",\"\",部員名簿!C223)","v":""},{"$f":"IF(部員名簿!A223=\"\",\"\",部員名簿!D223)","v":""},{"$f":"IF(部員名簿!A223=\"\",\"\",部員名簿!E223)","v":""},{"$f":"IF(部員名簿!A223=\"\",\"\",部員名簿!F223)","v":""},{"$f":"IF(部員名簿!A223=\"\",\"\",部員名簿!I223)","v":""},{"$f":"IF(部員名簿!A223=\"\",\"\",部員名簿!B223)","v":""}]
[{"$f":"IF(部員名簿!A224=\"\",\"\",YEAR(部員名簿!G224))","v":""},{"$f":"IF(部員名簿!A224=\"\",\"\",MONTH(部員名簿!G224))","v":""},{"$f":"IF(部員名簿!A224=\"\",\"\",DAY(部員名簿!G224))","v":""},{"$f":"IF(部員名簿!A224=\"\",\"\",学校番号*100+部員名簿!H224)","v":""},{"$f":"IF(部員名簿!A224=\"\",\"\",部員名簿!C224)","v":""},{"$f":"IF(部員名簿!A224=\"\",\"\",部員名簿!D224)","v":""},{"$f":"IF(部員名簿!A224=\"\",\"\",部員名簿!E224)","v":""},{"$f":"IF(部員名簿!A224=\"\",\"\",部員名簿!F224)","v":""},{"$f":"IF(部員名簿!A224=\"\",\"\",部員名簿!I224)","v":""},{"$f":"IF(部員名簿!A224=\"\",\"\",部員名簿!B224)","v":""}]
[{"$f":"IF(部員名簿!A225=\"\",\"\",YEAR(部員名簿!G225))","v":""},{"$f":"IF(部員名簿!A225=\"\",\"\",MONTH(部員名簿!G225))","v":""},{"$f":"IF(部員名簿!A225=\"\",\"\",DAY(部員名簿!G225))","v":""},{"$f":"IF(部員名簿!A225=\"\",\"\",学校番号*100+部員名簿!H225)","v":""},{"$f":"IF(部員名簿!A225=\"\",\"\",部員名簿!C225)","v":""},{"$f":"IF(部員名簿!A225=\"\",\"\",部員名簿!D225)","v":""},{"$f":"IF(部員名簿!A225=\"\",\"\",部員名簿!E225)","v":""},{"$f":"IF(部員名簿!A225=\"\",\"\",部員名簿!F225)","v":""},{"$f":"IF(部員名簿!A225=\"\",\"\",部員名簿!I225)","v":""},{"$f":"IF(部員名簿!A225=\"\",\"\",部員名簿!B225)","v":""}]
[{"$f":"IF(部員名簿!A226=\"\",\"\",YEAR(部員名簿!G226))","v":""},{"$f":"IF(部員名簿!A226=\"\",\"\",MONTH(部員名簿!G226))","v":""},{"$f":"IF(部員名簿!A226=\"\",\"\",DAY(部員名簿!G226))","v":""},{"$f":"IF(部員名簿!A226=\"\",\"\",学校番号*100+部員名簿!H226)","v":""},{"$f":"IF(部員名簿!A226=\"\",\"\",部員名簿!C226)","v":""},{"$f":"IF(部員名簿!A226=\"\",\"\",部員名簿!D226)","v":""},{"$f":"IF(部員名簿!A226=\"\",\"\",部員名簿!E226)","v":""},{"$f":"IF(部員名簿!A226=\"\",\"\",部員名簿!F226)","v":""},{"$f":"IF(部員名簿!A226=\"\",\"\",部員名簿!I226)","v":""},{"$f":"IF(部員名簿!A226=\"\",\"\",部員名簿!B226)","v":""}]
[{"$f":"IF(部員名簿!A227=\"\",\"\",YEAR(部員名簿!G227))","v":""},{"$f":"IF(部員名簿!A227=\"\",\"\",MONTH(部員名簿!G227))","v":""},{"$f":"IF(部員名簿!A227=\"\",\"\",DAY(部員名簿!G227))","v":""},{"$f":"IF(部員名簿!A227=\"\",\"\",学校番号*100+部員名簿!H227)","v":""},{"$f":"IF(部員名簿!A227=\"\",\"\",部員名簿!C227)","v":""},{"$f":"IF(部員名簿!A227=\"\",\"\",部員名簿!D227)","v":""},{"$f":"IF(部員名簿!A227=\"\",\"\",部員名簿!E227)","v":""},{"$f":"IF(部員名簿!A227=\"\",\"\",部員名簿!F227)","v":""},{"$f":"IF(部員名簿!A227=\"\",\"\",部員名簿!I227)","v":""},{"$f":"IF(部員名簿!A227=\"\",\"\",部員名簿!B227)","v":""}]
[{"$f":"IF(部員名簿!A228=\"\",\"\",YEAR(部員名簿!G228))","v":""},{"$f":"IF(部員名簿!A228=\"\",\"\",MONTH(部員名簿!G228))","v":""},{"$f":"IF(部員名簿!A228=\"\",\"\",DAY(部員名簿!G228))","v":""},{"$f":"IF(部員名簿!A228=\"\",\"\",学校番号*100+部員名簿!H228)","v":""},{"$f":"IF(部員名簿!A228=\"\",\"\",部員名簿!C228)","v":""},{"$f":"IF(部員名簿!A228=\"\",\"\",部員名簿!D228)","v":""},{"$f":"IF(部員名簿!A228=\"\",\"\",部員名簿!E228)","v":""},{"$f":"IF(部員名簿!A228=\"\",\"\",部員名簿!F228)","v":""},{"$f":"IF(部員名簿!A228=\"\",\"\",部員名簿!I228)","v":""},{"$f":"IF(部員名簿!A228=\"\",\"\",部員名簿!B228)","v":""}]
[{"$f":"IF(部員名簿!A229=\"\",\"\",YEAR(部員名簿!G229))","v":""},{"$f":"IF(部員名簿!A229=\"\",\"\",MONTH(部員名簿!G229))","v":""},{"$f":"IF(部員名簿!A229=\"\",\"\",DAY(部員名簿!G229))","v":""},{"$f":"IF(部員名簿!A229=\"\",\"\",学校番号*100+部員名簿!H229)","v":""},{"$f":"IF(部員名簿!A229=\"\",\"\",部員名簿!C229)","v":""},{"$f":"IF(部員名簿!A229=\"\",\"\",部員名簿!D229)","v":""},{"$f":"IF(部員名簿!A229=\"\",\"\",部員名簿!E229)","v":""},{"$f":"IF(部員名簿!A229=\"\",\"\",部員名簿!F229)","v":""},{"$f":"IF(部員名簿!A229=\"\",\"\",部員名簿!I229)","v":""},{"$f":"IF(部員名簿!A229=\"\",\"\",部員名簿!B229)","v":""}]
[{"$f":"IF(部員名簿!A230=\"\",\"\",YEAR(部員名簿!G230))","v":""},{"$f":"IF(部員名簿!A230=\"\",\"\",MONTH(部員名簿!G230))","v":""},{"$f":"IF(部員名簿!A230=\"\",\"\",DAY(部員名簿!G230))","v":""},{"$f":"IF(部員名簿!A230=\"\",\"\",学校番号*100+部員名簿!H230)","v":""},{"$f":"IF(部員名簿!A230=\"\",\"\",部員名簿!C230)","v":""},{"$f":"IF(部員名簿!A230=\"\",\"\",部員名簿!D230)","v":""},{"$f":"IF(部員名簿!A230=\"\",\"\",部員名簿!E230)","v":""},{"$f":"IF(部員名簿!A230=\"\",\"\",部員名簿!F230)","v":""},{"$f":"IF(部員名簿!A230=\"\",\"\",部員名簿!I230)","v":""},{"$f":"IF(部員名簿!A230=\"\",\"\",部員名簿!B230)","v":""}]
[{"$f":"IF(部員名簿!A231=\"\",\"\",YEAR(部員名簿!G231))","v":""},{"$f":"IF(部員名簿!A231=\"\",\"\",MONTH(部員名簿!G231))","v":""},{"$f":"IF(部員名簿!A231=\"\",\"\",DAY(部員名簿!G231))","v":""},{"$f":"IF(部員名簿!A231=\"\",\"\",学校番号*100+部員名簿!H231)","v":""},{"$f":"IF(部員名簿!A231=\"\",\"\",部員名簿!C231)","v":""},{"$f":"IF(部員名簿!A231=\"\",\"\",部員名簿!D231)","v":""},{"$f":"IF(部員名簿!A231=\"\",\"\",部員名簿!E231)","v":""},{"$f":"IF(部員名簿!A231=\"\",\"\",部員名簿!F231)","v":""},{"$f":"IF(部員名簿!A231=\"\",\"\",部員名簿!I231)","v":""},{"$f":"IF(部員名簿!A231=\"\",\"\",部員名簿!B231)","v":""}]
[{"$f":"IF(部員名簿!A232=\"\",\"\",YEAR(部員名簿!G232))","v":""},{"$f":"IF(部員名簿!A232=\"\",\"\",MONTH(部員名簿!G232))","v":""},{"$f":"IF(部員名簿!A232=\"\",\"\",DAY(部員名簿!G232))","v":""},{"$f":"IF(部員名簿!A232=\"\",\"\",学校番号*100+部員名簿!H232)","v":""},{"$f":"IF(部員名簿!A232=\"\",\"\",部員名簿!C232)","v":""},{"$f":"IF(部員名簿!A232=\"\",\"\",部員名簿!D232)","v":""},{"$f":"IF(部員名簿!A232=\"\",\"\",部員名簿!E232)","v":""},{"$f":"IF(部員名簿!A232=\"\",\"\",部員名簿!F232)","v":""},{"$f":"IF(部員名簿!A232=\"\",\"\",部員名簿!I232)","v":""},{"$f":"IF(部員名簿!A232=\"\",\"\",部員名簿!B232)","v":""}]
[{"$f":"IF(部員名簿!A233=\"\",\"\",YEAR(部員名簿!G233))","v":""},{"$f":"IF(部員名簿!A233=\"\",\"\",MONTH(部員名簿!G233))","v":""},{"$f":"IF(部員名簿!A233=\"\",\"\",DAY(部員名簿!G233))","v":""},{"$f":"IF(部員名簿!A233=\"\",\"\",学校番号*100+部員名簿!H233)","v":""},{"$f":"IF(部員名簿!A233=\"\",\"\",部員名簿!C233)","v":""},{"$f":"IF(部員名簿!A233=\"\",\"\",部員名簿!D233)","v":""},{"$f":"IF(部員名簿!A233=\"\",\"\",部員名簿!E233)","v":""},{"$f":"IF(部員名簿!A233=\"\",\"\",部員名簿!F233)","v":""},{"$f":"IF(部員名簿!A233=\"\",\"\",部員名簿!I233)","v":""},{"$f":"IF(部員名簿!A233=\"\",\"\",部員名簿!B233)","v":""}]
[{"$f":"IF(部員名簿!A234=\"\",\"\",YEAR(部員名簿!G234))","v":""},{"$f":"IF(部員名簿!A234=\"\",\"\",MONTH(部員名簿!G234))","v":""},{"$f":"IF(部員名簿!A234=\"\",\"\",DAY(部員名簿!G234))","v":""},{"$f":"IF(部員名簿!A234=\"\",\"\",学校番号*100+部員名簿!H234)","v":""},{"$f":"IF(部員名簿!A234=\"\",\"\",部員名簿!C234)","v":""},{"$f":"IF(部員名簿!A234=\"\",\"\",部員名簿!D234)","v":""},{"$f":"IF(部員名簿!A234=\"\",\"\",部員名簿!E234)","v":""},{"$f":"IF(部員名簿!A234=\"\",\"\",部員名簿!F234)","v":""},{"$f":"IF(部員名簿!A234=\"\",\"\",部員名簿!I234)","v":""},{"$f":"IF(部員名簿!A234=\"\",\"\",部員名簿!B234)","v":""}]
[{"$f":"IF(部員名簿!A235=\"\",\"\",YEAR(部員名簿!G235))","v":""},{"$f":"IF(部員名簿!A235=\"\",\"\",MONTH(部員名簿!G235))","v":""},{"$f":"IF(部員名簿!A235=\"\",\"\",DAY(部員名簿!G235))","v":""},{"$f":"IF(部員名簿!A235=\"\",\"\",学校番号*100+部員名簿!H235)","v":""},{"$f":"IF(部員名簿!A235=\"\",\"\",部員名簿!C235)","v":""},{"$f":"IF(部員名簿!A235=\"\",\"\",部員名簿!D235)","v":""},{"$f":"IF(部員名簿!A235=\"\",\"\",部員名簿!E235)","v":""},{"$f":"IF(部員名簿!A235=\"\",\"\",部員名簿!F235)","v":""},{"$f":"IF(部員名簿!A235=\"\",\"\",部員名簿!I235)","v":""},{"$f":"IF(部員名簿!A235=\"\",\"\",部員名簿!B235)","v":""}]
[{"$f":"IF(部員名簿!A236=\"\",\"\",YEAR(部員名簿!G236))","v":""},{"$f":"IF(部員名簿!A236=\"\",\"\",MONTH(部員名簿!G236))","v":""},{"$f":"IF(部員名簿!A236=\"\",\"\",DAY(部員名簿!G236))","v":""},{"$f":"IF(部員名簿!A236=\"\",\"\",学校番号*100+部員名簿!H236)","v":""},{"$f":"IF(部員名簿!A236=\"\",\"\",部員名簿!C236)","v":""},{"$f":"IF(部員名簿!A236=\"\",\"\",部員名簿!D236)","v":""},{"$f":"IF(部員名簿!A236=\"\",\"\",部員名簿!E236)","v":""},{"$f":"IF(部員名簿!A236=\"\",\"\",部員名簿!F236)","v":""},{"$f":"IF(部員名簿!A236=\"\",\"\",部員名簿!I236)","v":""},{"$f":"IF(部員名簿!A236=\"\",\"\",部員名簿!B236)","v":""}]
[{"$f":"IF(部員名簿!A237=\"\",\"\",YEAR(部員名簿!G237))","v":""},{"$f":"IF(部員名簿!A237=\"\",\"\",MONTH(部員名簿!G237))","v":""},{"$f":"IF(部員名簿!A237=\"\",\"\",DAY(部員名簿!G237))","v":""},{"$f":"IF(部員名簿!A237=\"\",\"\",学校番号*100+部員名簿!H237)","v":""},{"$f":"IF(部員名簿!A237=\"\",\"\",部員名簿!C237)","v":""},{"$f":"IF(部員名簿!A237=\"\",\"\",部員名簿!D237)","v":""},{"$f":"IF(部員名簿!A237=\"\",\"\",部員名簿!E237)","v":""},{"$f":"IF(部員名簿!A237=\"\",\"\",部員名簿!F237)","v":""},{"$f":"IF(部員名簿!A237=\"\",\"\",部員名簿!I237)","v":""},{"$f":"IF(部員名簿!A237=\"\",\"\",部員名簿!B237)","v":""}]
[{"$f":"IF(部員名簿!A238=\"\",\"\",YEAR(部員名簿!G238))","v":""},{"$f":"IF(部員名簿!A238=\"\",\"\",MONTH(部員名簿!G238))","v":""},{"$f":"IF(部員名簿!A238=\"\",\"\",DAY(部員名簿!G238))","v":""},{"$f":"IF(部員名簿!A238=\"\",\"\",学校番号*100+部員名簿!H238)","v":""},{"$f":"IF(部員名簿!A238=\"\",\"\",部員名簿!C238)","v":""},{"$f":"IF(部員名簿!A238=\"\",\"\",部員名簿!D238)","v":""},{"$f":"IF(部員名簿!A238=\"\",\"\",部員名簿!E238)","v":""},{"$f":"IF(部員名簿!A238=\"\",\"\",部員名簿!F238)","v":""},{"$f":"IF(部員名簿!A238=\"\",\"\",部員名簿!I238)","v":""},{"$f":"IF(部員名簿!A238=\"\",\"\",部員名簿!B238)","v":""}]
[{"$f":"IF(部員名簿!A239=\"\",\"\",YEAR(部員名簿!G239))","v":""},{"$f":"IF(部員名簿!A239=\"\",\"\",MONTH(部員名簿!G239))","v":""},{"$f":"IF(部員名簿!A239=\"\",\"\",DAY(部員名簿!G239))","v":""},{"$f":"IF(部員名簿!A239=\"\",\"\",学校番号*100+部員名簿!H239)","v":""},{"$f":"IF(部員名簿!A239=\"\",\"\",部員名簿!C239)","v":""},{"$f":"IF(部員名簿!A239=\"\",\"\",部員名簿!D239)","v":""},{"$f":"IF(部員名簿!A239=\"\",\"\",部員名簿!E239)","v":""},{"$f":"IF(部員名簿!A239=\"\",\"\",部員名簿!F239)","v":""},{"$f":"IF(部員名簿!A239=\"\",\"\",部員名簿!I239)","v":""},{"$f":"IF(部員名簿!A239=\"\",\"\",部員名簿!B239)","v":""}]
[{"$f":"IF(部員名簿!A240=\"\",\"\",YEAR(部員名簿!G240))","v":""},{"$f":"IF(部員名簿!A240=\"\",\"\",MONTH(部員名簿!G240))","v":""},{"$f":"IF(部員名簿!A240=\"\",\"\",DAY(部員名簿!G240))","v":""},{"$f":"IF(部員名簿!A240=\"\",\"\",学校番号*100+部員名簿!H240)","v":""},{"$f":"IF(部員名簿!A240=\"\",\"\",部員名簿!C240)","v":""},{"$f":"IF(部員名簿!A240=\"\",\"\",部員名簿!D240)","v":""},{"$f":"IF(部員名簿!A240=\"\",\"\",部員名簿!E240)","v":""},{"$f":"IF(部員名簿!A240=\"\",\"\",部員名簿!F240)","v":""},{"$f":"IF(部員名簿!A240=\"\",\"\",部員名簿!I240)","v":""},{"$f":"IF(部員名簿!A240=\"\",\"\",部員名簿!B240)","v":""}]
[{"$f":"IF(部員名簿!A241=\"\",\"\",YEAR(部員名簿!G241))","v":""},{"$f":"IF(部員名簿!A241=\"\",\"\",MONTH(部員名簿!G241))","v":""},{"$f":"IF(部員名簿!A241=\"\",\"\",DAY(部員名簿!G241))","v":""},{"$f":"IF(部員名簿!A241=\"\",\"\",学校番号*100+部員名簿!H241)","v":""},{"$f":"IF(部員名簿!A241=\"\",\"\",部員名簿!C241)","v":""},{"$f":"IF(部員名簿!A241=\"\",\"\",部員名簿!D241)","v":""},{"$f":"IF(部員名簿!A241=\"\",\"\",部員名簿!E241)","v":""},{"$f":"IF(部員名簿!A241=\"\",\"\",部員名簿!F241)","v":""},{"$f":"IF(部員名簿!A241=\"\",\"\",部員名簿!I241)","v":""},{"$f":"IF(部員名簿!A241=\"\",\"\",部員名簿!B241)","v":""}]
[{"$f":"IF(部員名簿!A242=\"\",\"\",YEAR(部員名簿!G242))","v":""},{"$f":"IF(部員名簿!A242=\"\",\"\",MONTH(部員名簿!G242))","v":""},{"$f":"IF(部員名簿!A242=\"\",\"\",DAY(部員名簿!G242))","v":""},{"$f":"IF(部員名簿!A242=\"\",\"\",学校番号*100+部員名簿!H242)","v":""},{"$f":"IF(部員名簿!A242=\"\",\"\",部員名簿!C242)","v":""},{"$f":"IF(部員名簿!A242=\"\",\"\",部員名簿!D242)","v":""},{"$f":"IF(部員名簿!A242=\"\",\"\",部員名簿!E242)","v":""},{"$f":"IF(部員名簿!A242=\"\",\"\",部員名簿!F242)","v":""},{"$f":"IF(部員名簿!A242=\"\",\"\",部員名簿!I242)","v":""},{"$f":"IF(部員名簿!A242=\"\",\"\",部員名簿!B242)","v":""}]
[{"$f":"IF(部員名簿!A243=\"\",\"\",YEAR(部員名簿!G243))","v":""},{"$f":"IF(部員名簿!A243=\"\",\"\",MONTH(部員名簿!G243))","v":""},{"$f":"IF(部員名簿!A243=\"\",\"\",DAY(部員名簿!G243))","v":""},{"$f":"IF(部員名簿!A243=\"\",\"\",学校番号*100+部員名簿!H243)","v":""},{"$f":"IF(部員名簿!A243=\"\",\"\",部員名簿!C243)","v":""},{"$f":"IF(部員名簿!A243=\"\",\"\",部員名簿!D243)","v":""},{"$f":"IF(部員名簿!A243=\"\",\"\",部員名簿!E243)","v":""},{"$f":"IF(部員名簿!A243=\"\",\"\",部員名簿!F243)","v":""},{"$f":"IF(部員名簿!A243=\"\",\"\",部員名簿!I243)","v":""},{"$f":"IF(部員名簿!A243=\"\",\"\",部員名簿!B243)","v":""}]
[{"$f":"IF(部員名簿!A244=\"\",\"\",YEAR(部員名簿!G244))","v":""},{"$f":"IF(部員名簿!A244=\"\",\"\",MONTH(部員名簿!G244))","v":""},{"$f":"IF(部員名簿!A244=\"\",\"\",DAY(部員名簿!G244))","v":""},{"$f":"IF(部員名簿!A244=\"\",\"\",学校番号*100+部員名簿!H244)","v":""},{"$f":"IF(部員名簿!A244=\"\",\"\",部員名簿!C244)","v":""},{"$f":"IF(部員名簿!A244=\"\",\"\",部員名簿!D244)","v":""},{"$f":"IF(部員名簿!A244=\"\",\"\",部員名簿!E244)","v":""},{"$f":"IF(部員名簿!A244=\"\",\"\",部員名簿!F244)","v":""},{"$f":"IF(部員名簿!A244=\"\",\"\",部員名簿!I244)","v":""},{"$f":"IF(部員名簿!A244=\"\",\"\",部員名簿!B244)","v":""}]
[{"$f":"IF(部員名簿!A245=\"\",\"\",YEAR(部員名簿!G245))","v":""},{"$f":"IF(部員名簿!A245=\"\",\"\",MONTH(部員名簿!G245))","v":""},{"$f":"IF(部員名簿!A245=\"\",\"\",DAY(部員名簿!G245))","v":""},{"$f":"IF(部員名簿!A245=\"\",\"\",学校番号*100+部員名簿!H245)","v":""},{"$f":"IF(部員名簿!A245=\"\",\"\",部員名簿!C245)","v":""},{"$f":"IF(部員名簿!A245=\"\",\"\",部員名簿!D245)","v":""},{"$f":"IF(部員名簿!A245=\"\",\"\",部員名簿!E245)","v":""},{"$f":"IF(部員名簿!A245=\"\",\"\",部員名簿!F245)","v":""},{"$f":"IF(部員名簿!A245=\"\",\"\",部員名簿!I245)","v":""},{"$f":"IF(部員名簿!A245=\"\",\"\",部員名簿!B245)","v":""}]
[{"$f":"IF(部員名簿!A246=\"\",\"\",YEAR(部員名簿!G246))","v":""},{"$f":"IF(部員名簿!A246=\"\",\"\",MONTH(部員名簿!G246))","v":""},{"$f":"IF(部員名簿!A246=\"\",\"\",DAY(部員名簿!G246))","v":""},{"$f":"IF(部員名簿!A246=\"\",\"\",学校番号*100+部員名簿!H246)","v":""},{"$f":"IF(部員名簿!A246=\"\",\"\",部員名簿!C246)","v":""},{"$f":"IF(部員名簿!A246=\"\",\"\",部員名簿!D246)","v":""},{"$f":"IF(部員名簿!A246=\"\",\"\",部員名簿!E246)","v":""},{"$f":"IF(部員名簿!A246=\"\",\"\",部員名簿!F246)","v":""},{"$f":"IF(部員名簿!A246=\"\",\"\",部員名簿!I246)","v":""},{"$f":"IF(部員名簿!A246=\"\",\"\",部員名簿!B246)","v":""}]
[{"$f":"IF(部員名簿!A247=\"\",\"\",YEAR(部員名簿!G247))","v":""},{"$f":"IF(部員名簿!A247=\"\",\"\",MONTH(部員名簿!G247))","v":""},{"$f":"IF(部員名簿!A247=\"\",\"\",DAY(部員名簿!G247))","v":""},{"$f":"IF(部員名簿!A247=\"\",\"\",学校番号*100+部員名簿!H247)","v":""},{"$f":"IF(部員名簿!A247=\"\",\"\",部員名簿!C247)","v":""},{"$f":"IF(部員名簿!A247=\"\",\"\",部員名簿!D247)","v":""},{"$f":"IF(部員名簿!A247=\"\",\"\",部員名簿!E247)","v":""},{"$f":"IF(部員名簿!A247=\"\",\"\",部員名簿!F247)","v":""},{"$f":"IF(部員名簿!A247=\"\",\"\",部員名簿!I247)","v":""},{"$f":"IF(部員名簿!A247=\"\",\"\",部員名簿!B247)","v":""}]
[{"$f":"IF(部員名簿!A248=\"\",\"\",YEAR(部員名簿!G248))","v":""},{"$f":"IF(部員名簿!A248=\"\",\"\",MONTH(部員名簿!G248))","v":""},{"$f":"IF(部員名簿!A248=\"\",\"\",DAY(部員名簿!G248))","v":""},{"$f":"IF(部員名簿!A248=\"\",\"\",学校番号*100+部員名簿!H248)","v":""},{"$f":"IF(部員名簿!A248=\"\",\"\",部員名簿!C248)","v":""},{"$f":"IF(部員名簿!A248=\"\",\"\",部員名簿!D248)","v":""},{"$f":"IF(部員名簿!A248=\"\",\"\",部員名簿!E248)","v":""},{"$f":"IF(部員名簿!A248=\"\",\"\",部員名簿!F248)","v":""},{"$f":"IF(部員名簿!A248=\"\",\"\",部員名簿!I248)","v":""},{"$f":"IF(部員名簿!A248=\"\",\"\",部員名簿!B248)","v":""}]
[{"$f":"IF(部員名簿!A249=\"\",\"\",YEAR(部員名簿!G249))","v":""},{"$f":"IF(部員名簿!A249=\"\",\"\",MONTH(部員名簿!G249))","v":""},{"$f":"IF(部員名簿!A249=\"\",\"\",DAY(部員名簿!G249))","v":""},{"$f":"IF(部員名簿!A249=\"\",\"\",学校番号*100+部員名簿!H249)","v":""},{"$f":"IF(部員名簿!A249=\"\",\"\",部員名簿!C249)","v":""},{"$f":"IF(部員名簿!A249=\"\",\"\",部員名簿!D249)","v":""},{"$f":"IF(部員名簿!A249=\"\",\"\",部員名簿!E249)","v":""},{"$f":"IF(部員名簿!A249=\"\",\"\",部員名簿!F249)","v":""},{"$f":"IF(部員名簿!A249=\"\",\"\",部員名簿!I249)","v":""},{"$f":"IF(部員名簿!A249=\"\",\"\",部員名簿!B249)","v":""}]
[{"$f":"IF(部員名簿!A250=\"\",\"\",YEAR(部員名簿!G250))","v":""},{"$f":"IF(部員名簿!A250=\"\",\"\",MONTH(部員名簿!G250))","v":""},{"$f":"IF(部員名簿!A250=\"\",\"\",DAY(部員名簿!G250))","v":""},{"$f":"IF(部員名簿!A250=\"\",\"\",学校番号*100+部員名簿!H250)","v":""},{"$f":"IF(部員名簿!A250=\"\",\"\",部員名簿!C250)","v":""},{"$f":"IF(部員名簿!A250=\"\",\"\",部員名簿!D250)","v":""},{"$f":"IF(部員名簿!A250=\"\",\"\",部員名簿!E250)","v":""},{"$f":"IF(部員名簿!A250=\"\",\"\",部員名簿!F250)","v":""},{"$f":"IF(部員名簿!A250=\"\",\"\",部員名簿!I250)","v":""},{"$f":"IF(部員名簿!A250=\"\",\"\",部員名簿!B250)","v":""}]
[{"$f":"IF(部員名簿!A251=\"\",\"\",YEAR(部員名簿!G251))","v":""},{"$f":"IF(部員名簿!A251=\"\",\"\",MONTH(部員名簿!G251))","v":""},{"$f":"IF(部員名簿!A251=\"\",\"\",DAY(部員名簿!G251))","v":""},{"$f":"IF(部員名簿!A251=\"\",\"\",学校番号*100+部員名簿!H251)","v":""},{"$f":"IF(部員名簿!A251=\"\",\"\",部員名簿!C251)","v":""},{"$f":"IF(部員名簿!A251=\"\",\"\",部員名簿!D251)","v":""},{"$f":"IF(部員名簿!A251=\"\",\"\",部員名簿!E251)","v":""},{"$f":"IF(部員名簿!A251=\"\",\"\",部員名簿!F251)","v":""},{"$f":"IF(部員名簿!A251=\"\",\"\",部員名簿!I251)","v":""},{"$f":"IF(部員名簿!A251=\"\",\"\",部員名簿!B251)","v":""}]
[{"$f":"IF(部員名簿!A252=\"\",\"\",YEAR(部員名簿!G252))","v":""},{"$f":"IF(部員名簿!A252=\"\",\"\",MONTH(部員名簿!G252))","v":""},{"$f":"IF(部員名簿!A252=\"\",\"\",DAY(部員名簿!G252))","v":""},{"$f":"IF(部員名簿!A252=\"\",\"\",学校番号*100+部員名簿!H252)","v":""},{"$f":"IF(部員名簿!A252=\"\",\"\",部員名簿!C252)","v":""},{"$f":"IF(部員名簿!A252=\"\",\"\",部員名簿!D252)","v":""},{"$f":"IF(部員名簿!A252=\"\",\"\",部員名簿!E252)","v":""},{"$f":"IF(部員名簿!A252=\"\",\"\",部員名簿!F252)","v":""},{"$f":"IF(部員名簿!A252=\"\",\"\",部員名簿!I252)","v":""},{"$f":"IF(部員名簿!A252=\"\",\"\",部員名簿!B252)","v":""}]
[{"$f":"IF(部員名簿!A253=\"\",\"\",YEAR(部員名簿!G253))","v":""},{"$f":"IF(部員名簿!A253=\"\",\"\",MONTH(部員名簿!G253))","v":""},{"$f":"IF(部員名簿!A253=\"\",\"\",DAY(部員名簿!G253))","v":""},{"$f":"IF(部員名簿!A253=\"\",\"\",学校番号*100+部員名簿!H253)","v":""},{"$f":"IF(部員名簿!A253=\"\",\"\",部員名簿!C253)","v":""},{"$f":"IF(部員名簿!A253=\"\",\"\",部員名簿!D253)","v":""},{"$f":"IF(部員名簿!A253=\"\",\"\",部員名簿!E253)","v":""},{"$f":"IF(部員名簿!A253=\"\",\"\",部員名簿!F253)","v":""},{"$f":"IF(部員名簿!A253=\"\",\"\",部員名簿!I253)","v":""},{"$f":"IF(部員名簿!A253=\"\",\"\",部員名簿!B253)","v":""}]
[{"$f":"IF(部員名簿!A254=\"\",\"\",YEAR(部員名簿!G254))","v":""},{"$f":"IF(部員名簿!A254=\"\",\"\",MONTH(部員名簿!G254))","v":""},{"$f":"IF(部員名簿!A254=\"\",\"\",DAY(部員名簿!G254))","v":""},{"$f":"IF(部員名簿!A254=\"\",\"\",学校番号*100+部員名簿!H254)","v":""},{"$f":"IF(部員名簿!A254=\"\",\"\",部員名簿!C254)","v":""},{"$f":"IF(部員名簿!A254=\"\",\"\",部員名簿!D254)","v":""},{"$f":"IF(部員名簿!A254=\"\",\"\",部員名簿!E254)","v":""},{"$f":"IF(部員名簿!A254=\"\",\"\",部員名簿!F254)","v":""},{"$f":"IF(部員名簿!A254=\"\",\"\",部員名簿!I254)","v":""},{"$f":"IF(部員名簿!A254=\"\",\"\",部員名簿!B254)","v":""}]
[{"$f":"IF(部員名簿!A255=\"\",\"\",YEAR(部員名簿!G255))","v":""},{"$f":"IF(部員名簿!A255=\"\",\"\",MONTH(部員名簿!G255))","v":""},{"$f":"IF(部員名簿!A255=\"\",\"\",DAY(部員名簿!G255))","v":""},{"$f":"IF(部員名簿!A255=\"\",\"\",学校番号*100+部員名簿!H255)","v":""},{"$f":"IF(部員名簿!A255=\"\",\"\",部員名簿!C255)","v":""},{"$f":"IF(部員名簿!A255=\"\",\"\",部員名簿!D255)","v":""},{"$f":"IF(部員名簿!A255=\"\",\"\",部員名簿!E255)","v":""},{"$f":"IF(部員名簿!A255=\"\",\"\",部員名簿!F255)","v":""},{"$f":"IF(部員名簿!A255=\"\",\"\",部員名簿!I255)","v":""},{"$f":"IF(部員名簿!A255=\"\",\"\",部員名簿!B255)","v":""}]
[{"$f":"IF(部員名簿!A256=\"\",\"\",YEAR(部員名簿!G256))","v":""},{"$f":"IF(部員名簿!A256=\"\",\"\",MONTH(部員名簿!G256))","v":""},{"$f":"IF(部員名簿!A256=\"\",\"\",DAY(部員名簿!G256))","v":""},{"$f":"IF(部員名簿!A256=\"\",\"\",学校番号*100+部員名簿!H256)","v":""},{"$f":"IF(部員名簿!A256=\"\",\"\",部員名簿!C256)","v":""},{"$f":"IF(部員名簿!A256=\"\",\"\",部員名簿!D256)","v":""},{"$f":"IF(部員名簿!A256=\"\",\"\",部員名簿!E256)","v":""},{"$f":"IF(部員名簿!A256=\"\",\"\",部員名簿!F256)","v":""},{"$f":"IF(部員名簿!A256=\"\",\"\",部員名簿!I256)","v":""},{"$f":"IF(部員名簿!A256=\"\",\"\",部員名簿!B256)","v":""}]
[{"$f":"IF(部員名簿!A257=\"\",\"\",YEAR(部員名簿!G257))","v":""},{"$f":"IF(部員名簿!A257=\"\",\"\",MONTH(部員名簿!G257))","v":""},{"$f":"IF(部員名簿!A257=\"\",\"\",DAY(部員名簿!G257))","v":""},{"$f":"IF(部員名簿!A257=\"\",\"\",学校番号*100+部員名簿!H257)","v":""},{"$f":"IF(部員名簿!A257=\"\",\"\",部員名簿!C257)","v":""},{"$f":"IF(部員名簿!A257=\"\",\"\",部員名簿!D257)","v":""},{"$f":"IF(部員名簿!A257=\"\",\"\",部員名簿!E257)","v":""},{"$f":"IF(部員名簿!A257=\"\",\"\",部員名簿!F257)","v":""},{"$f":"IF(部員名簿!A257=\"\",\"\",部員名簿!I257)","v":""},{"$f":"IF(部員名簿!A257=\"\",\"\",部員名簿!B257)","v":""}]
[{"$f":"IF(部員名簿!A258=\"\",\"\",YEAR(部員名簿!G258))","v":""},{"$f":"IF(部員名簿!A258=\"\",\"\",MONTH(部員名簿!G258))","v":""},{"$f":"IF(部員名簿!A258=\"\",\"\",DAY(部員名簿!G258))","v":""},{"$f":"IF(部員名簿!A258=\"\",\"\",学校番号*100+部員名簿!H258)","v":""},{"$f":"IF(部員名簿!A258=\"\",\"\",部員名簿!C258)","v":""},{"$f":"IF(部員名簿!A258=\"\",\"\",部員名簿!D258)","v":""},{"$f":"IF(部員名簿!A258=\"\",\"\",部員名簿!E258)","v":""},{"$f":"IF(部員名簿!A258=\"\",\"\",部員名簿!F258)","v":""},{"$f":"IF(部員名簿!A258=\"\",\"\",部員名簿!I258)","v":""},{"$f":"IF(部員名簿!A258=\"\",\"\",部員名簿!B258)","v":""}]
[{"$f":"IF(部員名簿!A259=\"\",\"\",YEAR(部員名簿!G259))","v":""},{"$f":"IF(部員名簿!A259=\"\",\"\",MONTH(部員名簿!G259))","v":""},{"$f":"IF(部員名簿!A259=\"\",\"\",DAY(部員名簿!G259))","v":""},{"$f":"IF(部員名簿!A259=\"\",\"\",学校番号*100+部員名簿!H259)","v":""},{"$f":"IF(部員名簿!A259=\"\",\"\",部員名簿!C259)","v":""},{"$f":"IF(部員名簿!A259=\"\",\"\",部員名簿!D259)","v":""},{"$f":"IF(部員名簿!A259=\"\",\"\",部員名簿!E259)","v":""},{"$f":"IF(部員名簿!A259=\"\",\"\",部員名簿!F259)","v":""},{"$f":"IF(部員名簿!A259=\"\",\"\",部員名簿!I259)","v":""},{"$f":"IF(部員名簿!A259=\"\",\"\",部員名簿!B259)","v":""}]
[{"$f":"IF(部員名簿!A260=\"\",\"\",YEAR(部員名簿!G260))","v":""},{"$f":"IF(部員名簿!A260=\"\",\"\",MONTH(部員名簿!G260))","v":""},{"$f":"IF(部員名簿!A260=\"\",\"\",DAY(部員名簿!G260))","v":""},{"$f":"IF(部員名簿!A260=\"\",\"\",学校番号*100+部員名簿!H260)","v":""},{"$f":"IF(部員名簿!A260=\"\",\"\",部員名簿!C260)","v":""},{"$f":"IF(部員名簿!A260=\"\",\"\",部員名簿!D260)","v":""},{"$f":"IF(部員名簿!A260=\"\",\"\",部員名簿!E260)","v":""},{"$f":"IF(部員名簿!A260=\"\",\"\",部員名簿!F260)","v":""},{"$f":"IF(部員名簿!A260=\"\",\"\",部員名簿!I260)","v":""},{"$f":"IF(部員名簿!A260=\"\",\"\",部員名簿!B260)","v":""}]
[{"$f":"IF(部員名簿!A261=\"\",\"\",YEAR(部員名簿!G261))","v":""},{"$f":"IF(部員名簿!A261=\"\",\"\",MONTH(部員名簿!G261))","v":""},{"$f":"IF(部員名簿!A261=\"\",\"\",DAY(部員名簿!G261))","v":""},{"$f":"IF(部員名簿!A261=\"\",\"\",学校番号*100+部員名簿!H261)","v":""},{"$f":"IF(部員名簿!A261=\"\",\"\",部員名簿!C261)","v":""},{"$f":"IF(部員名簿!A261=\"\",\"\",部員名簿!D261)","v":""},{"$f":"IF(部員名簿!A261=\"\",\"\",部員名簿!E261)","v":""},{"$f":"IF(部員名簿!A261=\"\",\"\",部員名簿!F261)","v":""},{"$f":"IF(部員名簿!A261=\"\",\"\",部員名簿!I261)","v":""},{"$f":"IF(部員名簿!A261=\"\",\"\",部員名簿!B261)","v":""}]
[{"$f":"IF(部員名簿!A262=\"\",\"\",YEAR(部員名簿!G262))","v":""},{"$f":"IF(部員名簿!A262=\"\",\"\",MONTH(部員名簿!G262))","v":""},{"$f":"IF(部員名簿!A262=\"\",\"\",DAY(部員名簿!G262))","v":""},{"$f":"IF(部員名簿!A262=\"\",\"\",学校番号*100+部員名簿!H262)","v":""},{"$f":"IF(部員名簿!A262=\"\",\"\",部員名簿!C262)","v":""},{"$f":"IF(部員名簿!A262=\"\",\"\",部員名簿!D262)","v":""},{"$f":"IF(部員名簿!A262=\"\",\"\",部員名簿!E262)","v":""},{"$f":"IF(部員名簿!A262=\"\",\"\",部員名簿!F262)","v":""},{"$f":"IF(部員名簿!A262=\"\",\"\",部員名簿!I262)","v":""},{"$f":"IF(部員名簿!A262=\"\",\"\",部員名簿!B262)","v":""}]
[{"$f":"IF(部員名簿!A263=\"\",\"\",YEAR(部員名簿!G263))","v":""},{"$f":"IF(部員名簿!A263=\"\",\"\",MONTH(部員名簿!G263))","v":""},{"$f":"IF(部員名簿!A263=\"\",\"\",DAY(部員名簿!G263))","v":""},{"$f":"IF(部員名簿!A263=\"\",\"\",学校番号*100+部員名簿!H263)","v":""},{"$f":"IF(部員名簿!A263=\"\",\"\",部員名簿!C263)","v":""},{"$f":"IF(部員名簿!A263=\"\",\"\",部員名簿!D263)","v":""},{"$f":"IF(部員名簿!A263=\"\",\"\",部員名簿!E263)","v":""},{"$f":"IF(部員名簿!A263=\"\",\"\",部員名簿!F263)","v":""},{"$f":"IF(部員名簿!A263=\"\",\"\",部員名簿!I263)","v":""},{"$f":"IF(部員名簿!A263=\"\",\"\",部員名簿!B263)","v":""}]
[{"$f":"IF(部員名簿!A264=\"\",\"\",YEAR(部員名簿!G264))","v":""},{"$f":"IF(部員名簿!A264=\"\",\"\",MONTH(部員名簿!G264))","v":""},{"$f":"IF(部員名簿!A264=\"\",\"\",DAY(部員名簿!G264))","v":""},{"$f":"IF(部員名簿!A264=\"\",\"\",学校番号*100+部員名簿!H264)","v":""},{"$f":"IF(部員名簿!A264=\"\",\"\",部員名簿!C264)","v":""},{"$f":"IF(部員名簿!A264=\"\",\"\",部員名簿!D264)","v":""},{"$f":"IF(部員名簿!A264=\"\",\"\",部員名簿!E264)","v":""},{"$f":"IF(部員名簿!A264=\"\",\"\",部員名簿!F264)","v":""},{"$f":"IF(部員名簿!A264=\"\",\"\",部員名簿!I264)","v":""},{"$f":"IF(部員名簿!A264=\"\",\"\",部員名簿!B264)","v":""}]
[{"$f":"IF(部員名簿!A265=\"\",\"\",YEAR(部員名簿!G265))","v":""},{"$f":"IF(部員名簿!A265=\"\",\"\",MONTH(部員名簿!G265))","v":""},{"$f":"IF(部員名簿!A265=\"\",\"\",DAY(部員名簿!G265))","v":""},{"$f":"IF(部員名簿!A265=\"\",\"\",学校番号*100+部員名簿!H265)","v":""},{"$f":"IF(部員名簿!A265=\"\",\"\",部員名簿!C265)","v":""},{"$f":"IF(部員名簿!A265=\"\",\"\",部員名簿!D265)","v":""},{"$f":"IF(部員名簿!A265=\"\",\"\",部員名簿!E265)","v":""},{"$f":"IF(部員名簿!A265=\"\",\"\",部員名簿!F265)","v":""},{"$f":"IF(部員名簿!A265=\"\",\"\",部員名簿!I265)","v":""},{"$f":"IF(部員名簿!A265=\"\",\"\",部員名簿!B265)","v":""}]
[{"$f":"IF(部員名簿!A266=\"\",\"\",YEAR(部員名簿!G266))","v":""},{"$f":"IF(部員名簿!A266=\"\",\"\",MONTH(部員名簿!G266))","v":""},{"$f":"IF(部員名簿!A266=\"\",\"\",DAY(部員名簿!G266))","v":""},{"$f":"IF(部員名簿!A266=\"\",\"\",学校番号*100+部員名簿!H266)","v":""},{"$f":"IF(部員名簿!A266=\"\",\"\",部員名簿!C266)","v":""},{"$f":"IF(部員名簿!A266=\"\",\"\",部員名簿!D266)","v":""},{"$f":"IF(部員名簿!A266=\"\",\"\",部員名簿!E266)","v":""},{"$f":"IF(部員名簿!A266=\"\",\"\",部員名簿!F266)","v":""},{"$f":"IF(部員名簿!A266=\"\",\"\",部員名簿!I266)","v":""},{"$f":"IF(部員名簿!A266=\"\",\"\",部員名簿!B266)","v":""}]
[{"$f":"IF(部員名簿!A267=\"\",\"\",YEAR(部員名簿!G267))","v":""},{"$f":"IF(部員名簿!A267=\"\",\"\",MONTH(部員名簿!G267))","v":""},{"$f":"IF(部員名簿!A267=\"\",\"\",DAY(部員名簿!G267))","v":""},{"$f":"IF(部員名簿!A267=\"\",\"\",学校番号*100+部員名簿!H267)","v":""},{"$f":"IF(部員名簿!A267=\"\",\"\",部員名簿!C267)","v":""},{"$f":"IF(部員名簿!A267=\"\",\"\",部員名簿!D267)","v":""},{"$f":"IF(部員名簿!A267=\"\",\"\",部員名簿!E267)","v":""},{"$f":"IF(部員名簿!A267=\"\",\"\",部員名簿!F267)","v":""},{"$f":"IF(部員名簿!A267=\"\",\"\",部員名簿!I267)","v":""},{"$f":"IF(部員名簿!A267=\"\",\"\",部員名簿!B267)","v":""}]
[{"$f":"IF(部員名簿!A268=\"\",\"\",YEAR(部員名簿!G268))","v":""},{"$f":"IF(部員名簿!A268=\"\",\"\",MONTH(部員名簿!G268))","v":""},{"$f":"IF(部員名簿!A268=\"\",\"\",DAY(部員名簿!G268))","v":""},{"$f":"IF(部員名簿!A268=\"\",\"\",学校番号*100+部員名簿!H268)","v":""},{"$f":"IF(部員名簿!A268=\"\",\"\",部員名簿!C268)","v":""},{"$f":"IF(部員名簿!A268=\"\",\"\",部員名簿!D268)","v":""},{"$f":"IF(部員名簿!A268=\"\",\"\",部員名簿!E268)","v":""},{"$f":"IF(部員名簿!A268=\"\",\"\",部員名簿!F268)","v":""},{"$f":"IF(部員名簿!A268=\"\",\"\",部員名簿!I268)","v":""},{"$f":"IF(部員名簿!A268=\"\",\"\",部員名簿!B268)","v":""}]
[{"$f":"IF(部員名簿!A269=\"\",\"\",YEAR(部員名簿!G269))","v":""},{"$f":"IF(部員名簿!A269=\"\",\"\",MONTH(部員名簿!G269))","v":""},{"$f":"IF(部員名簿!A269=\"\",\"\",DAY(部員名簿!G269))","v":""},{"$f":"IF(部員名簿!A269=\"\",\"\",学校番号*100+部員名簿!H269)","v":""},{"$f":"IF(部員名簿!A269=\"\",\"\",部員名簿!C269)","v":""},{"$f":"IF(部員名簿!A269=\"\",\"\",部員名簿!D269)","v":""},{"$f":"IF(部員名簿!A269=\"\",\"\",部員名簿!E269)","v":""},{"$f":"IF(部員名簿!A269=\"\",\"\",部員名簿!F269)","v":""},{"$f":"IF(部員名簿!A269=\"\",\"\",部員名簿!I269)","v":""},{"$f":"IF(部員名簿!A269=\"\",\"\",部員名簿!B269)","v":""}]
[{"$f":"IF(部員名簿!A270=\"\",\"\",YEAR(部員名簿!G270))","v":""},{"$f":"IF(部員名簿!A270=\"\",\"\",MONTH(部員名簿!G270))","v":""},{"$f":"IF(部員名簿!A270=\"\",\"\",DAY(部員名簿!G270))","v":""},{"$f":"IF(部員名簿!A270=\"\",\"\",学校番号*100+部員名簿!H270)","v":""},{"$f":"IF(部員名簿!A270=\"\",\"\",部員名簿!C270)","v":""},{"$f":"IF(部員名簿!A270=\"\",\"\",部員名簿!D270)","v":""},{"$f":"IF(部員名簿!A270=\"\",\"\",部員名簿!E270)","v":""},{"$f":"IF(部員名簿!A270=\"\",\"\",部員名簿!F270)","v":""},{"$f":"IF(部員名簿!A270=\"\",\"\",部員名簿!I270)","v":""},{"$f":"IF(部員名簿!A270=\"\",\"\",部員名簿!B270)","v":""}]
[{"$f":"IF(部員名簿!A271=\"\",\"\",YEAR(部員名簿!G271))","v":""},{"$f":"IF(部員名簿!A271=\"\",\"\",MONTH(部員名簿!G271))","v":""},{"$f":"IF(部員名簿!A271=\"\",\"\",DAY(部員名簿!G271))","v":""},{"$f":"IF(部員名簿!A271=\"\",\"\",学校番号*100+部員名簿!H271)","v":""},{"$f":"IF(部員名簿!A271=\"\",\"\",部員名簿!C271)","v":""},{"$f":"IF(部員名簿!A271=\"\",\"\",部員名簿!D271)","v":""},{"$f":"IF(部員名簿!A271=\"\",\"\",部員名簿!E271)","v":""},{"$f":"IF(部員名簿!A271=\"\",\"\",部員名簿!F271)","v":""},{"$f":"IF(部員名簿!A271=\"\",\"\",部員名簿!I271)","v":""},{"$f":"IF(部員名簿!A271=\"\",\"\",部員名簿!B271)","v":""}]
[{"$f":"IF(部員名簿!A272=\"\",\"\",YEAR(部員名簿!G272))","v":""},{"$f":"IF(部員名簿!A272=\"\",\"\",MONTH(部員名簿!G272))","v":""},{"$f":"IF(部員名簿!A272=\"\",\"\",DAY(部員名簿!G272))","v":""},{"$f":"IF(部員名簿!A272=\"\",\"\",学校番号*100+部員名簿!H272)","v":""},{"$f":"IF(部員名簿!A272=\"\",\"\",部員名簿!C272)","v":""},{"$f":"IF(部員名簿!A272=\"\",\"\",部員名簿!D272)","v":""},{"$f":"IF(部員名簿!A272=\"\",\"\",部員名簿!E272)","v":""},{"$f":"IF(部員名簿!A272=\"\",\"\",部員名簿!F272)","v":""},{"$f":"IF(部員名簿!A272=\"\",\"\",部員名簿!I272)","v":""},{"$f":"IF(部員名簿!A272=\"\",\"\",部員名簿!B272)","v":""}]
[{"$f":"IF(部員名簿!A273=\"\",\"\",YEAR(部員名簿!G273))","v":""},{"$f":"IF(部員名簿!A273=\"\",\"\",MONTH(部員名簿!G273))","v":""},{"$f":"IF(部員名簿!A273=\"\",\"\",DAY(部員名簿!G273))","v":""},{"$f":"IF(部員名簿!A273=\"\",\"\",学校番号*100+部員名簿!H273)","v":""},{"$f":"IF(部員名簿!A273=\"\",\"\",部員名簿!C273)","v":""},{"$f":"IF(部員名簿!A273=\"\",\"\",部員名簿!D273)","v":""},{"$f":"IF(部員名簿!A273=\"\",\"\",部員名簿!E273)","v":""},{"$f":"IF(部員名簿!A273=\"\",\"\",部員名簿!F273)","v":""},{"$f":"IF(部員名簿!A273=\"\",\"\",部員名簿!I273)","v":""},{"$f":"IF(部員名簿!A273=\"\",\"\",部員名簿!B273)","v":""}]
[{"$f":"IF(部員名簿!A274=\"\",\"\",YEAR(部員名簿!G274))","v":""},{"$f":"IF(部員名簿!A274=\"\",\"\",MONTH(部員名簿!G274))","v":""},{"$f":"IF(部員名簿!A274=\"\",\"\",DAY(部員名簿!G274))","v":""},{"$f":"IF(部員名簿!A274=\"\",\"\",学校番号*100+部員名簿!H274)","v":""},{"$f":"IF(部員名簿!A274=\"\",\"\",部員名簿!C274)","v":""},{"$f":"IF(部員名簿!A274=\"\",\"\",部員名簿!D274)","v":""},{"$f":"IF(部員名簿!A274=\"\",\"\",部員名簿!E274)","v":""},{"$f":"IF(部員名簿!A274=\"\",\"\",部員名簿!F274)","v":""},{"$f":"IF(部員名簿!A274=\"\",\"\",部員名簿!I274)","v":""},{"$f":"IF(部員名簿!A274=\"\",\"\",部員名簿!B274)","v":""}]
[{"$f":"IF(部員名簿!A275=\"\",\"\",YEAR(部員名簿!G275))","v":""},{"$f":"IF(部員名簿!A275=\"\",\"\",MONTH(部員名簿!G275))","v":""},{"$f":"IF(部員名簿!A275=\"\",\"\",DAY(部員名簿!G275))","v":""},{"$f":"IF(部員名簿!A275=\"\",\"\",学校番号*100+部員名簿!H275)","v":""},{"$f":"IF(部員名簿!A275=\"\",\"\",部員名簿!C275)","v":""},{"$f":"IF(部員名簿!A275=\"\",\"\",部員名簿!D275)","v":""},{"$f":"IF(部員名簿!A275=\"\",\"\",部員名簿!E275)","v":""},{"$f":"IF(部員名簿!A275=\"\",\"\",部員名簿!F275)","v":""},{"$f":"IF(部員名簿!A275=\"\",\"\",部員名簿!I275)","v":""},{"$f":"IF(部員名簿!A275=\"\",\"\",部員名簿!B275)","v":""}]
[{"$f":"IF(部員名簿!A276=\"\",\"\",YEAR(部員名簿!G276))","v":""},{"$f":"IF(部員名簿!A276=\"\",\"\",MONTH(部員名簿!G276))","v":""},{"$f":"IF(部員名簿!A276=\"\",\"\",DAY(部員名簿!G276))","v":""},{"$f":"IF(部員名簿!A276=\"\",\"\",学校番号*100+部員名簿!H276)","v":""},{"$f":"IF(部員名簿!A276=\"\",\"\",部員名簿!C276)","v":""},{"$f":"IF(部員名簿!A276=\"\",\"\",部員名簿!D276)","v":""},{"$f":"IF(部員名簿!A276=\"\",\"\",部員名簿!E276)","v":""},{"$f":"IF(部員名簿!A276=\"\",\"\",部員名簿!F276)","v":""},{"$f":"IF(部員名簿!A276=\"\",\"\",部員名簿!I276)","v":""},{"$f":"IF(部員名簿!A276=\"\",\"\",部員名簿!B276)","v":""}]
[{"$f":"IF(部員名簿!A277=\"\",\"\",YEAR(部員名簿!G277))","v":""},{"$f":"IF(部員名簿!A277=\"\",\"\",MONTH(部員名簿!G277))","v":""},{"$f":"IF(部員名簿!A277=\"\",\"\",DAY(部員名簿!G277))","v":""},{"$f":"IF(部員名簿!A277=\"\",\"\",学校番号*100+部員名簿!H277)","v":""},{"$f":"IF(部員名簿!A277=\"\",\"\",部員名簿!C277)","v":""},{"$f":"IF(部員名簿!A277=\"\",\"\",部員名簿!D277)","v":""},{"$f":"IF(部員名簿!A277=\"\",\"\",部員名簿!E277)","v":""},{"$f":"IF(部員名簿!A277=\"\",\"\",部員名簿!F277)","v":""},{"$f":"IF(部員名簿!A277=\"\",\"\",部員名簿!I277)","v":""},{"$f":"IF(部員名簿!A277=\"\",\"\",部員名簿!B277)","v":""}]
[{"$f":"IF(部員名簿!A278=\"\",\"\",YEAR(部員名簿!G278))","v":""},{"$f":"IF(部員名簿!A278=\"\",\"\",MONTH(部員名簿!G278))","v":""},{"$f":"IF(部員名簿!A278=\"\",\"\",DAY(部員名簿!G278))","v":""},{"$f":"IF(部員名簿!A278=\"\",\"\",学校番号*100+部員名簿!H278)","v":""},{"$f":"IF(部員名簿!A278=\"\",\"\",部員名簿!C278)","v":""},{"$f":"IF(部員名簿!A278=\"\",\"\",部員名簿!D278)","v":""},{"$f":"IF(部員名簿!A278=\"\",\"\",部員名簿!E278)","v":""},{"$f":"IF(部員名簿!A278=\"\",\"\",部員名簿!F278)","v":""},{"$f":"IF(部員名簿!A278=\"\",\"\",部員名簿!I278)","v":""},{"$f":"IF(部員名簿!A278=\"\",\"\",部員名簿!B278)","v":""}]
[{"$f":"IF(部員名簿!A279=\"\",\"\",YEAR(部員名簿!G279))","v":""},{"$f":"IF(部員名簿!A279=\"\",\"\",MONTH(部員名簿!G279))","v":""},{"$f":"IF(部員名簿!A279=\"\",\"\",DAY(部員名簿!G279))","v":""},{"$f":"IF(部員名簿!A279=\"\",\"\",学校番号*100+部員名簿!H279)","v":""},{"$f":"IF(部員名簿!A279=\"\",\"\",部員名簿!C279)","v":""},{"$f":"IF(部員名簿!A279=\"\",\"\",部員名簿!D279)","v":""},{"$f":"IF(部員名簿!A279=\"\",\"\",部員名簿!E279)","v":""},{"$f":"IF(部員名簿!A279=\"\",\"\",部員名簿!F279)","v":""},{"$f":"IF(部員名簿!A279=\"\",\"\",部員名簿!I279)","v":""},{"$f":"IF(部員名簿!A279=\"\",\"\",部員名簿!B279)","v":""}]
[{"$f":"IF(部員名簿!A280=\"\",\"\",YEAR(部員名簿!G280))","v":""},{"$f":"IF(部員名簿!A280=\"\",\"\",MONTH(部員名簿!G280))","v":""},{"$f":"IF(部員名簿!A280=\"\",\"\",DAY(部員名簿!G280))","v":""},{"$f":"IF(部員名簿!A280=\"\",\"\",学校番号*100+部員名簿!H280)","v":""},{"$f":"IF(部員名簿!A280=\"\",\"\",部員名簿!C280)","v":""},{"$f":"IF(部員名簿!A280=\"\",\"\",部員名簿!D280)","v":""},{"$f":"IF(部員名簿!A280=\"\",\"\",部員名簿!E280)","v":""},{"$f":"IF(部員名簿!A280=\"\",\"\",部員名簿!F280)","v":""},{"$f":"IF(部員名簿!A280=\"\",\"\",部員名簿!I280)","v":""},{"$f":"IF(部員名簿!A280=\"\",\"\",部員名簿!B280)","v":""}]
[{"$f":"IF(部員名簿!A281=\"\",\"\",YEAR(部員名簿!G281))","v":""},{"$f":"IF(部員名簿!A281=\"\",\"\",MONTH(部員名簿!G281))","v":""},{"$f":"IF(部員名簿!A281=\"\",\"\",DAY(部員名簿!G281))","v":""},{"$f":"IF(部員名簿!A281=\"\",\"\",学校番号*100+部員名簿!H281)","v":""},{"$f":"IF(部員名簿!A281=\"\",\"\",部員名簿!C281)","v":""},{"$f":"IF(部員名簿!A281=\"\",\"\",部員名簿!D281)","v":""},{"$f":"IF(部員名簿!A281=\"\",\"\",部員名簿!E281)","v":""},{"$f":"IF(部員名簿!A281=\"\",\"\",部員名簿!F281)","v":""},{"$f":"IF(部員名簿!A281=\"\",\"\",部員名簿!I281)","v":""},{"$f":"IF(部員名簿!A281=\"\",\"\",部員名簿!B281)","v":""}]
[{"$f":"IF(部員名簿!A282=\"\",\"\",YEAR(部員名簿!G282))","v":""},{"$f":"IF(部員名簿!A282=\"\",\"\",MONTH(部員名簿!G282))","v":""},{"$f":"IF(部員名簿!A282=\"\",\"\",DAY(部員名簿!G282))","v":""},{"$f":"IF(部員名簿!A282=\"\",\"\",学校番号*100+部員名簿!H282)","v":""},{"$f":"IF(部員名簿!A282=\"\",\"\",部員名簿!C282)","v":""},{"$f":"IF(部員名簿!A282=\"\",\"\",部員名簿!D282)","v":""},{"$f":"IF(部員名簿!A282=\"\",\"\",部員名簿!E282)","v":""},{"$f":"IF(部員名簿!A282=\"\",\"\",部員名簿!F282)","v":""},{"$f":"IF(部員名簿!A282=\"\",\"\",部員名簿!I282)","v":""},{"$f":"IF(部員名簿!A282=\"\",\"\",部員名簿!B282)","v":""}]
[{"$f":"IF(部員名簿!A283=\"\",\"\",YEAR(部員名簿!G283))","v":""},{"$f":"IF(部員名簿!A283=\"\",\"\",MONTH(部員名簿!G283))","v":""},{"$f":"IF(部員名簿!A283=\"\",\"\",DAY(部員名簿!G283))","v":""},{"$f":"IF(部員名簿!A283=\"\",\"\",学校番号*100+部員名簿!H283)","v":""},{"$f":"IF(部員名簿!A283=\"\",\"\",部員名簿!C283)","v":""},{"$f":"IF(部員名簿!A283=\"\",\"\",部員名簿!D283)","v":""},{"$f":"IF(部員名簿!A283=\"\",\"\",部員名簿!E283)","v":""},{"$f":"IF(部員名簿!A283=\"\",\"\",部員名簿!F283)","v":""},{"$f":"IF(部員名簿!A283=\"\",\"\",部員名簿!I283)","v":""},{"$f":"IF(部員名簿!A283=\"\",\"\",部員名簿!B283)","v":""}]
[{"$f":"IF(部員名簿!A284=\"\",\"\",YEAR(部員名簿!G284))","v":""},{"$f":"IF(部員名簿!A284=\"\",\"\",MONTH(部員名簿!G284))","v":""},{"$f":"IF(部員名簿!A284=\"\",\"\",DAY(部員名簿!G284))","v":""},{"$f":"IF(部員名簿!A284=\"\",\"\",学校番号*100+部員名簿!H284)","v":""},{"$f":"IF(部員名簿!A284=\"\",\"\",部員名簿!C284)","v":""},{"$f":"IF(部員名簿!A284=\"\",\"\",部員名簿!D284)","v":""},{"$f":"IF(部員名簿!A284=\"\",\"\",部員名簿!E284)","v":""},{"$f":"IF(部員名簿!A284=\"\",\"\",部員名簿!F284)","v":""},{"$f":"IF(部員名簿!A284=\"\",\"\",部員名簿!I284)","v":""},{"$f":"IF(部員名簿!A284=\"\",\"\",部員名簿!B284)","v":""}]
[{"$f":"IF(部員名簿!A285=\"\",\"\",YEAR(部員名簿!G285))","v":""},{"$f":"IF(部員名簿!A285=\"\",\"\",MONTH(部員名簿!G285))","v":""},{"$f":"IF(部員名簿!A285=\"\",\"\",DAY(部員名簿!G285))","v":""},{"$f":"IF(部員名簿!A285=\"\",\"\",学校番号*100+部員名簿!H285)","v":""},{"$f":"IF(部員名簿!A285=\"\",\"\",部員名簿!C285)","v":""},{"$f":"IF(部員名簿!A285=\"\",\"\",部員名簿!D285)","v":""},{"$f":"IF(部員名簿!A285=\"\",\"\",部員名簿!E285)","v":""},{"$f":"IF(部員名簿!A285=\"\",\"\",部員名簿!F285)","v":""},{"$f":"IF(部員名簿!A285=\"\",\"\",部員名簿!I285)","v":""},{"$f":"IF(部員名簿!A285=\"\",\"\",部員名簿!B285)","v":""}]
[{"$f":"IF(部員名簿!A286=\"\",\"\",YEAR(部員名簿!G286))","v":""},{"$f":"IF(部員名簿!A286=\"\",\"\",MONTH(部員名簿!G286))","v":""},{"$f":"IF(部員名簿!A286=\"\",\"\",DAY(部員名簿!G286))","v":""},{"$f":"IF(部員名簿!A286=\"\",\"\",学校番号*100+部員名簿!H286)","v":""},{"$f":"IF(部員名簿!A286=\"\",\"\",部員名簿!C286)","v":""},{"$f":"IF(部員名簿!A286=\"\",\"\",部員名簿!D286)","v":""},{"$f":"IF(部員名簿!A286=\"\",\"\",部員名簿!E286)","v":""},{"$f":"IF(部員名簿!A286=\"\",\"\",部員名簿!F286)","v":""},{"$f":"IF(部員名簿!A286=\"\",\"\",部員名簿!I286)","v":""},{"$f":"IF(部員名簿!A286=\"\",\"\",部員名簿!B286)","v":""}]
[{"$f":"IF(部員名簿!A287=\"\",\"\",YEAR(部員名簿!G287))","v":""},{"$f":"IF(部員名簿!A287=\"\",\"\",MONTH(部員名簿!G287))","v":""},{"$f":"IF(部員名簿!A287=\"\",\"\",DAY(部員名簿!G287))","v":""},{"$f":"IF(部員名簿!A287=\"\",\"\",学校番号*100+部員名簿!H287)","v":""},{"$f":"IF(部員名簿!A287=\"\",\"\",部員名簿!C287)","v":""},{"$f":"IF(部員名簿!A287=\"\",\"\",部員名簿!D287)","v":""},{"$f":"IF(部員名簿!A287=\"\",\"\",部員名簿!E287)","v":""},{"$f":"IF(部員名簿!A287=\"\",\"\",部員名簿!F287)","v":""},{"$f":"IF(部員名簿!A287=\"\",\"\",部員名簿!I287)","v":""},{"$f":"IF(部員名簿!A287=\"\",\"\",部員名簿!B287)","v":""}]
[{"$f":"IF(部員名簿!A288=\"\",\"\",YEAR(部員名簿!G288))","v":""},{"$f":"IF(部員名簿!A288=\"\",\"\",MONTH(部員名簿!G288))","v":""},{"$f":"IF(部員名簿!A288=\"\",\"\",DAY(部員名簿!G288))","v":""},{"$f":"IF(部員名簿!A288=\"\",\"\",学校番号*100+部員名簿!H288)","v":""},{"$f":"IF(部員名簿!A288=\"\",\"\",部員名簿!C288)","v":""},{"$f":"IF(部員名簿!A288=\"\",\"\",部員名簿!D288)","v":""},{"$f":"IF(部員名簿!A288=\"\",\"\",部員名簿!E288)","v":""},{"$f":"IF(部員名簿!A288=\"\",\"\",部員名簿!F288)","v":""},{"$f":"IF(部員名簿!A288=\"\",\"\",部員名簿!I288)","v":""},{"$f":"IF(部員名簿!A288=\"\",\"\",部員名簿!B288)","v":""}]
[{"$f":"IF(部員名簿!A289=\"\",\"\",YEAR(部員名簿!G289))","v":""},{"$f":"IF(部員名簿!A289=\"\",\"\",MONTH(部員名簿!G289))","v":""},{"$f":"IF(部員名簿!A289=\"\",\"\",DAY(部員名簿!G289))","v":""},{"$f":"IF(部員名簿!A289=\"\",\"\",学校番号*100+部員名簿!H289)","v":""},{"$f":"IF(部員名簿!A289=\"\",\"\",部員名簿!C289)","v":""},{"$f":"IF(部員名簿!A289=\"\",\"\",部員名簿!D289)","v":""},{"$f":"IF(部員名簿!A289=\"\",\"\",部員名簿!E289)","v":""},{"$f":"IF(部員名簿!A289=\"\",\"\",部員名簿!F289)","v":""},{"$f":"IF(部員名簿!A289=\"\",\"\",部員名簿!I289)","v":""},{"$f":"IF(部員名簿!A289=\"\",\"\",部員名簿!B289)","v":""}]
[{"$f":"IF(部員名簿!A290=\"\",\"\",YEAR(部員名簿!G290))","v":""},{"$f":"IF(部員名簿!A290=\"\",\"\",MONTH(部員名簿!G290))","v":""},{"$f":"IF(部員名簿!A290=\"\",\"\",DAY(部員名簿!G290))","v":""},{"$f":"IF(部員名簿!A290=\"\",\"\",学校番号*100+部員名簿!H290)","v":""},{"$f":"IF(部員名簿!A290=\"\",\"\",部員名簿!C290)","v":""},{"$f":"IF(部員名簿!A290=\"\",\"\",部員名簿!D290)","v":""},{"$f":"IF(部員名簿!A290=\"\",\"\",部員名簿!E290)","v":""},{"$f":"IF(部員名簿!A290=\"\",\"\",部員名簿!F290)","v":""},{"$f":"IF(部員名簿!A290=\"\",\"\",部員名簿!I290)","v":""},{"$f":"IF(部員名簿!A290=\"\",\"\",部員名簿!B290)","v":""}]
[{"$f":"IF(部員名簿!A291=\"\",\"\",YEAR(部員名簿!G291))","v":""},{"$f":"IF(部員名簿!A291=\"\",\"\",MONTH(部員名簿!G291))","v":""},{"$f":"IF(部員名簿!A291=\"\",\"\",DAY(部員名簿!G291))","v":""},{"$f":"IF(部員名簿!A291=\"\",\"\",学校番号*100+部員名簿!H291)","v":""},{"$f":"IF(部員名簿!A291=\"\",\"\",部員名簿!C291)","v":""},{"$f":"IF(部員名簿!A291=\"\",\"\",部員名簿!D291)","v":""},{"$f":"IF(部員名簿!A291=\"\",\"\",部員名簿!E291)","v":""},{"$f":"IF(部員名簿!A291=\"\",\"\",部員名簿!F291)","v":""},{"$f":"IF(部員名簿!A291=\"\",\"\",部員名簿!I291)","v":""},{"$f":"IF(部員名簿!A291=\"\",\"\",部員名簿!B291)","v":""}]
[{"$f":"IF(部員名簿!A292=\"\",\"\",YEAR(部員名簿!G292))","v":""},{"$f":"IF(部員名簿!A292=\"\",\"\",MONTH(部員名簿!G292))","v":""},{"$f":"IF(部員名簿!A292=\"\",\"\",DAY(部員名簿!G292))","v":""},{"$f":"IF(部員名簿!A292=\"\",\"\",学校番号*100+部員名簿!H292)","v":""},{"$f":"IF(部員名簿!A292=\"\",\"\",部員名簿!C292)","v":""},{"$f":"IF(部員名簿!A292=\"\",\"\",部員名簿!D292)","v":""},{"$f":"IF(部員名簿!A292=\"\",\"\",部員名簿!E292)","v":""},{"$f":"IF(部員名簿!A292=\"\",\"\",部員名簿!F292)","v":""},{"$f":"IF(部員名簿!A292=\"\",\"\",部員名簿!I292)","v":""},{"$f":"IF(部員名簿!A292=\"\",\"\",部員名簿!B292)","v":""}]
[{"$f":"IF(部員名簿!A293=\"\",\"\",YEAR(部員名簿!G293))","v":""},{"$f":"IF(部員名簿!A293=\"\",\"\",MONTH(部員名簿!G293))","v":""},{"$f":"IF(部員名簿!A293=\"\",\"\",DAY(部員名簿!G293))","v":""},{"$f":"IF(部員名簿!A293=\"\",\"\",学校番号*100+部員名簿!H293)","v":""},{"$f":"IF(部員名簿!A293=\"\",\"\",部員名簿!C293)","v":""},{"$f":"IF(部員名簿!A293=\"\",\"\",部員名簿!D293)","v":""},{"$f":"IF(部員名簿!A293=\"\",\"\",部員名簿!E293)","v":""},{"$f":"IF(部員名簿!A293=\"\",\"\",部員名簿!F293)","v":""},{"$f":"IF(部員名簿!A293=\"\",\"\",部員名簿!I293)","v":""},{"$f":"IF(部員名簿!A293=\"\",\"\",部員名簿!B293)","v":""}]
[{"$f":"IF(部員名簿!A294=\"\",\"\",YEAR(部員名簿!G294))","v":""},{"$f":"IF(部員名簿!A294=\"\",\"\",MONTH(部員名簿!G294))","v":""},{"$f":"IF(部員名簿!A294=\"\",\"\",DAY(部員名簿!G294))","v":""},{"$f":"IF(部員名簿!A294=\"\",\"\",学校番号*100+部員名簿!H294)","v":""},{"$f":"IF(部員名簿!A294=\"\",\"\",部員名簿!C294)","v":""},{"$f":"IF(部員名簿!A294=\"\",\"\",部員名簿!D294)","v":""},{"$f":"IF(部員名簿!A294=\"\",\"\",部員名簿!E294)","v":""},{"$f":"IF(部員名簿!A294=\"\",\"\",部員名簿!F294)","v":""},{"$f":"IF(部員名簿!A294=\"\",\"\",部員名簿!I294)","v":""},{"$f":"IF(部員名簿!A294=\"\",\"\",部員名簿!B294)","v":""}]
[{"$f":"IF(部員名簿!A295=\"\",\"\",YEAR(部員名簿!G295))","v":""},{"$f":"IF(部員名簿!A295=\"\",\"\",MONTH(部員名簿!G295))","v":""},{"$f":"IF(部員名簿!A295=\"\",\"\",DAY(部員名簿!G295))","v":""},{"$f":"IF(部員名簿!A295=\"\",\"\",学校番号*100+部員名簿!H295)","v":""},{"$f":"IF(部員名簿!A295=\"\",\"\",部員名簿!C295)","v":""},{"$f":"IF(部員名簿!A295=\"\",\"\",部員名簿!D295)","v":""},{"$f":"IF(部員名簿!A295=\"\",\"\",部員名簿!E295)","v":""},{"$f":"IF(部員名簿!A295=\"\",\"\",部員名簿!F295)","v":""},{"$f":"IF(部員名簿!A295=\"\",\"\",部員名簿!I295)","v":""},{"$f":"IF(部員名簿!A295=\"\",\"\",部員名簿!B295)","v":""}]
[{"$f":"IF(部員名簿!A296=\"\",\"\",YEAR(部員名簿!G296))","v":""},{"$f":"IF(部員名簿!A296=\"\",\"\",MONTH(部員名簿!G296))","v":""},{"$f":"IF(部員名簿!A296=\"\",\"\",DAY(部員名簿!G296))","v":""},{"$f":"IF(部員名簿!A296=\"\",\"\",学校番号*100+部員名簿!H296)","v":""},{"$f":"IF(部員名簿!A296=\"\",\"\",部員名簿!C296)","v":""},{"$f":"IF(部員名簿!A296=\"\",\"\",部員名簿!D296)","v":""},{"$f":"IF(部員名簿!A296=\"\",\"\",部員名簿!E296)","v":""},{"$f":"IF(部員名簿!A296=\"\",\"\",部員名簿!F296)","v":""},{"$f":"IF(部員名簿!A296=\"\",\"\",部員名簿!I296)","v":""},{"$f":"IF(部員名簿!A296=\"\",\"\",部員名簿!B296)","v":""}]
[{"$f":"IF(部員名簿!A297=\"\",\"\",YEAR(部員名簿!G297))","v":""},{"$f":"IF(部員名簿!A297=\"\",\"\",MONTH(部員名簿!G297))","v":""},{"$f":"IF(部員名簿!A297=\"\",\"\",DAY(部員名簿!G297))","v":""},{"$f":"IF(部員名簿!A297=\"\",\"\",学校番号*100+部員名簿!H297)","v":""},{"$f":"IF(部員名簿!A297=\"\",\"\",部員名簿!C297)","v":""},{"$f":"IF(部員名簿!A297=\"\",\"\",部員名簿!D297)","v":""},{"$f":"IF(部員名簿!A297=\"\",\"\",部員名簿!E297)","v":""},{"$f":"IF(部員名簿!A297=\"\",\"\",部員名簿!F297)","v":""},{"$f":"IF(部員名簿!A297=\"\",\"\",部員名簿!I297)","v":""},{"$f":"IF(部員名簿!A297=\"\",\"\",部員名簿!B297)","v":""}]
[{"$f":"IF(部員名簿!A298=\"\",\"\",YEAR(部員名簿!G298))","v":""},{"$f":"IF(部員名簿!A298=\"\",\"\",MONTH(部員名簿!G298))","v":""},{"$f":"IF(部員名簿!A298=\"\",\"\",DAY(部員名簿!G298))","v":""},{"$f":"IF(部員名簿!A298=\"\",\"\",学校番号*100+部員名簿!H298)","v":""},{"$f":"IF(部員名簿!A298=\"\",\"\",部員名簿!C298)","v":""},{"$f":"IF(部員名簿!A298=\"\",\"\",部員名簿!D298)","v":""},{"$f":"IF(部員名簿!A298=\"\",\"\",部員名簿!E298)","v":""},{"$f":"IF(部員名簿!A298=\"\",\"\",部員名簿!F298)","v":""},{"$f":"IF(部員名簿!A298=\"\",\"\",部員名簿!I298)","v":""},{"$f":"IF(部員名簿!A298=\"\",\"\",部員名簿!B298)","v":""}]
[{"$f":"IF(部員名簿!A299=\"\",\"\",YEAR(部員名簿!G299))","v":""},{"$f":"IF(部員名簿!A299=\"\",\"\",MONTH(部員名簿!G299))","v":""},{"$f":"IF(部員名簿!A299=\"\",\"\",DAY(部員名簿!G299))","v":""},{"$f":"IF(部員名簿!A299=\"\",\"\",学校番号*100+部員名簿!H299)","v":""},{"$f":"IF(部員名簿!A299=\"\",\"\",部員名簿!C299)","v":""},{"$f":"IF(部員名簿!A299=\"\",\"\",部員名簿!D299)","v":""},{"$f":"IF(部員名簿!A299=\"\",\"\",部員名簿!E299)","v":""},{"$f":"IF(部員名簿!A299=\"\",\"\",部員名簿!F299)","v":""},{"$f":"IF(部員名簿!A299=\"\",\"\",部員名簿!I299)","v":""},{"$f":"IF(部員名簿!A299=\"\",\"\",部員名簿!B299)","v":""}]
[{"$f":"IF(部員名簿!A300=\"\",\"\",YEAR(部員名簿!G300))","v":""},{"$f":"IF(部員名簿!A300=\"\",\"\",MONTH(部員名簿!G300))","v":""},{"$f":"IF(部員名簿!A300=\"\",\"\",DAY(部員名簿!G300))","v":""},{"$f":"IF(部員名簿!A300=\"\",\"\",学校番号*100+部員名簿!H300)","v":""},{"$f":"IF(部員名簿!A300=\"\",\"\",部員名簿!C300)","v":""},{"$f":"IF(部員名簿!A300=\"\",\"\",部員名簿!D300)","v":""},{"$f":"IF(部員名簿!A300=\"\",\"\",部員名簿!E300)","v":""},{"$f":"IF(部員名簿!A300=\"\",\"\",部員名簿!F300)","v":""},{"$f":"IF(部員名簿!A300=\"\",\"\",部員名簿!I300)","v":""},{"$f":"IF(部員名簿!A300=\"\",\"\",部員名簿!B300)","v":""}]
[{"$f":"IF(部員名簿!A301=\"\",\"\",YEAR(部員名簿!G301))","v":""},{"$f":"IF(部員名簿!A301=\"\",\"\",MONTH(部員名簿!G301))","v":""},{"$f":"IF(部員名簿!A301=\"\",\"\",DAY(部員名簿!G301))","v":""},{"$f":"IF(部員名簿!A301=\"\",\"\",学校番号*100+部員名簿!H301)","v":""},{"$f":"IF(部員名簿!A301=\"\",\"\",部員名簿!C301)","v":""},{"$f":"IF(部員名簿!A301=\"\",\"\",部員名簿!D301)","v":""},{"$f":"IF(部員名簿!A301=\"\",\"\",部員名簿!E301)","v":""},{"$f":"IF(部員名簿!A301=\"\",\"\",部員名簿!F301)","v":""},{"$f":"IF(部員名簿!A301=\"\",\"\",部員名簿!I301)","v":""},{"$f":"IF(部員名簿!A301=\"\",\"\",部員名簿!B301)","v":""}]
[{"$f":"IF(部員名簿!A302=\"\",\"\",YEAR(部員名簿!G302))","v":""},{"$f":"IF(部員名簿!A302=\"\",\"\",MONTH(部員名簿!G302))","v":""},{"$f":"IF(部員名簿!A302=\"\",\"\",DAY(部員名簿!G302))","v":""},{"$f":"IF(部員名簿!A302=\"\",\"\",学校番号*100+部員名簿!H302)","v":""},{"$f":"IF(部員名簿!A302=\"\",\"\",部員名簿!C302)","v":""},{"$f":"IF(部員名簿!A302=\"\",\"\",部員名簿!D302)","v":""},{"$f":"IF(部員名簿!A302=\"\",\"\",部員名簿!E302)","v":""},{"$f":"IF(部員名簿!A302=\"\",\"\",部員名簿!F302)","v":""},{"$f":"IF(部員名簿!A302=\"\",\"\",部員名簿!I302)","v":""},{"$f":"IF(部員名簿!A302=\"\",\"\",部員名簿!B302)","v":""}]
[{"$f":"IF(部員名簿!A303=\"\",\"\",YEAR(部員名簿!G303))","v":""},{"$f":"IF(部員名簿!A303=\"\",\"\",MONTH(部員名簿!G303))","v":""},{"$f":"IF(部員名簿!A303=\"\",\"\",DAY(部員名簿!G303))","v":""},{"$f":"IF(部員名簿!A303=\"\",\"\",学校番号*100+部員名簿!H303)","v":""},{"$f":"IF(部員名簿!A303=\"\",\"\",部員名簿!C303)","v":""},{"$f":"IF(部員名簿!A303=\"\",\"\",部員名簿!D303)","v":""},{"$f":"IF(部員名簿!A303=\"\",\"\",部員名簿!E303)","v":""},{"$f":"IF(部員名簿!A303=\"\",\"\",部員名簿!F303)","v":""},{"$f":"IF(部員名簿!A303=\"\",\"\",部員名簿!I303)","v":""},{"$f":"IF(部員名簿!A303=\"\",\"\",部員名簿!B303)","v":""}]
[{"$f":"IF(部員名簿!A304=\"\",\"\",YEAR(部員名簿!G304))","v":""},{"$f":"IF(部員名簿!A304=\"\",\"\",MONTH(部員名簿!G304))","v":""},{"$f":"IF(部員名簿!A304=\"\",\"\",DAY(部員名簿!G304))","v":""},{"$f":"IF(部員名簿!A304=\"\",\"\",学校番号*100+部員名簿!H304)","v":""},{"$f":"IF(部員名簿!A304=\"\",\"\",部員名簿!C304)","v":""},{"$f":"IF(部員名簿!A304=\"\",\"\",部員名簿!D304)","v":""},{"$f":"IF(部員名簿!A304=\"\",\"\",部員名簿!E304)","v":""},{"$f":"IF(部員名簿!A304=\"\",\"\",部員名簿!F304)","v":""},{"$f":"IF(部員名簿!A304=\"\",\"\",部員名簿!I304)","v":""},{"$f":"IF(部員名簿!A304=\"\",\"\",部員名簿!B304)","v":""}]
[{"$f":"IF(部員名簿!A305=\"\",\"\",YEAR(部員名簿!G305))","v":""},{"$f":"IF(部員名簿!A305=\"\",\"\",MONTH(部員名簿!G305))","v":""},{"$f":"IF(部員名簿!A305=\"\",\"\",DAY(部員名簿!G305))","v":""},{"$f":"IF(部員名簿!A305=\"\",\"\",学校番号*100+部員名簿!H305)","v":""},{"$f":"IF(部員名簿!A305=\"\",\"\",部員名簿!C305)","v":""},{"$f":"IF(部員名簿!A305=\"\",\"\",部員名簿!D305)","v":""},{"$f":"IF(部員名簿!A305=\"\",\"\",部員名簿!E305)","v":""},{"$f":"IF(部員名簿!A305=\"\",\"\",部員名簿!F305)","v":""},{"$f":"IF(部員名簿!A305=\"\",\"\",部員名簿!I305)","v":""},{"$f":"IF(部員名簿!A305=\"\",\"\",部員名簿!B305)","v":""}]
[{"$f":"IF(部員名簿!A306=\"\",\"\",YEAR(部員名簿!G306))","v":""},{"$f":"IF(部員名簿!A306=\"\",\"\",MONTH(部員名簿!G306))","v":""},{"$f":"IF(部員名簿!A306=\"\",\"\",DAY(部員名簿!G306))","v":""},{"$f":"IF(部員名簿!A306=\"\",\"\",学校番号*100+部員名簿!H306)","v":""},{"$f":"IF(部員名簿!A306=\"\",\"\",部員名簿!C306)","v":""},{"$f":"IF(部員名簿!A306=\"\",\"\",部員名簿!D306)","v":""},{"$f":"IF(部員名簿!A306=\"\",\"\",部員名簿!E306)","v":""},{"$f":"IF(部員名簿!A306=\"\",\"\",部員名簿!F306)","v":""},{"$f":"IF(部員名簿!A306=\"\",\"\",部員名簿!I306)","v":""},{"$f":"IF(部員名簿!A306=\"\",\"\",部員名簿!B306)","v":""}]
[{"$f":"IF(部員名簿!A307=\"\",\"\",YEAR(部員名簿!G307))","v":""},{"$f":"IF(部員名簿!A307=\"\",\"\",MONTH(部員名簿!G307))","v":""},{"$f":"IF(部員名簿!A307=\"\",\"\",DAY(部員名簿!G307))","v":""},{"$f":"IF(部員名簿!A307=\"\",\"\",学校番号*100+部員名簿!H307)","v":""},{"$f":"IF(部員名簿!A307=\"\",\"\",部員名簿!C307)","v":""},{"$f":"IF(部員名簿!A307=\"\",\"\",部員名簿!D307)","v":""},{"$f":"IF(部員名簿!A307=\"\",\"\",部員名簿!E307)","v":""},{"$f":"IF(部員名簿!A307=\"\",\"\",部員名簿!F307)","v":""},{"$f":"IF(部員名簿!A307=\"\",\"\",部員名簿!I307)","v":""},{"$f":"IF(部員名簿!A307=\"\",\"\",部員名簿!B307)","v":""}]
[{"$f":"IF(部員名簿!A308=\"\",\"\",YEAR(部員名簿!G308))","v":""},{"$f":"IF(部員名簿!A308=\"\",\"\",MONTH(部員名簿!G308))","v":""},{"$f":"IF(部員名簿!A308=\"\",\"\",DAY(部員名簿!G308))","v":""},{"$f":"IF(部員名簿!A308=\"\",\"\",学校番号*100+部員名簿!H308)","v":""},{"$f":"IF(部員名簿!A308=\"\",\"\",部員名簿!C308)","v":""},{"$f":"IF(部員名簿!A308=\"\",\"\",部員名簿!D308)","v":""},{"$f":"IF(部員名簿!A308=\"\",\"\",部員名簿!E308)","v":""},{"$f":"IF(部員名簿!A308=\"\",\"\",部員名簿!F308)","v":""},{"$f":"IF(部員名簿!A308=\"\",\"\",部員名簿!I308)","v":""},{"$f":"IF(部員名簿!A308=\"\",\"\",部員名簿!B308)","v":""}]
[{"$f":"IF(部員名簿!A309=\"\",\"\",YEAR(部員名簿!G309))","v":""},{"$f":"IF(部員名簿!A309=\"\",\"\",MONTH(部員名簿!G309))","v":""},{"$f":"IF(部員名簿!A309=\"\",\"\",DAY(部員名簿!G309))","v":""},{"$f":"IF(部員名簿!A309=\"\",\"\",学校番号*100+部員名簿!H309)","v":""},{"$f":"IF(部員名簿!A309=\"\",\"\",部員名簿!C309)","v":""},{"$f":"IF(部員名簿!A309=\"\",\"\",部員名簿!D309)","v":""},{"$f":"IF(部員名簿!A309=\"\",\"\",部員名簿!E309)","v":""},{"$f":"IF(部員名簿!A309=\"\",\"\",部員名簿!F309)","v":""},{"$f":"IF(部員名簿!A309=\"\",\"\",部員名簿!I309)","v":""},{"$f":"IF(部員名簿!A309=\"\",\"\",部員名簿!B309)","v":""}]
[{"$f":"IF(部員名簿!A310=\"\",\"\",YEAR(部員名簿!G310))","v":""},{"$f":"IF(部員名簿!A310=\"\",\"\",MONTH(部員名簿!G310))","v":""},{"$f":"IF(部員名簿!A310=\"\",\"\",DAY(部員名簿!G310))","v":""},{"$f":"IF(部員名簿!A310=\"\",\"\",学校番号*100+部員名簿!H310)","v":""},{"$f":"IF(部員名簿!A310=\"\",\"\",部員名簿!C310)","v":""},{"$f":"IF(部員名簿!A310=\"\",\"\",部員名簿!D310)","v":""},{"$f":"IF(部員名簿!A310=\"\",\"\",部員名簿!E310)","v":""},{"$f":"IF(部員名簿!A310=\"\",\"\",部員名簿!F310)","v":""},{"$f":"IF(部員名簿!A310=\"\",\"\",部員名簿!I310)","v":""},{"$f":"IF(部員名簿!A310=\"\",\"\",部員名簿!B310)","v":""}]
[{"$f":"IF(部員名簿!A311=\"\",\"\",YEAR(部員名簿!G311))","v":""},{"$f":"IF(部員名簿!A311=\"\",\"\",MONTH(部員名簿!G311))","v":""},{"$f":"IF(部員名簿!A311=\"\",\"\",DAY(部員名簿!G311))","v":""},{"$f":"IF(部員名簿!A311=\"\",\"\",学校番号*100+部員名簿!H311)","v":""},{"$f":"IF(部員名簿!A311=\"\",\"\",部員名簿!C311)","v":""},{"$f":"IF(部員名簿!A311=\"\",\"\",部員名簿!D311)","v":""},{"$f":"IF(部員名簿!A311=\"\",\"\",部員名簿!E311)","v":""},{"$f":"IF(部員名簿!A311=\"\",\"\",部員名簿!F311)","v":""},{"$f":"IF(部員名簿!A311=\"\",\"\",部員名簿!I311)","v":""},{"$f":"IF(部員名簿!A311=\"\",\"\",部員名簿!B311)","v":""}]
[{"$f":"IF(部員名簿!A312=\"\",\"\",YEAR(部員名簿!G312))","v":""},{"$f":"IF(部員名簿!A312=\"\",\"\",MONTH(部員名簿!G312))","v":""},{"$f":"IF(部員名簿!A312=\"\",\"\",DAY(部員名簿!G312))","v":""},{"$f":"IF(部員名簿!A312=\"\",\"\",学校番号*100+部員名簿!H312)","v":""},{"$f":"IF(部員名簿!A312=\"\",\"\",部員名簿!C312)","v":""},{"$f":"IF(部員名簿!A312=\"\",\"\",部員名簿!D312)","v":""},{"$f":"IF(部員名簿!A312=\"\",\"\",部員名簿!E312)","v":""},{"$f":"IF(部員名簿!A312=\"\",\"\",部員名簿!F312)","v":""},{"$f":"IF(部員名簿!A312=\"\",\"\",部員名簿!I312)","v":""},{"$f":"IF(部員名簿!A312=\"\",\"\",部員名簿!B312)","v":""}]
[{"$f":"IF(部員名簿!A313=\"\",\"\",YEAR(部員名簿!G313))","v":""},{"$f":"IF(部員名簿!A313=\"\",\"\",MONTH(部員名簿!G313))","v":""},{"$f":"IF(部員名簿!A313=\"\",\"\",DAY(部員名簿!G313))","v":""},{"$f":"IF(部員名簿!A313=\"\",\"\",学校番号*100+部員名簿!H313)","v":""},{"$f":"IF(部員名簿!A313=\"\",\"\",部員名簿!C313)","v":""},{"$f":"IF(部員名簿!A313=\"\",\"\",部員名簿!D313)","v":""},{"$f":"IF(部員名簿!A313=\"\",\"\",部員名簿!E313)","v":""},{"$f":"IF(部員名簿!A313=\"\",\"\",部員名簿!F313)","v":""},{"$f":"IF(部員名簿!A313=\"\",\"\",部員名簿!I313)","v":""},{"$f":"IF(部員名簿!A313=\"\",\"\",部員名簿!B313)","v":""}]
[{"$f":"IF(部員名簿!A314=\"\",\"\",YEAR(部員名簿!G314))","v":""},{"$f":"IF(部員名簿!A314=\"\",\"\",MONTH(部員名簿!G314))","v":""},{"$f":"IF(部員名簿!A314=\"\",\"\",DAY(部員名簿!G314))","v":""},{"$f":"IF(部員名簿!A314=\"\",\"\",学校番号*100+部員名簿!H314)","v":""},{"$f":"IF(部員名簿!A314=\"\",\"\",部員名簿!C314)","v":""},{"$f":"IF(部員名簿!A314=\"\",\"\",部員名簿!D314)","v":""},{"$f":"IF(部員名簿!A314=\"\",\"\",部員名簿!E314)","v":""},{"$f":"IF(部員名簿!A314=\"\",\"\",部員名簿!F314)","v":""},{"$f":"IF(部員名簿!A314=\"\",\"\",部員名簿!I314)","v":""},{"$f":"IF(部員名簿!A314=\"\",\"\",部員名簿!B314)","v":""}]

{"sheet":"陸連データ取込シート","index":5,"n_rows":201,"n_cols":20,"rows_kept":201,"cut":false,"hidden":true,"merged":[]}
["生年月日（西暦）","生年月日（月）","生年月日（日）","登録番号","姓","名","姓（カナ）","名（カナ）","性別","学年","備考",null,"年","姓","名","フリガナ(姓)","フリガナ(名)","生年月日","個人番号","性別"]
[2004,6,9,45845,"香田","隼佑","コウダ","シュンスケ","男",3,null,null,{"$f":"IF(J2=\"\",\"\",J2)","v":3},{"$f":"IF(E2=\"\",\"\",E2)","v":"香田"},{"$f":"IF(F2=\"\",\"\",F2)","v":"隼佑"},{"$f":"IF(G2=\"\",\"\",G2)","v":"コウダ"},{"$f":"IF(H2=\"\",\"\",H2)","v":"シュンスケ"},{"$f":"IF(D2=\"\",\"\",DATE(A2,B2,C2))","v":"2004-06-09"},{"$f":"IF(D2=\"\",\"\",RIGHT(D2,2)*1)","v":45},{"$f":"IF(I2=\"\",\"\",I2)","v":"男"}]
[2004,5,15,45846,"小山","蒼空","コヤマ","アオ","男",3,null,null,{"$f":"IF(J3=\"\",\"\",J3)","v":3},{"$f":"IF(E3=\"\",\"\",E3)","v":"小山"},"蒼空","コヤマ","アオ",{"$f":"IF(D3=\"\",\"\",DATE(A3,B3,C3))","v":"2004-05-15"},{"$f":"IF(D3=\"\",\"\",RIGHT(D3,2)*1)","v":46},{"$f":"IF(I3=\"\",\"\",I3)","v":"男"}]
[2005,3,20,45847,"土井","悠大","ドイ","ユウダイ","男",3,null,null,3,"土井","悠大","ドイ","ユウダイ","2005-03-20",47,"男"]
[2004,6,18,45848,"西澤","渉","ニシザワ","ワタル","男",3,null,null,3,"西澤","渉","ニシザワ","ワタル","2004-06-18",48,"男"]
[2004,4,6,45850,"宮内","健之介","ミヤウチ","ケンノスケ","男",3,null,null,3,"宮内","健之介","ミヤウチ","ケンノスケ","2004-04-06",50,"男"]
[2004,7,8,45852,"石野","祥吾","イシノ","ショウゴ","男",3,null,null,3,"石野","祥吾","イシノ","ショウゴ","2004-07-08",52,"男"]
[2004,4,6,45854,"宮内","隆之介","ミヤウチ","リュウノスケ","男",3,null,null,3,"宮内","隆之介","ミヤウチ","リュウノスケ","2004-04-06",54,"男"]
[2005,6,2,45863,"八十","康介","ヤソ","コウスケ","男",2,null,null,2,"八十","康介","ヤソ","コウスケ","2005-06-02",63,"男"]
[2002,5,26,45864,"藤田","隼樹","フジタ","シュンキ","男",2,null,null,2,"藤田","隼樹","フジタ","シュンキ","2002-05-26",64,"男"]
[2005,11,2,45866,"西山","一生","ニシヤマ","イッセイ","男",2,null,null,2,"西山","一生","ニシヤマ","イッセイ","2005-11-02",66,"男"]
[2006,1,18,45867,"砂川","心人","スナガワ","アイト","男",2,null,null,2,"砂川","心人","スナガワ","アイト","2006-01-18",67,"男"]
[2005,4,2,45870,"小川","明生","オガワ","ハルキ","男",2,null,null,2,"小川","明生","オガワ","ハルキ","2005-04-02",70,"男"]
[2005,5,2,45872,"伊藤","真弥","イトウ","シンヤ","男",2,null,null,2,"伊藤","真弥","イトウ","シンヤ","2005-05-02",72,"男"]
[2006,6,5,45881,"西川","翔己","ニシカワ","ショウキ","男",1,null,null,1,"西川","翔己","ニシカワ","ショウキ","2006-06-05",81,"男"]
[2006,5,18,45882,"吉川","響葵","ヨシカワ","ヒビキ","男",1,null,null,1,"吉川","響葵","ヨシカワ","ヒビキ","2006-05-18",82,"男"]
[2006,7,12,45883,"茶谷","匡祐","チャタニ","キョウスケ","男",1,null,null,1,"茶谷","匡祐","チャタニ","キョウスケ","2006-07-12",83,"男"]
[2006,11,4,45884,"江口","結翔","エグチ","ユイト","男",1,null,null,1,"江口","結翔","エグチ","ユイト","2006-11-04",84,"男"]
[2004,11,29,45831,"坂井","楠奈","サカイ","ナナ","女",3,null,null,3,"坂井","楠奈","サカイ","ナナ","2004-11-29",31,"女"]
[2005,6,9,45841,"松本","志穂","マツモト","シホ","女",2,null,null,2,"松本","志穂","マツモト","シホ","2005-06-09",41,"女"]
[2006,4,27,45851,"三木","胡桃","ミキ","クルミ","女",1,null,null,1,"三木","胡桃","ミキ","クルミ","2006-04-27",51,"女"]
[2007,3,25,45852,"砂川","心美","スナガワ","ココミ","女",1,null,null,1,"砂川","心美","スナガワ","ココミ","2007-03-25",52,"女"]
[2007,1,30,45853,"橋本","心愛","ハシモト","ココア","女",1,null,null,1,"橋本","心愛","ハシモト","ココア","2007-01-30",53,"女"]
[2006,10,8,45854,"井神","陽菜","イノカミ","ヒナ","女",1,null,null,1,"井神","陽菜","イノカミ","ヒナ","2006-10-08",54,"女"]
[null,null,null,null,null,null,null,null,null,null,null,null,"","","","","","","",""]
[null,null,null,null,null,null,null,null,null,null,null,null,"","","","","","","",""]
[null,null,null,null,null,null,null,null,null,null,null,null,"","","","","","","",""]
[null,null,null,null,null,null,null,null,null,null,null,null,"","","","","","","",""]
[null,null,null,null,null,null,null,null,null,null,null,null,"","","","","","","",""]
[null,null,null,null,null,null,null,null,null,null,null,null,"","","","","","","",""]
[null,null,null,null,null,null,null,null,null,null,null,null,"","","","","","","",""]
[null,null,null,null,null,null,null,null,null,null,null,null,"","","","","","","",""]
[null,null,null,null,null,null,null,null,null,null,null,null,"","","","","","","",""]
[null,null,null,null,null,null,null,null,null,null,null,null,"","","","","","","",""]
[null,null,null,null,null,null,null,null,null,null,null,null,"","","","","","","",""]
[null,null,null,null,null,null,null,null,null,null,null,null,"","","","","","","",""]
[null,null,null,null,null,null,null,null,null,null,null,null,"","","","","","","",""]
[null,null,null,null,null,null,null,null,null,null,null,null,"","","","","","","",""]
[null,null,null,null,null,null,null,null,null,null,null,null,"","","","","","","",""]
[null,null,null,null,null,null,null,null,null,null,null,null,"","","","","","","",""]
[null,null,null,null,null,null,null,null,null,null,null,null,"","","","","","","",""]
[null,null,null,null,null,null,null,null,null,null,null,null,"","","","","","","",""]
[null,null,null,null,null,null,null,null,null,null,null,null,"","","","","","","",""]
[null,null,null,null,null,null,null,null,null,null,null,null,"","","","","","","",""]
[null,null,null,null,null,null,null,null,null,null,null,null,"","","","","","","",""]
[null,null,null,null,null,null,null,null,null,null,null,null,"","","","","","","",""]
[null,null,null,null,null,null,null,null,null,null,null,null,"","","","","","","",""]
[null,null,null,null,null,null,null,null,null,null,null,null,"","","","","","","",""]
[null,null,null,null,null,null,null,null,null,null,null,null,"","","","","","","",""]
[null,null,null,null,null,null,null,null,null,null,null,null,"","","","","","","",""]
[null,null,null,null,null,null,null,null,null,null,null,null,"","","","","","","",""]
[null,null,null,null,null,null,null,null,null,null,null,null,"","","","","","","",""]
[null,null,null,null,null,null,null,null,null,null,null,null,"","","","","","","",""]
[null,null,null,null,null,null,null,null,null,null,null,null,"","","","","","","",""]
[null,null,null,null,null,null,null,null,null,null,null,null,"","","","","","","",""]
[null,null,null,null,null,null,null,null,null,null,null,null,"","","","","","","",""]
[null,null,null,null,null,null,null,null,null,null,null,null,"","","","","","","",""]
[null,null,null,null,null,null,null,null,null,null,null,null,"","","","","","","",""]
[null,null,null,null,null,null,null,null,null,null,null,null,"","","","","","","",""]
[null,null,null,null,null,null,null,null,null,null,null,null,"","","","","","","",""]
[null,null,null,null,null,null,null,null,null,null,null,null,"","","","","","","",""]
[null,null,null,null,null,null,null,null,null,null,null,null,"","","","","","","",""]
[null,null,null,null,null,null,null,null,null,null,null,null,"","","","","","","",""]
[null,null,null,null,null,null,null,null,null,null,null,null,"","","","","","","",""]
[null,null,null,null,null,null,null,null,null,null,null,null,"","","","","","","",""]
[null,null,null,null,null,null,null,null,null,null,null,null,"","","","",{"$f":"IF(H66=\"\",\"\",H66)","v":""},"","",""]
[null,null,null,null,null,null,null,null,null,null,null,null,{"$f":"IF(J67=\"\",\"\",J67)","v":""},{"$f":"IF(E67=\"\",\"\",E67)","v":""},"","","",{"$f":"IF(D67=\"\",\"\",DATE(A67,B67,C67))","v":""},{"$f":"IF(D67=\"\",\"\",RIGHT(D67,2)*1)","v":""},{"$f":"IF(I67=\"\",\"\",I67)","v":""}]
[null,null,null,null,null,null,null,null,null,null,null,null,"","","","","","","",""]
[null,null,null,null,null,null,null,null,null,null,null,null,"","","","","","","",""]
[null,null,null,null,null,null,null,null,null,null,null,null,"","","","","","","",""]
[null,null,null,null,null,null,null,null,null,null,null,null,"","","","","","","",""]
[null,null,null,null,null,null,null,null,null,null,null,null,"","","","","","","",""]
[null,null,null,null,null,null,null,null,null,null,null,null,"","","","","","","",""]
[null,null,null,null,null,null,null,null,null,null,null,null,"","","","","","","",""]
[null,null,null,null,null,null,null,null,null,null,null,null,"","","","","","","",""]
[null,null,null,null,null,null,null,null,null,null,null,null,"","","","","","","",""]
[null,null,null,null,null,null,null,null,null,null,null,null,"","","","","","","",""]
[null,null,null,null,null,null,null,null,null,null,null,null,"","","","","","","",""]
[null,null,null,null,null,null,null,null,null,null,null,null,"","","","","","","",""]
[null,null,null,null,null,null,null,null,null,null,null,null,"","","","","","","",""]
[null,null,null,null,null,null,null,null,null,null,null,null,"","","","","","","",""]
[null,null,null,null,null,null,null,null,null,null,null,null,"","","","","","","",""]
[null,null,null,null,null,null,null,null,null,null,null,null,"","","","","","","",""]
[null,null,null,null,null,null,null,null,null,null,null,null,"","","","","","","",""]
[null,null,null,null,null,null,null,null,null,null,null,null,"","","","","","","",""]
[null,null,null,null,null,null,null,null,null,null,null,null,"","","","","","","",""]
[null,null,null,null,null,null,null,null,null,null,null,null,"","","","","","","",""]
[null,null,null,null,null,null,null,null,null,null,null,null,"","","","","","","",""]
[null,null,null,null,null,null,null,null,null,null,null,null,"","","","","","","",""]
[null,null,null,null,null,null,null,null,null,null,null,null,"","","","","","","",""]
[null,null,null,null,null,null,null,null,null,null,null,null,"","","","","","","",""]
[null,null,null,null,null,null,null,null,null,null,null,null,"","","","","","","",""]
[null,null,null,null,null,null,null,null,null,null,null,null,"","","","","","","",""]
[null,null,null,null,null,null,null,null,null,null,null,null,"","","","","","","",""]
[null,null,null,null,null,null,null,null,null,null,null,null,"","","","","","","",""]
[null,null,null,null,null,null,null,null,null,null,null,null,"","","","","","","",""]
[null,null,null,null,null,null,null,null,null,null,null,null,"","","","","","","",""]
[null,null,null,null,null,null,null,null,null,null,null,null,"","","","","","","",""]
[null,null,null,null,null,null,null,null,null,null,null,null,"","","","","","","",""]
[null,null,null,null,null,null,null,null,null,null,null,null,"","","","","","","",""]
[null,null,null,null,null,null,null,null,null,null,null,null,"","","","","","","",""]
[null,null,null,null,null,null,null,null,null,null,null,null,"","","","","","","",""]
[null,null,null,null,null,null,null,null,null,null,null,null,"","","","","","","",""]
[null,null,null,null,null,null,null,null,null,null,null,null,"","","","","","","",""]
[null,null,null,null,null,null,null,null,null,null,null,null,"","","","","","","",""]
[null,null,null,null,null,null,null,null,null,null,null,null,"","","","","","","",""]
[null,null,null,null,null,null,null,null,null,null,null,null,"","","","","","","",""]
[null,null,null,null,null,null,null,null,null,null,null,null,"","","","","","","",""]
[null,null,null,null,null,null,null,null,null,null,null,null,"","","","","","","",""]
[null,null,null,null,null,null,null,null,null,null,null,null,"","","","","","","",""]
[null,null,null,null,null,null,null,null,null,null,null,null,"","","","","","","",""]
[null,null,null,null,null,null,null,null,null,null,null,null,"","","","","","","",""]
[null,null,null,null,null,null,null,null,null,null,null,null,"","","","","","","",""]
[null,null,null,null,null,null,null,null,null,null,null,null,"","","","","","","",""]
[null,null,null,null,null,null,null,null,null,null,null,null,"","","","","","","",""]
[null,null,null,null,null,null,null,null,null,null,null,null,"","","","","","","",""]
[null,null,null,null,null,null,null,null,null,null,null,null,"","","","","","","",""]
[null,null,null,null,null,null,null,null,null,null,null,null,"","","","","","","",""]
[null,null,null,null,null,null,null,null,null,null,null,null,"","","","","","","",""]
[null,null,null,null,null,null,null,null,null,null,null,null,"","","","","","","",""]
[null,null,null,null,null,null,null,null,null,null,null,null,"","","","","","","",""]
[null,null,null,null,null,null,null,null,null,null,null,null,"","","","","","","",""]
[null,null,null,null,null,null,null,null,null,null,null,null,"","","","","","","",""]
[null,null,null,null,null,null,null,null,null,null,null,null,"","","","","","","",""]
[null,null,null,null,null,null,null,null,null,null,null,null,"","","","","","","",""]
[null,null,null,null,null,null,null,null,null,null,null,null,"","","","","","","",""]
[null,null,null,null,null,null,null,null,null,null,null,null,"","","","","","","",""]
[null,null,null,null,null,null,null,null,null,null,null,null,"","","","","","","",""]
[null,null,null,null,null,null,null,null,null,null,null,null,"","","","","","","",""]
[null,null,null,null,null,null,null,null,null,null,null,null,"","","","","","","",""]
[null,null,null,null,null,null,null,null,null,null,null,null,{"$f":"IF(J131=\"\",\"\",J131)","v":""},{"$f":"IF(E131=\"\",\"\",E131)","v":""},"","","",{"$f":"IF(D131=\"\",\"\",DATE(A131,B131,C131))","v":""},{"$f":"IF(D131=\"\",\"\",RIGHT(D131,2)*1)","v":""},{"$f":"IF(I131=\"\",\"\",I131)","v":""}]
[null,null,null,null,null,null,null,null,null,null,null,null,"","","","","","","",""]
[null,null,null,null,null,null,null,null,null,null,null,null,"","","","","","","",""]
[null,null,null,null,null,null,null,null,null,null,null,null,"","","","","","","",""]
[null,null,null,null,null,null,null,null,null,null,null,null,"","","","","","","",""]
[null,null,null,null,null,null,null,null,null,null,null,null,"","","","","","","",""]
[null,null,null,null,null,null,null,null,null,null,null,null,"","","","","","","",""]
[null,null,null,null,null,null,null,null,null,null,null,null,"","","","","","","",""]
[null,null,null,null,null,null,null,null,null,null,null,null,"","","","","","","",""]
[null,null,null,null,null,null,null,null,null,null,null,null,"","","","","","","",""]
[null,null,null,null,null,null,null,null,null,null,null,null,"","","","","","","",""]
[null,null,null,null,null,null,null,null,null,null,null,null,"","","","","","","",""]
[null,null,null,null,null,null,null,null,null,null,null,null,"","","","","","","",""]
[null,null,null,null,null,null,null,null,null,null,null,null,"","","","","","","",""]
[null,null,null,null,null,null,null,null,null,null,null,null,"","","","","","","",""]
[null,null,null,null,null,null,null,null,null,null,null,null,"","","","","","","",""]
[null,null,null,null,null,null,null,null,null,null,null,null,"","","","","","","",""]
[null,null,null,null,null,null,null,null,null,null,null,null,"","","","","","","",""]
[null,null,null,null,null,null,null,null,null,null,null,null,"","","","","","","",""]
[null,null,null,null,null,null,null,null,null,null,null,null,"","","","","","","",""]
[null,null,null,null,null,null,null,null,null,null,null,null,"","","","","","","",""]
[null,null,null,null,null,null,null,null,null,null,null,null,"","","","","","","",""]
[null,null,null,null,null,null,null,null,null,null,null,null,"","","","","","","",""]
[null,null,null,null,null,null,null,null,null,null,null,null,"","","","","","","",""]
[null,null,null,null,null,null,null,null,null,null,null,null,"","","","","","","",""]
[null,null,null,null,null,null,null,null,null,null,null,null,"","","","","","","",""]
[null,null,null,null,null,null,null,null,null,null,null,null,"","","","","","","",""]
[null,null,null,null,null,null,null,null,null,null,null,null,"","","","","","","",""]
[null,null,null,null,null,null,null,null,null,null,null,null,"","","","","","","",""]
[null,null,null,null,null,null,null,null,null,null,null,null,"","","","","","","",""]
[null,null,null,null,null,null,null,null,null,null,null,null,"","","","","","","",""]
[null,null,null,null,null,null,null,null,null,null,null,null,"","","","","","","",""]
[null,null,null,null,null,null,null,null,null,null,null,null,"","","","","","","",""]
[null,null,null,null,null,null,null,null,null,null,null,null,"","","","","","","",""]
[null,null,null,null,null,null,null,null,null,null,null,null,"","","","","","","",""]
[null,null,null,null,null,null,null,null,null,null,null,null,"","","","","","","",""]
[null,null,null,null,null,null,null,null,null,null,null,null,"","","","","","","",""]
[null,null,null,null,null,null,null,null,null,null,null,null,"","","","","","","",""]
[null,null,null,null,null,null,null,null,null,null,null,null,"","","","","","","",""]
[null,null,null,null,null,null,null,null,null,null,null,null,"","","","","","","",""]
[null,null,null,null,null,null,null,null,null,null,null,null,"","","","","","","",""]
[null,null,null,null,null,null,null,null,null,null,null,null,"","","","","","","",""]
[null,null,null,null,null,null,null,null,null,null,null,null,"","","","","","","",""]
[null,null,null,null,null,null,null,null,null,null,null,null,"","","","","","","",""]
[null,null,null,null,null,null,null,null,null,null,null,null,"","","","","","","",""]
[null,null,null,null,null,null,null,null,null,null,null,null,"","","","","","","",""]
[null,null,null,null,null,null,null,null,null,null,null,null,"","","","","","","",""]
[null,null,null,null,null,null,null,null,null,null,null,null,"","","","","","","",""]
[null,null,null,null,null,null,null,null,null,null,null,null,"","","","","","","",""]
[null,null,null,null,null,null,null,null,null,null,null,null,"","","","","","","",""]
[null,null,null,null,null,null,null,null,null,null,null,null,"","","","","","","",""]
[null,null,null,null,null,null,null,null,null,null,null,null,"","","","","","","",""]
[null,null,null,null,null,null,null,null,null,null,null,null,"","","","","","","",""]
[null,null,null,null,null,null,null,null,null,null,null,null,"","","","","","","",""]
[null,null,null,null,null,null,null,null,null,null,null,null,"","","","","","","",""]
[null,null,null,null,null,null,null,null,null,null,null,null,"","","","","","","",""]
[null,null,null,null,null,null,null,null,null,null,null,null,"","","","","","","",""]
[null,null,null,null,null,null,null,null,null,null,null,null,"","","","","","","",""]
[null,null,null,null,null,null,null,null,null,null,null,null,"","","","","","","",""]
[null,null,null,null,null,null,null,null,null,null,null,null,"","","","","","","",""]
[null,null,null,null,null,null,null,null,null,null,null,null,"","","","","","","",""]
[null,null,null,null,null,null,null,null,null,null,null,null,"","","","","","","",""]
[null,null,null,null,null,null,null,null,null,null,null,null,"","","","","","","",""]
[null,null,null,null,null,null,null,null,null,null,null,null,"","","","",{"$f":"IF(H194=\"\",\"\",H194)","v":""},"","",""]
[null,null,null,null,null,null,null,null,null,null,null,null,{"$f":"IF(J195=\"\",\"\",J195)","v":""},{"$f":"IF(E195=\"\",\"\",E195)","v":""},"","","",{"$f":"IF(D195=\"\",\"\",DATE(A195,B195,C195))","v":""},{"$f":"IF(D195=\"\",\"\",RIGHT(D195,2)*1)","v":""},{"$f":"IF(I195=\"\",\"\",I195)","v":""}]
[null,null,null,null,null,null,null,null,null,null,null,null,"","","","","","","",""]
[null,null,null,null,null,null,null,null,null,null,null,null,"","","","","","","",""]
[null,null,null,null,null,null,null,null,null,null,null,null,"","","","","","","",""]
[null,null,null,null,null,null,null,null,null,null,null,null,"","","","","","","",""]
[null,null,null,null,null,null,null,null,null,null,null,null,"","","","","","","",""]
[null,null,null,null,null,null,null,null,null,null,null,null,"","","","","","","",""]

{"sheet":"標準記録","index":6,"n_rows":39,"n_cols":10,"rows_kept":39,"cut":false,"hidden":true,"merged":[]}
[]
[]
[null,"男子"]
[null,"種目","共通","１年","２年","３年","１．２年","２．３年","低学年","その他"]
["001","１００ｍ"]
["002","２００ｍ"]
["004","４００ｍ"]
["008","８００ｍ"]
["015","１５００ｍ"]
["030","３０００ｍ"]
["111","１１０ｍＨ"]
["410","４×１００ｍＲ"]
["510","走高跳"]
["520","棒高跳"]
["530","走幅跳"]
["540","三段跳"]
["551","円盤投(1.5㎏)"]
["562","砲丸投(5.0㎏)"]
["563","砲丸投(4.0㎏)"]
["570","ｼﾞｬﾍﾞﾘｯｸｽﾛｰ"]
["710","四種競技"]
[]
[null,"女子"]
[null,"種目","共通","１年","２年","３年","１．２年","２．３年","低学年","その他"]
["001","１００ｍ"]
["002","２００ｍ"]
["004","４００ｍ"]
["008","８００ｍ"]
["015","１５００ｍ"]
["030","３０００ｍ"]
["110","１００ｍＨ"]
["410","４×１００ｍＲ"]
["510","走高跳"]
["530","走幅跳"]
["550","円盤投"]
["560","砲丸投"]
["563","砲丸投(4.0㎏)"]
["570","ｼﾞｬﾍﾞﾘｯｸｽﾛｰ"]
["760","四種競技"]

{"sheet":"入力シート(中播総体)","index":7,"n_rows":102,"n_cols":28,"rows_kept":102,"cut":false,"hidden":true,"merged":[[51,3,54,7],[51,8,51,9],[28,10,32,12],[46,3,49,7],[46,8,46,9],[46,12,49,12],[47,8,47,9],[48,8,48,9],[49,8,49,9],[78,10,82,12],[92,3,95,7],[92,8,92,9],[92,12,95,12],[93,8,93,9],[10,10,14,12],[64,10,68,12],[55,0,100,0],[1,0,54,0],[94,8,94,9],[95,8,95,9],[97,3,100,7],[97,8,97,9],[97,12,100,12],[98,8,98,9],[99,8,99,9],[100,8,100,9],[51,12,54,12],[52,8,52,9],[53,8,53,9],[54,8,54,9]]}
["性別","性別","種別コード","種別","種目コード","種目","学校番号","個人番号","氏名","学年","申込記録","計測区分","大会名",null,null,null,null,null,null,null,null,null,null,null,null,1,2,3]
["男子","男",1,{"$f":"VLOOKUP(C2,出場種別,2,FALSE)","v":"１年"},"001",{"$f":"VLOOKUP(E2,種目コード,2,FALSE)","v":"１００ｍ"},{"$f":"学校番号","v":0},null,{"$f":"IF(H2=\"\",\"\",VLOOKUP(P2,部員データ,3,FALSE)&\"　\"&VLOOKUP(P2,部員データ,4,FALSE))","v":""},{"$f":"IF(H2=\"\",\"\",VLOOKUP(P2,部員データ,2,FALSE))","v":""},null,null,null,null,null,{"$f":"IF(H2=\"\",\"\",B2&DBCS(TEXT(H2,\"００\")))","v":""},{"$f":"COUNTIF($P$2:$P$9,P2)+COUNTIF($P$34:$P$51,P2)+COUNTIF($P$16:$P$27,P2)","v":38},{"$f":"IF(VLOOKUP(E2,男子標準記録,C2+3,FALSE)=\"\",\"\",VLOOKUP(E2,男子標準記録,C2+3,FALSE))","v":""},{"$f":"VLOOKUP(E2,種目コード,4,FALSE)","v":10},{"$f":"IF(FIND(\".\",TEXT(K2,\"#.00\"))>3,MID(TEXT(K2,\"#.00\"),FIND(\".\",TEXT(K2,\"#.00\"))-2,2)/1,\"\")","v":""},null,{"$f":"IF(COUNTIF($P$2:P2,P2)>1,\"*\",1)","v":1},null,null,"男",{"$f":"COUNTIFS($J$2:$J$51,$Z$1,$V$2:$V$51,Z1)","v":0},{"$f":"COUNTIFS($J$2:$J$51,$AA$1,$V$2:$V$51,1)","v":0},{"$f":"COUNTIFS($J$2:$J$51,$AB$1,$V$2:$V$51,1)","v":0}]
[null,"男",1,"１年","001","１００ｍ",0,null,{"$f":"IF(H3=\"\",\"\",VLOOKUP(P3,部員データ,3,FALSE)&\"　\"&VLOOKUP(P3,部員データ,4,FALSE))","v":""},"",null,null,null,null,null,"",38,"",10,{"$f":"IF(FIND(\".\",TEXT(K3,\"#.00\"))>3,MID(TEXT(K3,\"#.00\"),FIND(\".\",TEXT(K3,\"#.00\"))-2,2)/1,\"\")","v":""},null,{"$f":"IF(COUNTIF($P$2:P3,P3)>1,\"*\",1)","v":"*"},null,null,"女",{"$f":"COUNTIFS($J$56:$J$97,$Z$1,$V$56:$V$97,1)","v":0},{"$f":"COUNTIFS($J$56:$J$97,$AA$1,$V$56:$V$97,1)","v":0},{"$f":"COUNTIFS($J$56:$J$97,$AB$1,$V$56:$V$97,1)","v":0}]
[null,"男",1,"１年","015","１５００ｍ",0,null,{"$f":"IF(H4=\"\",\"\",VLOOKUP(P4,部員データ,3,FALSE)&\"　\"&VLOOKUP(P4,部員データ,4,FALSE))","v":""},"",null,null,null,null,null,"",38,"",340,"",null,{"$f":"IF(COUNTIF($P$2:P4,P4)>1,\"*\",1)","v":"*"}]
[null,"男",1,"１年","015","１５００ｍ",0,null,"","",null,null,null,null,null,"",38,"",340,"",null,{"$f":"IF(COUNTIF($P$2:P5,P5)>1,\"*\",1)","v":"*"}]
[null,"男",2,"２年","001","１００ｍ",0,null,"","",null,null,null,null,null,"",38,"",10,"",null,{"$f":"IF(COUNTIF($P$2:P6,P6)>1,\"*\",1)","v":"*"}]
[null,"男",2,"２年","001","１００ｍ",0,null,"","",null,null,null,null,null,"",38,"",10,"",null,{"$f":"IF(COUNTIF($P$2:P7,P7)>1,\"*\",1)","v":"*"}]
[null,"男",3,"３年","001","１００ｍ",0,null,"","",null,null,null,null,null,"",38,"",10,"",null,{"$f":"IF(COUNTIF($P$2:P8,P8)>1,\"*\",1)","v":"*"}]
[null,"男",3,"３年","001","１００ｍ",0,null,"","",null,null,null,null,null,"",38,"",10,"",null,{"$f":"IF(COUNTIF($P$2:P9,P9)>1,\"*\",1)","v":"*"}]
[null,"男",6,{"$f":"VLOOKUP(C10,出場種別,2,FALSE)","v":"低学年"},"410",{"$f":"VLOOKUP(E10,種目コード,2,FALSE)","v":"４×１００ｍＲ"},0,null,{"$f":"IF(H10=\"\",\"\",VLOOKUP(P10,部員データ,3,FALSE)&\"　\"&VLOOKUP(P10,部員データ,4,FALSE))","v":""},{"$f":"IF(H10=\"\",\"\",VLOOKUP(P10,部員データ,2,FALSE))","v":""},null,null,null,null,null,{"$f":"IF(H10=\"\",\"\",B10&DBCS(TEXT(H10,\"００\")))","v":""},{"$f":"COUNTIF($P$10:$P$15,P10)+COUNTIF($P$28:$P$33,P10)","v":12},{"$f":"IF(VLOOKUP(E10,男子標準記録,C10+3,FALSE)=\"\",\"\",VLOOKUP(E10,男子標準記録,C10+3,FALSE))","v":""},{"$f":"VLOOKUP(E10,種目コード,4,FALSE)","v":38},{"$f":"IF(FIND(\".\",TEXT(K10,\"#.00\"))>3,MID(TEXT(K10,\"#.00\"),FIND(\".\",TEXT(K10,\"#.00\"))-2,2)/1,\"\")","v":""},null,{"$f":"IF(COUNTIF($P$2:P10,P10)>1,\"*\",1)","v":"*"}]
[null,"男",6,"低学年","410","４×１００ｍＲ",0,null,"","",null,null,null,null,null,"",12,null,null,"",null,{"$f":"IF(COUNTIF($P$2:P11,P11)>1,\"*\",1)","v":"*"}]
[null,"男",6,"低学年","410","４×１００ｍＲ",0,null,"","",null,null,null,null,null,"",12,null,null,"",null,{"$f":"IF(COUNTIF($P$2:P12,P12)>1,\"*\",1)","v":"*"}]
[null,"男",6,"低学年","410","４×１００ｍＲ",0,null,"","",null,null,null,null,null,"",12,null,null,"",null,{"$f":"IF(COUNTIF($P$2:P13,P13)>1,\"*\",1)","v":"*"}]
[null,"男",6,"低学年","410","４×１００ｍＲ",0,null,"","",null,null,null,null,null,"",12,null,null,"",null,{"$f":"IF(COUNTIF($P$2:P14,P14)>1,\"*\",1)","v":"*"}]
[null,"男",6,"低学年","410","４×１００ｍＲ",0,null,"","",null,null,null,null,null,"",12,null,null,"",null,{"$f":"IF(COUNTIF($P$2:P15,P15)>1,\"*\",1)","v":"*"}]
[null,"男",0,"共通","002","２００ｍ",0,null,"","",null,null,null,null,null,"",38,"",20.5,"",null,{"$f":"IF(COUNTIF($P$2:P16,P16)>1,\"*\",1)","v":"*"}]
[null,"男",0,"共通","002","２００ｍ",0,null,"","",null,null,null,null,null,"",38,"",20.5,"",null,{"$f":"IF(COUNTIF($P$2:P17,P17)>1,\"*\",1)","v":"*"}]
[null,"男",0,"共通","004","４００ｍ",0,null,"","",null,null,null,null,null,"",38,"",42,"",null,{"$f":"IF(COUNTIF($P$2:P18,P18)>1,\"*\",1)","v":"*"}]
[null,"男",0,"共通","004","４００ｍ",0,null,"","",null,null,null,null,null,"",38,"",42,"",null,{"$f":"IF(COUNTIF($P$2:P19,P19)>1,\"*\",1)","v":"*"}]
[null,"男",0,"共通","008","８００ｍ",0,null,"","",null,null,null,null,null,"",38,"",150,"",null,{"$f":"IF(COUNTIF($P$2:P20,P20)>1,\"*\",1)","v":"*"}]
[null,"男",0,"共通","008","８００ｍ",0,null,"","",null,null,null,null,null,"",38,"",150,"",null,{"$f":"IF(COUNTIF($P$2:P21,P21)>1,\"*\",1)","v":"*"}]
[null,"男",0,{"$f":"VLOOKUP(C22,出場種別,2,FALSE)","v":"共通"},"015",{"$f":"VLOOKUP(E22,種目コード,2,FALSE)","v":"１５００ｍ"},0,null,{"$f":"IF(H22=\"\",\"\",VLOOKUP(P22,部員データ,3,FALSE)&\"　\"&VLOOKUP(P22,部員データ,4,FALSE))","v":""},{"$f":"IF(H22=\"\",\"\",VLOOKUP(P22,部員データ,2,FALSE))","v":""},null,null,null,null,null,{"$f":"IF(H22=\"\",\"\",B22&DBCS(TEXT(H22,\"００\")))","v":""},38,{"$f":"IF(VLOOKUP(E22,男子標準記録,C22+3,FALSE)=\"\",\"\",VLOOKUP(E22,男子標準記録,C22+3,FALSE))","v":""},{"$f":"VLOOKUP(E22,種目コード,4,FALSE)","v":340},{"$f":"IF(FIND(\".\",TEXT(K22,\"#.00\"))>3,MID(TEXT(K22,\"#.00\"),FIND(\".\",TEXT(K22,\"#.00\"))-2,2)/1,\"\")","v":""},null,{"$f":"IF(COUNTIF($P$2:P22,P22)>1,\"*\",1)","v":"*"}]
[null,"男",0,{"$f":"VLOOKUP(C23,出場種別,2,FALSE)","v":"共通"},"015",{"$f":"VLOOKUP(E23,種目コード,2,FALSE)","v":"１５００ｍ"},0,null,{"$f":"IF(H23=\"\",\"\",VLOOKUP(P23,部員データ,3,FALSE)&\"　\"&VLOOKUP(P23,部員データ,4,FALSE))","v":""},{"$f":"IF(H23=\"\",\"\",VLOOKUP(P23,部員データ,2,FALSE))","v":""},null,null,null,null,null,{"$f":"IF(H23=\"\",\"\",B23&DBCS(TEXT(H23,\"００\")))","v":""},38,{"$f":"IF(VLOOKUP(E23,男子標準記録,C23+3,FALSE)=\"\",\"\",VLOOKUP(E23,男子標準記録,C23+3,FALSE))","v":""},{"$f":"VLOOKUP(E23,種目コード,4,FALSE)","v":340},{"$f":"IF(FIND(\".\",TEXT(K23,\"#.00\"))>3,MID(TEXT(K23,\"#.00\"),FIND(\".\",TEXT(K23,\"#.00\"))-2,2)/1,\"\")","v":""},null,{"$f":"IF(COUNTIF($P$2:P23,P23)>1,\"*\",1)","v":"*"}]
[null,"男",0,"共通","030","３０００ｍ",0,null,"","",null,null,null,null,null,"",38,"",800,"",null,{"$f":"IF(COUNTIF($P$2:P24,P24)>1,\"*\",1)","v":"*"}]
[null,"男",0,"共通","030","３０００ｍ",0,null,"","",null,null,null,null,null,"",38,"",800,"",null,{"$f":"IF(COUNTIF($P$2:P25,P25)>1,\"*\",1)","v":"*"}]
[null,"男",0,"共通","111","１１０ｍＨ",0,null,"","",null,null,null,null,null,"",38,"",12,"",null,{"$f":"IF(COUNTIF($P$2:P26,P26)>1,\"*\",1)","v":"*"}]
[null,"男",0,"共通","111","１１０ｍＨ",0,null,"","",null,null,null,null,null,"",38,"",12,"",null,{"$f":"IF(COUNTIF($P$2:P27,P27)>1,\"*\",1)","v":"*"}]
[null,"男",0,"共通","410","４×１００ｍＲ",0,null,"","",null,null,null,null,null,"",{"$f":"COUNTIF($P$10:$P$15,P28)+COUNTIF($P$28:$P$33,P28)","v":12},"",38,"",null,{"$f":"IF(COUNTIF($P$2:P28,P28)>1,\"*\",1)","v":"*"}]
[null,"男",0,"共通","410","４×１００ｍＲ",0,null,"","",null,null,null,null,null,"",12,null,null,"",null,{"$f":"IF(COUNTIF($P$2:P29,P29)>1,\"*\",1)","v":"*"}]
[null,"男",0,"共通","410",{"$f":"VLOOKUP(E30,種目コード,2,FALSE)","v":"４×１００ｍＲ"},0,null,"","",null,null,null,null,null,"",12,null,null,"",null,{"$f":"IF(COUNTIF($P$2:P30,P30)>1,\"*\",1)","v":"*"}]
[null,"男",0,"共通","410","４×１００ｍＲ",0,null,"","",null,null,null,null,null,"",12,null,null,"",null,{"$f":"IF(COUNTIF($P$2:P31,P31)>1,\"*\",1)","v":"*"}]
[null,"男",0,"共通","410","４×１００ｍＲ",0,null,"","",null,null,null,null,null,"",12,null,null,"",null,{"$f":"IF(COUNTIF($P$2:P32,P32)>1,\"*\",1)","v":"*"}]
[null,"男",0,"共通","410","４×１００ｍＲ",0,null,"","",null,null,null,null,null,"",12,null,null,"",null,{"$f":"IF(COUNTIF($P$2:P33,P33)>1,\"*\",1)","v":"*"}]
[null,"男",0,"共通","510","走高跳",0,null,"","",null,null,null,null,null,"",38,{"$f":"IF(VLOOKUP(E34,男子標準記録,C34+3,FALSE)=\"\",\"\",VLOOKUP(E34,男子標準記録,C34+3,FALSE))","v":""},{"$f":"VLOOKUP(E34,種目コード,4,FALSE)","v":2.4},"",null,{"$f":"IF(COUNTIF($P$2:P34,P34)>1,\"*\",1)","v":"*"}]
[null,"男",0,"共通","510","走高跳",0,null,"","",null,null,null,null,null,"",38,"",2.4,"",null,{"$f":"IF(COUNTIF($P$2:P35,P35)>1,\"*\",1)","v":"*"}]
[null,"男",0,"共通","520","棒高跳",0,null,"","",null,null,null,null,null,"",38,"",5.5,"",null,{"$f":"IF(COUNTIF($P$2:P36,P36)>1,\"*\",1)","v":"*"}]
[null,"男",0,"共通","520","棒高跳",0,null,"","",null,null,null,null,null,"",38,"",5.5,"",null,{"$f":"IF(COUNTIF($P$2:P37,P37)>1,\"*\",1)","v":"*"}]
[null,"男",0,"共通","530","走幅跳",0,null,"","",null,null,null,null,null,"",38,"",8,"",null,{"$f":"IF(COUNTIF($P$2:P38,P38)>1,\"*\",1)","v":"*"}]
[null,"男",0,"共通","530","走幅跳",0,null,"","",null,null,null,null,null,"",38,"",8,"",null,{"$f":"IF(COUNTIF($P$2:P39,P39)>1,\"*\",1)","v":"*"}]
[null,"男",0,"共通","540","三段跳",0,null,"","",null,null,null,null,null,"",38,"",17,"",null,{"$f":"IF(COUNTIF($P$2:P40,P40)>1,\"*\",1)","v":"*"}]
[null,"男",0,"共通","540","三段跳",0,null,"","",null,null,null,null,null,"",38,"",17,"",null,{"$f":"IF(COUNTIF($P$2:P41,P41)>1,\"*\",1)","v":"*"}]
[null,"男",0,"共通","562","砲丸投(5.0㎏)",0,null,"","",null,null,null,null,null,"",38,"",20,"",null,{"$f":"IF(COUNTIF($P$2:P42,P42)>1,\"*\",1)","v":"*"}]
[null,"男",0,"共通","562","砲丸投(5.0㎏)",0,null,"","",null,null,null,null,null,"",38,"",20,"",null,{"$f":"IF(COUNTIF($P$2:P43,P43)>1,\"*\",1)","v":"*"}]
[null,"男",0,"共通","551","円盤投(1.5㎏)",0,null,"","",null,null,null,null,null,"",38,"",70,"",null,{"$f":"IF(COUNTIF($P$2:P44,P44)>1,\"*\",1)","v":"*"}]
[null,"男",0,"共通","551","円盤投(1.5㎏)",0,null,"","",null,null,null,null,null,"",38,"",70,"",null,{"$f":"IF(COUNTIF($P$2:P45,P45)>1,\"*\",1)","v":"*"}]
[null,"男",0,"共通","710","男子四種競技",0,null,"","",null,null,null,null,null,"",38,"",3800,"",null,{"$f":"IF(COUNTIF($P$2:P46,P46)>1,\"*\",1)","v":"*"}]
[null,null,null,null,null,null,null,null,"１１０ｍH",null,null,null,null,null,null,null,0,null,null,"",null,{"$f":"IF(COUNTIF($P$2:P47,P47)>1,\"*\",1)","v":1}]
[null,null,null,null,null,null,null,null,"砲丸投げ",null,null,null,null,null,null,null,0,null,null,"",null,{"$f":"IF(COUNTIF($P$2:P48,P48)>1,\"*\",1)","v":1}]
[null,null,null,null,null,null,null,null,"走高跳",null,null,null,null,null,null,null,0,null,null,"",null,{"$f":"IF(COUNTIF($P$2:P49,P49)>1,\"*\",1)","v":1}]
[null,null,null,null,null,null,null,null,"４００ｍ",null,null,null,null,null,null,null,0,null,null,"",null,{"$f":"IF(COUNTIF($P$2:P50,P50)>1,\"*\",1)","v":1}]
[null,"男",0,{"$f":"VLOOKUP(C51,出場種別,2,FALSE)","v":"共通"},"710",{"$f":"VLOOKUP(E51,種目コード,2,FALSE)","v":"男子四種競技"},{"$f":"学校番号","v":0},null,{"$f":"IF(H51=\"\",\"\",VLOOKUP(P51,部員データ,3,FALSE)&\"　\"&VLOOKUP(P51,部員データ,4,FALSE))","v":""},{"$f":"IF(H51=\"\",\"\",VLOOKUP(P51,部員データ,2,FALSE))","v":""},null,null,null,null,null,"",38,{"$f":"IF(VLOOKUP(E51,男子標準記録,C51+3,FALSE)=\"\",\"\",VLOOKUP(E51,男子標準記録,C51+3,FALSE))","v":""},{"$f":"VLOOKUP(E51,種目コード,4,FALSE)","v":3800},"",null,{"$f":"IF(COUNTIF($P$2:P51,P51)>1,\"*\",1)","v":"*"}]
[null,null,null,null,null,null,null,null,"１１０ｍH",null,null,null,null,null,null,null,null,null,null,"",null,{"$f":"IF(COUNTIF($P$2:P52,P52)>1,\"*\",1)","v":1}]
[null,null,null,null,null,null,null,null,"砲丸投げ",null,null,null,null,null,null,null,null,null,null,"",null,{"$f":"IF(COUNTIF($P$2:P53,P53)>1,\"*\",1)","v":1}]
[null,null,null,null,null,null,null,null,"走高跳",null,null,null,null,null,null,null,null,null,null,"",null,{"$f":"IF(COUNTIF($P$2:P54,P54)>1,\"*\",1)","v":1}]
[null,null,null,null,null,null,null,null,"４００ｍ",null,null,null,null,null,null,null,null,null,null,"",null,{"$f":"IF(COUNTIF($P$2:P55,P55)>1,\"*\",1)","v":1}]
["女子","女",1,{"$f":"VLOOKUP(C56,出場種別,2,FALSE)","v":"１年"},"001",{"$f":"VLOOKUP(E56,種目コード,2,FALSE)","v":"１００ｍ"},{"$f":"学校番号","v":0},null,{"$f":"IF(H56=\"\",\"\",VLOOKUP(P56,部員データ,3,FALSE)&\"　\"&VLOOKUP(P56,部員データ,4,FALSE))","v":""},{"$f":"IF(H56=\"\",\"\",VLOOKUP(P56,部員データ,2,FALSE))","v":""},null,null,null,null,null,"",{"$f":"COUNTIF($P$56:$P$63,P56)+COUNTIF($P$84:$P$97,P56)+COUNTIF($P$70:$P$77,P56)","v":30},{"$f":"IF(VLOOKUP(E56,女子標準記録,C56+3,FALSE)=\"\",\"\",VLOOKUP(E56,女子標準記録,C56+3,FALSE))","v":""},{"$f":"VLOOKUP(E56,種目コード,6,FALSE)","v":11},"",null,{"$f":"IF(COUNTIF($P$2:P56,P56)>1,\"*\",1)","v":"*"}]
[null,"女",1,"１年","001","１００ｍ",0,null,"","",null,null,null,null,null,"",30,"",11,"",null,{"$f":"IF(COUNTIF($P$2:P57,P57)>1,\"*\",1)","v":"*"}]
[null,"女",1,"１年","008","８００ｍ",null,null,{"$f":"IF(H58=\"\",\"\",VLOOKUP(P58,部員データ,3,FALSE)&\"　\"&VLOOKUP(P58,部員データ,4,FALSE))","v":""},{"$f":"IF(H58=\"\",\"\",VLOOKUP(P58,部員データ,2,FALSE))","v":""},null,null,null,null,null,{"$f":"IF(H58=\"\",\"\",B58&DBCS(TEXT(H58,\"００\")))","v":""},{"$f":"COUNTIF($P$56:$P$63,P58)+COUNTIF($P$84:$P$97,P58)+COUNTIF($P$70:$P$77,P58)","v":30},{"$f":"IF(VLOOKUP(E58,女子標準記録,C58+3,FALSE)=\"\",\"\",VLOOKUP(E58,女子標準記録,C58+3,FALSE))","v":""},{"$f":"VLOOKUP(E58,種目コード,6,FALSE)","v":200},{"$f":"IF(FIND(\".\",TEXT(K58,\"#.00\"))>3,MID(TEXT(K58,\"#.00\"),FIND(\".\",TEXT(K58,\"#.00\"))-2,2)/1,\"\")","v":""},null,{"$f":"IF(COUNTIF($P$2:P58,P58)>1,\"*\",1)","v":"*"}]
[null,"女",1,"１年","008","８００ｍ",null,null,"","",null,null,null,null,null,"",30,"",200,"",null,{"$f":"IF(COUNTIF($P$2:P59,P59)>1,\"*\",1)","v":"*"}]
[null,"女",2,"２年","001","１００ｍ",0,null,"","",null,null,null,null,null,"",30,"",11,"",null,{"$f":"IF(COUNTIF($P$2:P60,P60)>1,\"*\",1)","v":"*"}]
[null,"女",2,"２年","001","１００ｍ",0,null,"","",null,null,null,null,null,"",30,"",11,"",null,{"$f":"IF(COUNTIF($P$2:P61,P61)>1,\"*\",1)","v":"*"}]
[null,"女",3,"３年","001","１００ｍ",0,null,"","",null,null,null,null,null,"",30,"",11,"",null,{"$f":"IF(COUNTIF($P$2:P62,P62)>1,\"*\",1)","v":"*"}]
[null,"女",3,"３年","001","１００ｍ",0,null,"","",null,null,null,null,null,"",{"$f":"COUNTIF($P$56:$P$63,P63)+COUNTIF($P$84:$P$97,P63)+COUNTIF($P$70:$P$77,P63)","v":30},"",11,"",null,{"$f":"IF(COUNTIF($P$2:P63,P63)>1,\"*\",1)","v":"*"}]
[null,"女",6,{"$f":"VLOOKUP(C64,出場種別,2,FALSE)","v":"低学年"},"410",{"$f":"VLOOKUP(E64,種目コード,2,FALSE)","v":"４×１００ｍＲ"},0,null,{"$f":"IF(H64=\"\",\"\",VLOOKUP(P64,部員データ,3,FALSE)&\"　\"&VLOOKUP(P64,部員データ,4,FALSE))","v":""},{"$f":"IF(H64=\"\",\"\",VLOOKUP(P64,部員データ,2,FALSE))","v":""},null,null,null,null,null,{"$f":"IF(H64=\"\",\"\",B64&DBCS(TEXT(H64,\"００\")))","v":""},{"$f":"COUNTIF($P$64:$P$69,P64)+COUNTIF($P$78:$P$83,P64)","v":12},{"$f":"IF(VLOOKUP(E64,女子標準記録,C64+3,FALSE)=\"\",\"\",VLOOKUP(E64,女子標準記録,C64+3,FALSE))","v":""},{"$f":"VLOOKUP(E64,種目コード,6,FALSE)","v":41},{"$f":"IF(FIND(\".\",TEXT(K64,\"#.00\"))>3,MID(TEXT(K64,\"#.00\"),FIND(\".\",TEXT(K64,\"#.00\"))-2,2)/1,\"\")","v":""},null,{"$f":"IF(COUNTIF($P$2:P64,P64)>1,\"*\",1)","v":"*"}]
[null,"女",6,"低学年","410","４×１００ｍＲ",0,null,"","",null,null,null,null,null,"",12,"",null,"",null,{"$f":"IF(COUNTIF($P$2:P65,P65)>1,\"*\",1)","v":"*"}]
[null,"女",6,"低学年","410","４×１００ｍＲ",0,null,"","",null,null,null,null,null,"",12,"",null,"",null,{"$f":"IF(COUNTIF($P$2:P66,P66)>1,\"*\",1)","v":"*"}]
[null,"女",6,"低学年","410","４×１００ｍＲ",0,null,"","",null,null,null,null,null,"",12,"",null,"",null,{"$f":"IF(COUNTIF($P$2:P67,P67)>1,\"*\",1)","v":"*"}]
[null,"女",6,"低学年","410","４×１００ｍＲ",0,null,"","",null,null,null,null,null,"",12,"",null,"",null,{"$f":"IF(COUNTIF($P$2:P68,P68)>1,\"*\",1)","v":"*"}]
[null,"女",6,"低学年","410","４×１００ｍＲ",0,null,"","",null,null,null,null,null,"",12,"",null,"",null,{"$f":"IF(COUNTIF($P$2:P69,P69)>1,\"*\",1)","v":"*"}]
[null,"女",0,"共通","002","２００ｍ",0,null,"","",null,null,null,null,null,"",30,"",22,"",null,{"$f":"IF(COUNTIF($P$2:P70,P70)>1,\"*\",1)","v":"*"}]
[null,"女",0,"共通","002","２００ｍ",0,null,"","",null,null,null,null,null,"",30,"",22,"",null,{"$f":"IF(COUNTIF($P$2:P71,P71)>1,\"*\",1)","v":"*"}]
[null,"女",0,{"$f":"VLOOKUP(C72,出場種別,2,FALSE)","v":"共通"},"008",{"$f":"VLOOKUP(E72,種目コード,2,FALSE)","v":"８００ｍ"},0,null,{"$f":"IF(H72=\"\",\"\",VLOOKUP(P72,部員データ,3,FALSE)&\"　\"&VLOOKUP(P72,部員データ,4,FALSE))","v":""},{"$f":"IF(H72=\"\",\"\",VLOOKUP(P72,部員データ,2,FALSE))","v":""},null,null,null,null,null,{"$f":"IF(H72=\"\",\"\",B72&DBCS(TEXT(H72,\"００\")))","v":""},30,{"$f":"IF(VLOOKUP(E72,女子標準記録,C72+3,FALSE)=\"\",\"\",VLOOKUP(E72,女子標準記録,C72+3,FALSE))","v":""},{"$f":"VLOOKUP(E72,種目コード,6,FALSE)","v":200},{"$f":"IF(FIND(\".\",TEXT(K72,\"#.00\"))>3,MID(TEXT(K72,\"#.00\"),FIND(\".\",TEXT(K72,\"#.00\"))-2,2)/1,\"\")","v":""},null,{"$f":"IF(COUNTIF($P$2:P72,P72)>1,\"*\",1)","v":"*"}]
[null,"女",0,{"$f":"VLOOKUP(C73,出場種別,2,FALSE)","v":"共通"},"008",{"$f":"VLOOKUP(E73,種目コード,2,FALSE)","v":"８００ｍ"},0,null,{"$f":"IF(H73=\"\",\"\",VLOOKUP(P73,部員データ,3,FALSE)&\"　\"&VLOOKUP(P73,部員データ,4,FALSE))","v":""},{"$f":"IF(H73=\"\",\"\",VLOOKUP(P73,部員データ,2,FALSE))","v":""},null,null,null,null,null,{"$f":"IF(H73=\"\",\"\",B73&DBCS(TEXT(H73,\"００\")))","v":""},30,{"$f":"IF(VLOOKUP(E73,女子標準記録,C73+3,FALSE)=\"\",\"\",VLOOKUP(E73,女子標準記録,C73+3,FALSE))","v":""},{"$f":"VLOOKUP(E73,種目コード,6,FALSE)","v":200},{"$f":"IF(FIND(\".\",TEXT(K73,\"#.00\"))>3,MID(TEXT(K73,\"#.00\"),FIND(\".\",TEXT(K73,\"#.00\"))-2,2)/1,\"\")","v":""},null,{"$f":"IF(COUNTIF($P$2:P73,P73)>1,\"*\",1)","v":"*"}]
[null,"女",0,"共通","015","１５００ｍ",0,null,"","",null,null,null,null,null,"",30,"",400,"",null,{"$f":"IF(COUNTIF($P$2:P74,P74)>1,\"*\",1)","v":"*"}]
[null,"女",0,"共通","015","１５００ｍ",0,null,"","",null,null,null,null,null,"",30,"",400,"",null,{"$f":"IF(COUNTIF($P$2:P75,P75)>1,\"*\",1)","v":"*"}]
[null,"女",0,"共通","110","１００ｍＨ",0,null,"","",null,null,null,null,null,"",30,"",12,"",null,{"$f":"IF(COUNTIF($P$2:P76,P76)>1,\"*\",1)","v":"*"}]
[null,"女",0,"共通","110","１００ｍＨ",0,null,"","",null,null,null,null,null,"",30,"",12,"",null,{"$f":"IF(COUNTIF($P$2:P77,P77)>1,\"*\",1)","v":"*"}]
[null,"女",0,"共通","410","４×１００ｍＲ",0,null,"","",null,null,null,null,null,"",{"$f":"COUNTIF($P$64:$P$69,P78)+COUNTIF($P$78:$P$83,P78)","v":12},"",41,"",null,{"$f":"IF(COUNTIF($P$2:P78,P78)>1,\"*\",1)","v":"*"}]
[null,"女",0,"共通","410","４×１００ｍＲ",0,null,"","",null,null,null,null,null,"",12,"",null,"",null,{"$f":"IF(COUNTIF($P$2:P79,P79)>1,\"*\",1)","v":"*"}]
[null,"女",0,"共通","410","４×１００ｍＲ",0,null,"","",null,null,null,null,null,"",12,"",null,"",null,{"$f":"IF(COUNTIF($P$2:P80,P80)>1,\"*\",1)","v":"*"}]
[null,"女",0,"共通","410","４×１００ｍＲ",0,null,"","",null,null,null,null,null,"",12,"",null,"",null,{"$f":"IF(COUNTIF($P$2:P81,P81)>1,\"*\",1)","v":"*"}]
[null,"女",0,"共通","410","４×１００ｍＲ",0,null,"","",null,null,null,null,null,{"$f":"IF(H82=\"\",\"\",B82&DBCS(TEXT(H82,\"００\")))","v":""},12,"",null,"",null,{"$f":"IF(COUNTIF($P$2:P82,P82)>1,\"*\",1)","v":"*"}]
[null,"女",0,"共通","410","４×１００ｍＲ",0,null,"","",null,null,null,null,null,"",12,"",null,"",null,{"$f":"IF(COUNTIF($P$2:P83,P83)>1,\"*\",1)","v":"*"}]
[null,"女",0,"共通","510","走高跳",0,null,"","",null,null,null,null,null,"",30,"",{"$f":"VLOOKUP(E84,種目コード,6,FALSE)","v":1.9},"",null,{"$f":"IF(COUNTIF($P$2:P84,P84)>1,\"*\",1)","v":"*"}]
[null,"女",0,"共通","510","走高跳",0,null,"","",null,null,null,null,null,"",30,"",1.9,"",null,{"$f":"IF(COUNTIF($P$2:P85,P85)>1,\"*\",1)","v":"*"}]
[null,"女",0,"共通","530","走幅跳",0,null,"","",null,null,null,null,null,"",30,"",7,"",null,{"$f":"IF(COUNTIF($P$2:P86,P86)>1,\"*\",1)","v":"*"}]
[null,"女",0,"共通","530","走幅跳",0,null,"","",null,null,null,null,null,"",30,"",7,{"$f":"IF(FIND(\".\",TEXT(K87,\"#.00\"))>3,MID(TEXT(K87,\"#.00\"),FIND(\".\",TEXT(K87,\"#.00\"))-2,2)/1,\"\")","v":""},null,{"$f":"IF(COUNTIF($P$2:P87,P87)>1,\"*\",1)","v":"*"}]
[null,"女",0,"共通","560","砲丸投",0,null,"","",null,null,null,null,null,"",30,"",18,"",null,{"$f":"IF(COUNTIF($P$2:P88,P88)>1,\"*\",1)","v":"*"}]
[null,"女",0,"共通","560","砲丸投",0,null,"","",null,null,null,null,null,"",30,"",18,"",null,{"$f":"IF(COUNTIF($P$2:P89,P89)>1,\"*\",1)","v":"*"}]
[null,"女",0,"共通","550","円盤投",0,null,"","",null,null,null,null,null,"",30,"",45,"",null,{"$f":"IF(COUNTIF($P$2:P90,P90)>1,\"*\",1)","v":"*"}]
[null,"女",0,"共通","550","円盤投",0,null,"","",null,null,null,null,null,"",30,"",45,"",null,{"$f":"IF(COUNTIF($P$2:P91,P91)>1,\"*\",1)","v":"*"}]
[null,"女",0,"共通","760","女子四種競技",0,null,"","",null,null,null,null,null,"",30,"",4000,"",null,{"$f":"IF(COUNTIF($P$2:P92,P92)>1,\"*\",1)","v":"*"}]
[null,null,null,null,null,null,null,null,"１００ｍH",null,null,null,null,null,null,null,null,null,null,"",null,{"$f":"IF(COUNTIF($P$2:P93,P93)>1,\"*\",1)","v":1}]
[null,null,null,null,null,null,null,null,"走高跳",null,null,null,null,null,null,null,null,null,null,"",null,{"$f":"IF(COUNTIF($P$2:P94,P94)>1,\"*\",1)","v":1}]
[null,null,null,null,null,null,null,null,"砲丸投",null,null,null,null,null,null,null,null,null,null,"",null,{"$f":"IF(COUNTIF($P$2:P95,P95)>1,\"*\",1)","v":1}]
[null,null,null,null,null,null,null,null,"２００ｍ",null,null,null,null,null,null,null,null,null,null,"",null,{"$f":"IF(COUNTIF($P$2:P96,P96)>1,\"*\",1)","v":1}]
[null,"女",0,{"$f":"VLOOKUP(C97,出場種別,2,FALSE)","v":"共通"},"760",{"$f":"VLOOKUP(E97,種目コード,2,FALSE)","v":"女子四種競技"},{"$f":"学校番号","v":0},null,{"$f":"IF(H97=\"\",\"\",VLOOKUP(P97,部員データ,3,FALSE)&\"　\"&VLOOKUP(P97,部員データ,4,FALSE))","v":""},{"$f":"IF(H97=\"\",\"\",VLOOKUP(P97,部員データ,2,FALSE))","v":""},null,null,null,null,null,"",30,{"$f":"IF(VLOOKUP(E97,女子標準記録,C97+3,FALSE)=\"\",\"\",VLOOKUP(E97,女子標準記録,C97+3,FALSE))","v":""},{"$f":"VLOOKUP(E97,種目コード,6,FALSE)","v":4000},"",null,{"$f":"IF(COUNTIF($P$2:P97,P97)>1,\"*\",1)","v":"*"}]
[null,null,null,null,null,null,null,null,"１００ｍH",null,null,null,null,null,null,null,null,null,null,""]
[null,null,null,null,null,null,null,null,"走高跳",null,null,null,null,null,null,null,null,null,null,""]
[null,null,null,null,null,null,null,null,"砲丸投",null,null,null,null,null,null,null,null,null,null,""]
[null,null,null,null,null,null,null,null,"２００ｍ",null,null,null,null,null,null,null,null,null,null,""]
[null,null,null,null,null,null,null,null,null,null,null,null,null,null,null,null,null,null,null,""]

{"sheet":"中播総体","index":8,"n_rows":63,"n_cols":150,"rows_kept":63,"cut":false,"hidden":true,"merged":[[1,1,2,135],[48,124,49,135],[50,124,53,135],[3,117,3,135],[4,2,4,25],[4,74,4,83],[4,87,4,98],[4,102,4,111],[4,114,4,133],[7,80,7,85],[7,86,7,103],[7,104,7,107],[7,108,7,113],[7,114,7,131],[7,132,7,135],[5,2,5,25],[5,71,5,94],[7,1,7,10],[7,11,7,16],[7,17,7,34],[7,35,7,38],[7,39,7,44],[7,45,7,62],[7,63,7,66],[7,70,7,79],[8,114,8,131],[8,132,9,135],[9,1,9,10],[9,17,9,34],[9,45,9,62],[9,70,9,79],[9,86,9,103],[9,114,9,131],[8,63,9,66],[8,70,8,79],[8,80,9,85],[8,86,8,103],[8,104,9,107],[8,108,9,113],[8,1,8,10],[8,11,9,16],[8,17,8,34],[8,35,9,38],[8,39,9,44],[8,45,8,62],[11,1,11,10],[11,17,11,34],[11,45,11,62],[13,70,13,79],[13,86,13,103],[13,114,13,131],[10,63,11,66],[12,70,12,79],[12,80,13,85],[12,86,12,103],[12,104,13,107],[12,108,13,113],[10,1,10,10],[10,11,11,16],[10,17,10,34],[10,35,11,38],[10,39,11,44],[10,45,10,62],[10,70,10,79],[10,80,11,85],[10,86,10,103],[10,104,11,107],[10,108,11,113],[10,114,10,131],[14,114,14,131],[14,132,15,135],[13,1,13,10],[13,17,13,34],[13,45,13,62],[15,70,15,79],[15,86,15,103],[15,114,15,131],[12,63,13,66],[14,70,14,79],[14,80,15,85],[14,86,14,103],[14,104,15,107],[14,108,15,113],[12,1,12,10],[12,11,13,16],[12,17,12,34],[12,35,13,38],[12,39,13,44],[12,45,12,62],[12,114,12,131],[12,132,13,135],[15,17,15,34],[15,45,15,62],[22,45,22,62],[22,132,23,135],[25,1,25,10],[25,17,25,34],[25,45,25,62],[24,1,24,10],[21,1,21,10],[23,70,23,79],[23,86,23,103],[23,114,23,131],[20,17,21,34],[20,45,21,62],[20,63,21,66],[22,70,22,79],[22,80,23,85],[22,86,22,103],[22,104,23,107],[22,108,23,113],[20,11,21,16],[20,35,21,38],[20,39,21,44],[24,63,25,66],[24,17,24,34],[24,35,25,38],[26,70,26,79],[26,80,27,85],[26,86,26,103],[26,104,27,107],[26,108,27,113],[24,132,25,135],[23,1,23,10],[23,17,23,34],[23,45,23,62],[25,70,25,79],[25,86,25,103],[25,114,25,131],[22,63,23,66],[24,70,24,79],[24,80,25,85],[24,86,24,103],[24,104,25,107],[24,108,25,113],[22,1,22,10],[22,11,23,16],[22,17,22,34],[22,35,23,38],[22,39,23,44],[24,11,25,16],[24,39,25,44],[24,45,24,62],[24,114,24,131],[28,114,28,131],[28,132,29,135],[27,1,27,10],[27,17,27,34],[27,45,27,62],[29,70,29,79],[29,86,29,103],[29,114,29,131],[26,63,27,66],[28,70,28,79],[28,80,29,85],[28,86,28,103],[28,104,29,107],[28,108,29,113],[26,1,26,10],[26,11,27,16],[26,17,26,34],[26,35,27,38],[26,39,27,44],[26,45,26,62],[26,114,26,131],[26,132,27,135],[31,1,31,10],[31,17,31,34],[31,45,31,62],[30,63,31,66],[30,1,30,10],[30,11,31,16],[30,17,30,34],[30,35,31,38],[30,39,31,44],[30,45,30,62],[28,45,28,62],[27,70,27,79],[27,86,27,103],[27,114,27,131],[30,132,31,135],[29,1,29,10],[29,17,29,34],[29,45,29,62],[31,70,31,79],[31,86,31,103],[31,114,31,131],[28,63,29,66],[30,70,30,79],[36,132,37,135],[37,86,37,103],[37,114,37,131],[32,114,32,131],[32,132,33,135],[33,1,33,10],[33,17,33,34],[33,45,33,62],[33,70,33,79],[33,86,33,103],[33,114,33,131],[32,63,33,66],[32,70,32,79],[32,80,33,85],[32,86,32,103],[32,104,33,107],[32,108,33,113],[32,1,32,10],[32,11,33,16],[32,17,32,34],[32,35,33,38],[32,39,33,44],[32,45,32,62],[36,108,37,113],[34,114,34,131],[34,132,35,135],[35,1,35,10],[35,17,35,34],[35,45,35,62],[35,70,35,79],[35,86,35,103],[35,114,35,131],[34,63,35,66],[34,70,34,79],[34,80,35,85],[34,86,34,103],[34,104,35,107],[34,108,35,113],[34,1,34,10],[34,11,35,16],[34,17,34,34],[34,35,35,38],[34,39,35,44],[34,45,34,62],[36,17,36,34],[36,35,37,38],[36,39,37,44],[36,45,36,62],[37,1,37,10],[37,17,37,34],[37,45,37,62],[36,63,37,66],[39,1,39,10],[39,17,39,34],[39,45,39,62],[38,63,39,66],[36,1,36,10],[36,11,37,16],[36,70,36,79],[36,80,37,85],[36,86,36,103],[36,104,37,107],[38,80,39,85],[38,86,38,103],[38,104,39,107],[44,114,45,131],[37,70,37,79],[38,108,39,113],[36,114,36,131],[44,132,45,135],[38,1,38,10],[38,11,39,16],[38,17,38,34],[38,35,39,38],[38,39,39,44],[40,1,40,10],[40,11,41,16],[40,17,40,34],[40,35,41,38],[40,39,41,44],[38,114,38,131],[38,45,38,62],[40,114,41,131],[40,132,41,135],[40,70,44,79],[40,80,41,85],[40,86,41,103],[38,132,39,135],[39,70,39,79],[39,86,39,103],[39,114,39,131],[38,70,38,79],[42,114,43,131],[41,1,41,10],[41,17,41,34],[41,45,41,62],[42,132,43,135],[43,1,43,10],[43,17,43,34],[43,45,43,62],[42,104,43,107],[42,108,43,113],[42,1,42,10],[42,11,43,16],[42,17,42,34],[42,35,43,38],[42,39,43,44],[40,63,41,66],[40,104,41,107],[40,108,41,113],[40,45,40,62],[42,80,43,85],[42,86,43,103],[42,45,42,62],[42,63,43,66],[45,1,45,10],[45,17,45,34],[45,45,45,62],[45,70,45,79],[44,45,44,62],[44,63,45,66],[44,80,45,85],[52,63,53,66],[50,11,51,16],[50,17,51,34],[44,1,44,10],[44,11,45,16],[44,17,44,34],[44,35,45,38],[44,39,45,44],[52,91,53,101],[53,1,53,10],[52,11,53,16],[48,63,49,66],[46,63,47,66],[47,1,47,10],[47,17,47,34],[47,45,47,62],[48,1,52,10],[48,11,49,16],[48,17,49,34],[48,35,49,38],[48,39,49,44],[48,45,49,62],[46,1,46,10],[46,11,47,16],[46,17,46,34],[46,35,47,38],[46,39,47,44],[46,45,46,62],[52,17,53,34],[52,35,53,38],[52,39,53,44],[52,45,53,62],[14,1,14,10],[14,11,15,16],[14,17,14,34],[14,35,15,38],[14,39,15,44],[14,45,14,62],[14,63,15,66],[60,44,60,68],[60,69,60,70],[58,48,58,67],[58,69,58,79],[60,2,60,9],[60,11,60,12],[60,13,60,37],[15,1,15,10],[50,35,51,38],[50,39,51,44],[50,45,51,62],[50,63,51,66],[60,38,60,39],[60,42,60,43],[56,4,56,132],[58,4,58,9],[58,10,58,15],[16,114,17,131],[20,132,21,135],[21,70,21,79],[20,108,21,113],[20,114,21,131],[18,132,19,135],[18,108,19,113],[16,108,17,113],[62,3,62,133],[60,73,60,74],[60,75,60,99],[60,100,60,101],[60,104,60,105],[58,81,58,91],[58,94,58,125],[58,128,58,132],[16,132,17,135],[58,16,58,19],[58,20,58,27],[58,28,58,31],[58,32,58,41],[58,42,58,45],[60,106,60,130],[60,131,60,132],[16,1,20,10],[16,17,17,34],[16,45,17,62],[18,17,19,34],[18,45,19,62],[18,63,19,66],[20,80,21,85],[20,86,21,103],[20,104,21,107],[18,11,19,16],[18,35,19,38],[18,39,19,44],[16,63,17,66],[18,80,19,85],[18,86,19,103],[18,104,19,107],[16,11,17,16],[16,35,17,38],[16,39,17,44],[16,70,20,79],[16,80,17,85],[16,86,17,103],[16,104,17,107],[30,80,31,85],[30,86,30,103],[30,104,31,107],[30,108,31,113],[28,1,28,10],[28,11,29,16],[28,17,28,34],[28,35,29,38],[28,39,29,44],[10,132,11,135],[11,70,11,79],[11,86,11,103],[11,114,11,131],[52,102,53,112],[52,113,53,123],[48,70,49,79],[48,80,49,90],[48,91,49,101],[48,102,49,112],[48,113,49,123],[50,70,51,79],[18,114,19,131],[22,114,22,131],[30,114,30,131],[50,80,51,90],[52,70,53,79],[52,80,53,90],[44,86,45,103],[44,104,45,107],[44,108,45,113],[50,91,51,101],[50,102,51,112],[50,113,51,123]]}
[1,2,3,4,5,6,7,8,9,10,11,12,13,14,15,16,17,18,19,20,21,22,23,24,25,26,27,28,29,30,31,32,33,34,35,36,37,38,39,40,41,42,43,44,45,46,47,48,49,50,51,52,53,54,55,56,57,58,59,60,61,62,63,64,65,66,67,68,69,70,71,72,73,74,75,76,77,78,79,80,81,82,83,84,85,86,87,88,89,90,91,92,93,94,95,96,97,98,99,100,101,102,103,104,105,106,107,108,109,110,111,112,113,114,115,116,117,118,119,120,121,122,123,124,125,126,127,128,129,130,131,132,133,134,135,136,137,138,139,140]
[null,{"$f":"(TEXT(TODAY(),\"ggge\")&\"年度　中播地区中学校総合体育大会\n第\"&YEAR(TODAY())-1956&\"回　中播地区中学校陸上競技大会　参加申込書\")","v":"令和1年度　中播地区中学校総合体育大会\n第63回　中播地区中学校陸上競技大会　参加申込書"}]
[]
[null,null,null,null,null,null,null,null,null,null,null,null,null,null,null,null,null,null,null,null,null,null,null,null,null,null,null,null,null,null,null,null,null,null,null,null,null,null,null,null,null,null,null,null,null,null,null,null,null,null,null,null,null,null,null,null,null,null,null,null,null,null,null,null,null,null,null,null,null,null,null,null,null,null,null,null,null,null,null,null,null,null,null,null,null,null,null,null,null,null,null,null,null,null,null,null,null,null,null,null,null,null,null,null,null,null,null,null,null,null,null,null,null,null,null,null,null,"2部提出"]
[null,null,"（ 共通　＝ １，２，３年種目 ）",null,null,null,null,null,null,null,null,null,null,null,null,null,null,null,null,null,null,null,null,null,null,null,null,null,null,null,null,null,null,null,null,null,null,null,null,null,null,null,null,null,null,null,null,null,null,null,null,null,null,null,null,null,null,null,null,null,null,null,null,null,null,null,null,null,null,null,null,null,null,null,"学校番号",null,null,null,null,null,null,null,null,null,null,null,"（",{"$f":"学校番号","v":0},null,null,null,null,null,null,null,null,null,null,null,"）",null,null,"学 校 名",null,null,null,null,null,null,null,null,null,null,"（",{"$f":"略称","v":0},null,null,null,null,null,null,null,null,null,null,null,null,null,null,null,null,null,null,null,null,"）"]
[null,null,"〔 男　子 〕　１日目実施●",null,null,null,null,null,null,null,null,null,null,null,null,null,null,null,null,null,null,null,null,null,null,null,null,null,null,null,null,null,null,null,null,null,null,null,null,null,null,null,null,null,null,null,null,null,null,null,null,null,null,null,null,null,null,null,null,null,null,null,null,null,null,null,null,null,null,null,null,"〔 女　子 〕　１日目実施●"]
[]
[null,"種　目",null,null,null,null,null,null,null,null,null,"個人\n番号",null,null,null,null,null,"名　　前",null,null,null,null,null,null,null,null,null,null,null,null,null,null,null,null,null,"学年",null,null,null,"個人\n番号",null,null,null,null,null,"名　　前",null,null,null,null,null,null,null,null,null,null,null,null,null,null,null,null,null,"学年",null,null,null,null,null,null,"種　目",null,null,null,null,null,null,null,null,null,"個人\n番号",null,null,null,null,null,"名　　前",null,null,null,null,null,null,null,null,null,null,null,null,null,null,null,null,null,"学年",null,null,null,"個人\n番号",null,null,null,null,null,"名　　前",null,null,null,null,null,null,null,null,null,null,null,null,null,null,null,null,null,"学年"]
[null,"１年",null,null,null,null,null,null,null,null,null,{"$f":"IF('入力シート(中播総体)'!$H2=\"\",\"\",'入力シート(中播総体)'!$H2)","v":""},null,null,null,null,null,{"$f":"IF(L9<>\"\",VLOOKUP(EM9,部員データ,3,FALSE)&\"  \"&VLOOKUP(EM9,部員データ,4,FALSE),\"\")","v":""},null,null,null,null,null,null,null,null,null,null,null,null,null,null,null,null,null,1,null,null,null,{"$f":"IF('入力シート(中播総体)'!$H3=\"\",\"\",'入力シート(中播総体)'!$H3)","v":""},null,null,null,null,null,{"$f":"IF(AN9<>\"\",VLOOKUP(EN9,部員データ,3,FALSE)&\"  \"&VLOOKUP(EN9,部員データ,4,FALSE),\"\")","v":""},null,null,null,null,null,null,null,null,null,null,null,null,null,null,null,null,null,1,null,null,null,null,null,null,"１年",null,null,null,null,null,null,null,null,null,{"$f":"IF('入力シート(中播総体)'!$H56=\"\",\"\",'入力シート(中播総体)'!$H56)","v":""},null,null,null,null,null,{"$f":"IF(CC9<>\"\",VLOOKUP(EO9,部員データ,3,FALSE)&\"  \"&VLOOKUP(EO9,部員データ,4,FALSE),\"\")","v":""},null,null,null,null,null,null,null,null,null,null,null,null,null,null,null,null,null,1,null,null,null,{"$f":"IF('入力シート(中播総体)'!$H57=\"\",\"\",'入力シート(中播総体)'!$H57)","v":""},null,null,null,null,null,{"$f":"IF(DE9<>\"\",VLOOKUP(EP9,部員データ,3,FALSE)&\"  \"&VLOOKUP(EP9,部員データ,4,FALSE),\"\")","v":""},null,null,null,null,null,null,null,null,null,null,null,null,null,null,null,null,null,1,null,null,null,null,null,null,null,null,null,{"$f":"\"男\"&DBCS(TEXT(L9,\"00\"))","v":"男"},{"$f":"\"男\"&DBCS(TEXT(AN9,\"00\"))","v":"男"},{"$f":"\"女\"&DBCS(TEXT(CC9,\"00\"))","v":"女"},{"$f":"\"女\"&DBCS(TEXT(DE9,\"00\"))","v":"女"},{"$f":"IF(OR(EM9=\"男\",EM9=\"\"),\"\",COUNTIF($EM$9:$EN$50,EM9))","v":""},{"$f":"IF(OR(EN9=\"男\",EN9=\"\"),\"\",COUNTIF($EM$9:$EN$50,EN9))","v":""},{"$f":"IF(OR(EO9=\"女\",EO9=\"\"),\"\",COUNTIF($EO$9:$EP$47,EO9))","v":""},{"$f":"IF(OR(EP9=\"女\",EP9=\"\"),\"\",COUNTIF($EO$9:$EP$47,EP9))","v":""}]
[null,"100m",null,null,null,null,null,null,null,null,null,null,null,null,null,null,null,{"$f":"IF(L9=\"\",\"\",IF('入力シート(中播総体)'!$K2=\"\",\"\",format_kiroku('入力シート(中播総体)'!$K2,$B10)))","v":""},null,null,null,null,null,null,null,null,null,null,null,null,null,null,null,null,null,null,null,null,null,null,null,null,null,null,null,{"$f":"IF(AN9=\"\",\"\",IF('入力シート(中播総体)'!$K3=\"\",\"\",format_kiroku('入力シート(中播総体)'!$K3,$B10)))","v":""},null,null,null,null,null,null,null,null,null,null,null,null,null,null,null,null,null,null,null,null,null,null,null,null,"100m",null,null,null,null,null,null,null,null,null,null,null,null,null,null,null,{"$f":"IF(CC9=\"\",\"\",IF('入力シート(中播総体)'!$K56=\"\",\"\",format_kiroku('入力シート(中播総体)'!$K56,$BS10)))","v":""},null,null,null,null,null,null,null,null,null,null,null,null,null,null,null,null,null,null,null,null,null,null,null,null,null,null,null,{"$f":"IF(DE9=\"\",\"\",IF('入力シート(中播総体)'!$K57=\"\",\"\",format_kiroku('入力シート(中播総体)'!$K57,$BS10)))","v":""},null,null,null,null,null,null,null,null,null,null,null,null,null,null,null,null,null,null,null,null,null,null,null,null,null,null,null,null,null,null,null,"","","",""]
[null,"●１年",null,null,null,null,null,null,null,null,null,{"$f":"IF('入力シート(中播総体)'!$H4=\"\",\"\",'入力シート(中播総体)'!$H4)","v":""},null,null,null,null,null,{"$f":"IF(L11<>\"\",VLOOKUP(EM11,部員データ,3,FALSE)&\"  \"&VLOOKUP(EM11,部員データ,4,FALSE),\"\")","v":""},null,null,null,null,null,null,null,null,null,null,null,null,null,null,null,null,null,1,null,null,null,{"$f":"IF('入力シート(中播総体)'!$H5=\"\",\"\",'入力シート(中播総体)'!$H5)","v":""},null,null,null,null,null,{"$f":"IF(AN11<>\"\",VLOOKUP(EN11,部員データ,3,FALSE)&\"  \"&VLOOKUP(EN11,部員データ,4,FALSE),\"\")","v":""},null,null,null,null,null,null,null,null,null,null,null,null,null,null,null,null,null,1,null,null,null,null,null,null,"１年",null,null,null,null,null,null,null,null,null,{"$f":"IF('入力シート(中播総体)'!$H58=\"\",\"\",'入力シート(中播総体)'!$H58)","v":""},null,null,null,null,null,{"$f":"IF(CC11<>\"\",VLOOKUP(EO11,部員データ,3,FALSE)&\"  \"&VLOOKUP(EO11,部員データ,4,FALSE),\"\")","v":""},null,null,null,null,null,null,null,null,null,null,null,null,null,null,null,null,null,1,null,null,null,{"$f":"IF('入力シート(中播総体)'!$H59=\"\",\"\",'入力シート(中播総体)'!$H59)","v":""},null,null,null,null,null,{"$f":"IF(DE11<>\"\",VLOOKUP(EP11,部員データ,3,FALSE)&\"  \"&VLOOKUP(EP11,部員データ,4,FALSE),\"\")","v":""},null,null,null,null,null,null,null,null,null,null,null,null,null,null,null,null,null,1,null,null,null,null,null,null,null,null,null,{"$f":"\"男\"&DBCS(TEXT(L11,\"00\"))","v":"男"},{"$f":"\"男\"&DBCS(TEXT(AN11,\"00\"))","v":"男"},{"$f":"\"女\"&DBCS(TEXT(CC11,\"00\"))","v":"女"},{"$f":"\"女\"&DBCS(TEXT(DE11,\"00\"))","v":"女"},"","","",""]
[null,"1500m",null,null,null,null,null,null,null,null,null,null,null,null,null,null,null,{"$f":"IF(L11=\"\",\"\",IF('入力シート(中播総体)'!$K4=\"\",\"\",format_kiroku('入力シート(中播総体)'!$K4,$B12)))","v":""},null,null,null,null,null,null,null,null,null,null,null,null,null,null,null,null,null,null,null,null,null,null,null,null,null,null,null,{"$f":"IF(AN11=\"\",\"\",IF('入力シート(中播総体)'!$K5=\"\",\"\",format_kiroku('入力シート(中播総体)'!$K5,$B12)))","v":""},null,null,null,null,null,null,null,null,null,null,null,null,null,null,null,null,null,null,null,null,null,null,null,null,"800m",null,null,null,null,null,null,null,null,null,null,null,null,null,null,null,{"$f":"IF(CC11=\"\",\"\",IF('入力シート(中播総体)'!$K58=\"\",\"\",format_kiroku('入力シート(中播総体)'!$K58,$BS12)))","v":""},null,null,null,null,null,null,null,null,null,null,null,null,null,null,null,null,null,null,null,null,null,null,null,null,null,null,null,{"$f":"IF(DE11=\"\",\"\",IF('入力シート(中播総体)'!$K59=\"\",\"\",format_kiroku('入力シート(中播総体)'!$K59,$BS12)))","v":""},null,null,null,null,null,null,null,null,null,null,null,null,null,null,null,null,null,null,null,null,null,null,null,null,null,null,null,null,null,null,null,"","","",""]
[null,"●2年",null,null,null,null,null,null,null,null,null,{"$f":"IF('入力シート(中播総体)'!$H6=\"\",\"\",'入力シート(中播総体)'!$H6)","v":""},null,null,null,null,null,{"$f":"IF(L13<>\"\",VLOOKUP(EM13,部員データ,3,FALSE)&\"  \"&VLOOKUP(EM13,部員データ,4,FALSE),\"\")","v":""},null,null,null,null,null,null,null,null,null,null,null,null,null,null,null,null,null,2,null,null,null,{"$f":"IF('入力シート(中播総体)'!$H7=\"\",\"\",'入力シート(中播総体)'!$H7)","v":""},null,null,null,null,null,{"$f":"IF(AN13<>\"\",VLOOKUP(EN13,部員データ,3,FALSE)&\"  \"&VLOOKUP(EN13,部員データ,4,FALSE),\"\")","v":""},null,null,null,null,null,null,null,null,null,null,null,null,null,null,null,null,null,2,null,null,null,null,null,null,"●2年",null,null,null,null,null,null,null,null,null,{"$f":"IF('入力シート(中播総体)'!$H60=\"\",\"\",'入力シート(中播総体)'!$H60)","v":""},null,null,null,null,null,{"$f":"IF(CC13<>\"\",VLOOKUP(EO13,部員データ,3,FALSE)&\"  \"&VLOOKUP(EO13,部員データ,4,FALSE),\"\")","v":""},null,null,null,null,null,null,null,null,null,null,null,null,null,null,null,null,null,2,null,null,null,{"$f":"IF('入力シート(中播総体)'!$H61=\"\",\"\",'入力シート(中播総体)'!$H61)","v":""},null,null,null,null,null,{"$f":"IF(DE13<>\"\",VLOOKUP(EP13,部員データ,3,FALSE)&\"  \"&VLOOKUP(EP13,部員データ,4,FALSE),\"\")","v":""},null,null,null,null,null,null,null,null,null,null,null,null,null,null,null,null,null,2,null,null,null,null,null,null,null,null,null,{"$f":"\"男\"&DBCS(TEXT(L13,\"00\"))","v":"男"},{"$f":"\"男\"&DBCS(TEXT(AN13,\"00\"))","v":"男"},{"$f":"\"女\"&DBCS(TEXT(CC13,\"00\"))","v":"女"},{"$f":"\"女\"&DBCS(TEXT(DE13,\"00\"))","v":"女"},"","","",""]
[null,"100m",null,null,null,null,null,null,null,null,null,null,null,null,null,null,null,{"$f":"IF(L13=\"\",\"\",IF('入力シート(中播総体)'!$K6=\"\",\"\",format_kiroku('入力シート(中播総体)'!$K6,$B14)))","v":""},null,null,null,null,null,null,null,null,null,null,null,null,null,null,null,null,null,null,null,null,null,null,null,null,null,null,null,{"$f":"IF(AN13=\"\",\"\",IF('入力シート(中播総体)'!$K7=\"\",\"\",format_kiroku('入力シート(中播総体)'!$K7,$B14)))","v":""},null,null,null,null,null,null,null,null,null,null,null,null,null,null,null,null,null,null,null,null,null,null,null,null,"100m",null,null,null,null,null,null,null,null,null,null,null,null,null,null,null,{"$f":"IF(CC13=\"\",\"\",IF('入力シート(中播総体)'!$K60=\"\",\"\",format_kiroku('入力シート(中播総体)'!$K60,$BS14)))","v":""},null,null,null,null,null,null,null,null,null,null,null,null,null,null,null,null,null,null,null,null,null,null,null,null,null,null,null,{"$f":"IF(DE13=\"\",\"\",IF('入力シート(中播総体)'!$K61=\"\",\"\",format_kiroku('入力シート(中播総体)'!$K61,$BS14)))","v":""},null,null,null,null,null,null,null,null,null,null,null,null,null,null,null,null,null,null,null,null,null,null,null,null,null,null,null,null,null,null,null,"","","",""]
[null,"●３年",null,null,null,null,null,null,null,null,null,{"$f":"IF('入力シート(中播総体)'!$H8=\"\",\"\",'入力シート(中播総体)'!$H8)","v":""},null,null,null,null,null,{"$f":"IF(L15<>\"\",VLOOKUP(EM15,部員データ,3,FALSE)&\"  \"&VLOOKUP(EM15,部員データ,4,FALSE),\"\")","v":""},null,null,null,null,null,null,null,null,null,null,null,null,null,null,null,null,null,3,null,null,null,{"$f":"IF('入力シート(中播総体)'!$H9=\"\",\"\",'入力シート(中播総体)'!$H9)","v":""},null,null,null,null,null,{"$f":"IF(AN15<>\"\",VLOOKUP(EN15,部員データ,3,FALSE)&\"  \"&VLOOKUP(EN15,部員データ,4,FALSE),\"\")","v":""},null,null,null,null,null,null,null,null,null,null,null,null,null,null,null,null,null,3,null,null,null,null,null,null,"●3年",null,null,null,null,null,null,null,null,null,{"$f":"IF('入力シート(中播総体)'!$H62=\"\",\"\",'入力シート(中播総体)'!$H62)","v":""},null,null,null,null,null,{"$f":"IF(CC15<>\"\",VLOOKUP(EO15,部員データ,3,FALSE)&\"  \"&VLOOKUP(EO15,部員データ,4,FALSE),\"\")","v":""},null,null,null,null,null,null,null,null,null,null,null,null,null,null,null,null,null,3,null,null,null,{"$f":"IF('入力シート(中播総体)'!$H63=\"\",\"\",'入力シート(中播総体)'!$H63)","v":""},null,null,null,null,null,{"$f":"IF(DE15<>\"\",VLOOKUP(EP15,部員データ,3,FALSE)&\"  \"&VLOOKUP(EP15,部員データ,4,FALSE),\"\")","v":""},null,null,null,null,null,null,null,null,null,null,null,null,null,null,null,null,null,3,null,null,null,null,null,null,null,null,null,{"$f":"\"男\"&DBCS(TEXT(L15,\"00\"))","v":"男"},{"$f":"\"男\"&DBCS(TEXT(AN15,\"00\"))","v":"男"},{"$f":"\"女\"&DBCS(TEXT(CC15,\"00\"))","v":"女"},{"$f":"\"女\"&DBCS(TEXT(DE15,\"00\"))","v":"女"},"","","",""]
[null,"100m",null,null,null,null,null,null,null,null,null,null,null,null,null,null,null,{"$f":"IF(L15=\"\",\"\",IF('入力シート(中播総体)'!$K8=\"\",\"\",format_kiroku('入力シート(中播総体)'!$K8,$B16)))","v":""},null,null,null,null,null,null,null,null,null,null,null,null,null,null,null,null,null,null,null,null,null,null,null,null,null,null,null,{"$f":"IF(AN15=\"\",\"\",IF('入力シート(中播総体)'!$K9=\"\",\"\",format_kiroku('入力シート(中播総体)'!$K9,$B16)))","v":""},null,null,null,null,null,null,null,null,null,null,null,null,null,null,null,null,null,null,null,null,null,null,null,null,"100m",null,null,null,null,null,null,null,null,null,null,null,null,null,null,null,{"$f":"IF(CC15=\"\",\"\",IF('入力シート(中播総体)'!$K62=\"\",\"\",format_kiroku('入力シート(中播総体)'!$K62,$BS16)))","v":""},null,null,null,null,null,null,null,null,null,null,null,null,null,null,null,null,null,null,null,null,null,null,null,null,null,null,null,{"$f":"IF(DE15=\"\",\"\",IF('入力シート(中播総体)'!$K63=\"\",\"\",format_kiroku('入力シート(中播総体)'!$K63,$BS16)))","v":""},null,null,null,null,null,null,null,null,null,null,null,null,null,null,null,null,null,null,null,null,null,null,null,null,null,null,null,null,null,null,null,"","","",""]
[null,"●低学年\n4×100mR",null,null,null,null,null,null,null,null,null,{"$f":"IF('入力シート(中播総体)'!$H10=\"\",\"\",'入力シート(中播総体)'!$H10)","v":""},null,null,null,null,null,{"$f":"IF(L17<>\"\",VLOOKUP(EM17,部員データ,3,FALSE)&\"  \"&VLOOKUP(EM17,部員データ,4,FALSE),\"\")","v":""},null,null,null,null,null,null,null,null,null,null,null,null,null,null,null,null,null,{"$f":"IF(L17<>\"\",VLOOKUP(EM17,部員データ,2,FALSE),\"\")","v":""},null,null,null,{"$f":"IF('入力シート(中播総体)'!$H11=\"\",\"\",'入力シート(中播総体)'!$H11)","v":""},null,null,null,null,null,{"$f":"IF(AN17<>\"\",VLOOKUP(EN17,部員データ,3,FALSE)&\"  \"&VLOOKUP(EN17,部員データ,4,FALSE),\"\")","v":""},null,null,null,null,null,null,null,null,null,null,null,null,null,null,null,null,null,{"$f":"IF(AN17<>\"\",VLOOKUP(EN17,部員データ,2,FALSE),\"\")","v":""},null,null,null,null,null,null,"●低学年\n4×100mR",null,null,null,null,null,null,null,null,null,{"$f":"IF('入力シート(中播総体)'!$H64=\"\",\"\",'入力シート(中播総体)'!$H64)","v":""},null,null,null,null,null,{"$f":"IF(CC17<>\"\",VLOOKUP(EO17,部員データ,3,FALSE)&\"  \"&VLOOKUP(EO17,部員データ,4,FALSE),\"\")","v":""},null,null,null,null,null,null,null,null,null,null,null,null,null,null,null,null,null,{"$f":"IF(CC17<>\"\",VLOOKUP(EO17,部員データ,2,FALSE),\"\")","v":""},null,null,null,{"$f":"IF('入力シート(中播総体)'!$H65=\"\",\"\",'入力シート(中播総体)'!$H65)","v":""},null,null,null,null,null,{"$f":"IF(DE17<>\"\",VLOOKUP(EP17,部員データ,3,FALSE)&\"  \"&VLOOKUP(EP17,部員データ,4,FALSE),\"\")","v":""},null,null,null,null,null,null,null,null,null,null,null,null,null,null,null,null,null,{"$f":"IF(DE17<>\"\",VLOOKUP(EP17,部員データ,2,FALSE),\"\")","v":""},null,null,null,null,null,{"$f":"COUNTA(#REF!,#REF!)","v":2},{"$f":"COUNTA(#REF!,#REF!)","v":2},null,null,{"$f":"\"男\"&DBCS(TEXT(L17,\"00\"))","v":"男"},{"$f":"\"男\"&DBCS(TEXT(AN17,\"00\"))","v":"男"},{"$f":"\"女\"&DBCS(TEXT(CC17,\"00\"))","v":"女"},{"$f":"\"女\"&DBCS(TEXT(DE17,\"00\"))","v":"女"},"","","",""]
[null,null,null,null,null,null,null,null,null,null,null,null,null,null,null,null,null,null,null,null,null,null,null,null,null,null,null,null,null,null,null,null,null,null,null,null,null,null,null,null,null,null,null,null,null,null,null,null,null,null,null,null,null,null,null,null,null,null,null,null,null,null,null,null,null,null,null,null,null,null,null,null,null,null,null,null,null,null,null,null,null,null,null,null,null,null,{"$f":"IF(CC17=\"\",\"\",IF('入力シート(中播総体)'!$K64=\"\",\"\",format_kiroku('入力シート(中播総体)'!$K64,$BS18)))","v":""},null,null,null,null,null,null,null,null,null,null,null,null,null,null,null,null,null,null,null,null,null,null,null,null,null,null,null,{"$f":"IF(DE17=\"\",\"\",IF('入力シート(中播総体)'!$K65=\"\",\"\",format_kiroku('入力シート(中播総体)'!$K65,$BS18)))","v":""},null,null,null,null,null,null,null,null,null,null,null,null,null,null,null,null,null,null,null,null,null,null,null,null,null,null,null,null,null,null,null,"","","",""]
[null,null,null,null,null,null,null,null,null,null,null,{"$f":"IF('入力シート(中播総体)'!$H12=\"\",\"\",'入力シート(中播総体)'!$H12)","v":""},null,null,null,null,null,{"$f":"IF(L19<>\"\",VLOOKUP(EM19,部員データ,3,FALSE)&\"  \"&VLOOKUP(EM19,部員データ,4,FALSE),\"\")","v":""},null,null,null,null,null,null,null,null,null,null,null,null,null,null,null,null,null,{"$f":"IF(L19<>\"\",VLOOKUP(EM19,部員データ,2,FALSE),\"\")","v":""},null,null,null,{"$f":"IF('入力シート(中播総体)'!$H13=\"\",\"\",'入力シート(中播総体)'!$H13)","v":""},null,null,null,null,null,{"$f":"IF(AN19<>\"\",VLOOKUP(EN19,部員データ,3,FALSE)&\"  \"&VLOOKUP(EN19,部員データ,4,FALSE),\"\")","v":""},null,null,null,null,null,null,null,null,null,null,null,null,null,null,null,null,null,{"$f":"IF(AN19<>\"\",VLOOKUP(EN19,部員データ,2,FALSE),\"\")","v":""},null,null,null,null,null,null,null,null,null,null,null,null,null,null,null,null,{"$f":"IF('入力シート(中播総体)'!$H66=\"\",\"\",'入力シート(中播総体)'!$H66)","v":""},null,null,null,null,null,{"$f":"IF(CC19<>\"\",VLOOKUP(EO19,部員データ,3,FALSE)&\"  \"&VLOOKUP(EO19,部員データ,4,FALSE),\"\")","v":""},null,null,null,null,null,null,null,null,null,null,null,null,null,null,null,null,null,{"$f":"IF(CC19<>\"\",VLOOKUP(EO19,部員データ,2,FALSE),\"\")","v":""},null,null,null,{"$f":"IF('入力シート(中播総体)'!$H67=\"\",\"\",'入力シート(中播総体)'!$H67)","v":""},null,null,null,null,null,{"$f":"IF(DE19<>\"\",VLOOKUP(EP19,部員データ,3,FALSE)&\"  \"&VLOOKUP(EP19,部員データ,4,FALSE),\"\")","v":""},null,null,null,null,null,null,null,null,null,null,null,null,null,null,null,null,null,{"$f":"IF(DE19<>\"\",VLOOKUP(EP19,部員データ,2,FALSE),\"\")","v":""},null,null,null,null,null,{"$f":"COUNTA(L21,AN21)","v":2},{"$f":"COUNTA(CC15,DE15)","v":2},null,null,{"$f":"\"男\"&DBCS(TEXT(L19,\"00\"))","v":"男"},{"$f":"\"男\"&DBCS(TEXT(AN19,\"00\"))","v":"男"},{"$f":"\"女\"&DBCS(TEXT(CC19,\"00\"))","v":"女"},{"$f":"\"女\"&DBCS(TEXT(DE19,\"00\"))","v":"女"},"","","",""]
[null,null,null,null,null,null,null,null,null,null,null,null,null,null,null,null,null,null,null,null,null,null,null,null,null,null,null,null,null,null,null,null,null,null,null,null,null,null,null,null,null,null,null,null,null,null,null,null,null,null,null,null,null,null,null,null,null,null,null,null,null,null,null,null,null,null,null,null,null,null,null,null,null,null,null,null,null,null,null,null,null,null,null,null,null,null,{"$f":"IF(CC19=\"\",\"\",IF('入力シート(中播総体)'!$K66=\"\",\"\",format_kiroku('入力シート(中播総体)'!$K66,$BS20)))","v":""},null,null,null,null,null,null,null,null,null,null,null,null,null,null,null,null,null,null,null,null,null,null,null,null,null,null,null,{"$f":"IF(DE19=\"\",\"\",IF('入力シート(中播総体)'!$K67=\"\",\"\",format_kiroku('入力シート(中播総体)'!$K67,$BS20)))","v":""},null,null,null,null,null,null,null,null,null,null,null,null,null,null,null,null,null,null,null,null,null,null,null,null,null,null,null,null,null,null,null,"","","",""]
[null,null,null,null,null,null,null,null,null,null,null,{"$f":"IF('入力シート(中播総体)'!$H14=\"\",\"\",'入力シート(中播総体)'!$H14)","v":""},null,null,null,null,null,{"$f":"IF(L21<>\"\",VLOOKUP(EM21,部員データ,3,FALSE)&\"  \"&VLOOKUP(EM21,部員データ,4,FALSE),\"\")","v":""},null,null,null,null,null,null,null,null,null,null,null,null,null,null,null,null,null,{"$f":"IF(L21<>\"\",VLOOKUP(EM21,部員データ,2,FALSE),\"\")","v":""},null,null,null,{"$f":"IF('入力シート(中播総体)'!$H15=\"\",\"\",'入力シート(中播総体)'!$H15)","v":""},null,null,null,null,null,{"$f":"IF(AN21<>\"\",VLOOKUP(EN21,部員データ,3,FALSE)&\"  \"&VLOOKUP(EN21,部員データ,4,FALSE),\"\")","v":""},null,null,null,null,null,null,null,null,null,null,null,null,null,null,null,null,null,{"$f":"IF(AN21<>\"\",VLOOKUP(EN21,部員データ,2,FALSE),\"\")","v":""},null,null,null,null,null,null,null,null,null,null,null,null,null,null,null,null,{"$f":"IF('入力シート(中播総体)'!$H68=\"\",\"\",'入力シート(中播総体)'!$H68)","v":""},null,null,null,null,null,{"$f":"IF(CC21<>\"\",VLOOKUP(EO21,部員データ,3,FALSE)&\"  \"&VLOOKUP(EO21,部員データ,4,FALSE),\"\")","v":""},null,null,null,null,null,null,null,null,null,null,null,null,null,null,null,null,null,{"$f":"IF(CC21<>\"\",VLOOKUP(EO21,部員データ,2,FALSE),\"\")","v":""},null,null,null,{"$f":"IF('入力シート(中播総体)'!$H69=\"\",\"\",'入力シート(中播総体)'!$H69)","v":""},null,null,null,null,null,{"$f":"IF(DE21<>\"\",VLOOKUP(EP21,部員データ,3,FALSE)&\"  \"&VLOOKUP(EP21,部員データ,4,FALSE),\"\")","v":""},null,null,null,null,null,null,null,null,null,null,null,null,null,null,null,null,null,{"$f":"IF(DE21<>\"\",VLOOKUP(EP21,部員データ,2,FALSE),\"\")","v":""},null,null,null,null,null,null,null,null,null,{"$f":"\"男\"&DBCS(TEXT(L21,\"00\"))","v":"男"},{"$f":"\"男\"&DBCS(TEXT(AN21,\"00\"))","v":"男"},{"$f":"\"女\"&DBCS(TEXT(CC21,\"00\"))","v":"女"},{"$f":"\"女\"&DBCS(TEXT(DE21,\"00\"))","v":"女"},"","","",""]
[null,{"$f":"IF(L17=\"\",\"\",IF('入力シート(中播総体)'!$K10=\"\",\"\",format_kiroku('入力シート(中播総体)'!$K10,$B17)))","v":""},null,null,null,null,null,null,null,null,null,null,null,null,null,null,null,null,null,null,null,null,null,null,null,null,null,null,null,null,null,null,null,null,null,null,null,null,null,null,null,null,null,null,null,null,null,null,null,null,null,null,null,null,null,null,null,null,null,null,null,null,null,null,null,null,null,null,null,null,{"$f":"IF(CC17=\"\",\"\",IF('入力シート(中播総体)'!$K64=\"\",\"\",format_kiroku('入力シート(中播総体)'!$K64,$BS17)))","v":""},null,null,null,null,null,null,null,null,null,null,null,null,null,null,null,{"$f":"IF(CC21=\"\",\"\",IF('入力シート(中播総体)'!$K68=\"\",\"\",format_kiroku('入力シート(中播総体)'!$K68,$BS22)))","v":""},null,null,null,null,null,null,null,null,null,null,null,null,null,null,null,null,null,null,null,null,null,null,null,null,null,null,null,{"$f":"IF(DE21=\"\",\"\",IF('入力シート(中播総体)'!$K69=\"\",\"\",format_kiroku('入力シート(中播総体)'!$K69,$BS22)))","v":""},null,null,null,null,null,null,null,null,null,null,null,null,null,null,null,null,null,null,null,null,null,null,null,null,null,null,null,null,null,null,null,"","","",""]
[null,"共通",null,null,null,null,null,null,null,null,null,{"$f":"IF('入力シート(中播総体)'!$H16=\"\",\"\",'入力シート(中播総体)'!$H16)","v":""},null,null,null,null,null,{"$f":"IF(L23<>\"\",VLOOKUP(EM23,部員データ,3,FALSE)&\"  \"&VLOOKUP(EM23,部員データ,4,FALSE),\"\")","v":""},null,null,null,null,null,null,null,null,null,null,null,null,null,null,null,null,null,{"$f":"IF(L23<>\"\",VLOOKUP(EM23,部員データ,2,FALSE),\"\")","v":""},null,null,null,{"$f":"IF('入力シート(中播総体)'!$H17=\"\",\"\",'入力シート(中播総体)'!$H17)","v":""},null,null,null,null,null,{"$f":"IF(AN23<>\"\",VLOOKUP(EN23,部員データ,3,FALSE)&\"  \"&VLOOKUP(EN23,部員データ,4,FALSE),\"\")","v":""},null,null,null,null,null,null,null,null,null,null,null,null,null,null,null,null,null,{"$f":"IF(AN23<>\"\",VLOOKUP(EN23,部員データ,2,FALSE),\"\")","v":""},null,null,null,null,null,null,"共通",null,null,null,null,null,null,null,null,null,{"$f":"IF('入力シート(中播総体)'!$H70=\"\",\"\",'入力シート(中播総体)'!$H70)","v":""},null,null,null,null,null,{"$f":"IF(CC23<>\"\",VLOOKUP(EO23,部員データ,3,FALSE)&\"  \"&VLOOKUP(EO23,部員データ,4,FALSE),\"\")","v":""},null,null,null,null,null,null,null,null,null,null,null,null,null,null,null,null,null,{"$f":"IF(CC23<>\"\",VLOOKUP(EO23,部員データ,2,FALSE),\"\")","v":""},null,null,null,{"$f":"IF('入力シート(中播総体)'!$H71=\"\",\"\",'入力シート(中播総体)'!$H71)","v":""},null,null,null,null,null,{"$f":"IF(DE23<>\"\",VLOOKUP(EP23,部員データ,3,FALSE)&\"  \"&VLOOKUP(EP23,部員データ,4,FALSE),\"\")","v":""},null,null,null,null,null,null,null,null,null,null,null,null,null,null,null,null,null,{"$f":"IF(DE23<>\"\",VLOOKUP(EP23,部員データ,2,FALSE),\"\")","v":""},null,null,null,null,null,null,null,null,null,{"$f":"\"男\"&DBCS(TEXT(L23,\"00\"))","v":"男"},{"$f":"\"男\"&DBCS(TEXT(AN23,\"00\"))","v":"男"},{"$f":"\"女\"&DBCS(TEXT(CC23,\"00\"))","v":"女"},{"$f":"\"女\"&DBCS(TEXT(DE23,\"00\"))","v":"女"},"","","",""]
[null,"200m",null,null,null,null,null,null,null,null,null,null,null,null,null,null,null,{"$f":"IF(L23=\"\",\"\",IF('入力シート(中播総体)'!$K16=\"\",\"\",format_kiroku('入力シート(中播総体)'!$K16,$B24)))","v":""},null,null,null,null,null,null,null,null,null,null,null,null,null,null,null,null,null,null,null,null,null,null,null,null,null,null,null,{"$f":"IF(AN23=\"\",\"\",IF('入力シート(中播総体)'!$K17=\"\",\"\",format_kiroku('入力シート(中播総体)'!$K17,$B24)))","v":""},null,null,null,null,null,null,null,null,null,null,null,null,null,null,null,null,null,null,null,null,null,null,null,null,"200m",null,null,null,null,null,null,null,null,null,null,null,null,null,null,null,{"$f":"IF(CC23=\"\",\"\",IF('入力シート(中播総体)'!$K70=\"\",\"\",format_kiroku('入力シート(中播総体)'!$K70,$BS24)))","v":""},null,null,null,null,null,null,null,null,null,null,null,null,null,null,null,null,null,null,null,null,null,null,null,null,null,null,null,{"$f":"IF(DE23=\"\",\"\",IF('入力シート(中播総体)'!$K71=\"\",\"\",format_kiroku('入力シート(中播総体)'!$K71,$BS24)))","v":""},null,null,null,null,null,null,null,null,null,null,null,null,null,null,null,null,null,null,null,null,null,null,null,null,null,null,null,null,null,null,null,"","","",""]
[null,"●共通",null,null,null,null,null,null,null,null,null,{"$f":"IF('入力シート(中播総体)'!$H18=\"\",\"\",'入力シート(中播総体)'!$H18)","v":""},null,null,null,null,null,{"$f":"IF(L25<>\"\",VLOOKUP(EM25,部員データ,3,FALSE)&\"  \"&VLOOKUP(EM25,部員データ,4,FALSE),\"\")","v":""},null,null,null,null,null,null,null,null,null,null,null,null,null,null,null,null,null,{"$f":"IF(L25<>\"\",VLOOKUP(EM25,部員データ,2,FALSE),\"\")","v":""},null,null,null,{"$f":"IF('入力シート(中播総体)'!$H19=\"\",\"\",'入力シート(中播総体)'!$H19)","v":""},null,null,null,null,null,{"$f":"IF(AN25<>\"\",VLOOKUP(EN25,部員データ,3,FALSE)&\"  \"&VLOOKUP(EN25,部員データ,4,FALSE),\"\")","v":""},null,null,null,null,null,null,null,null,null,null,null,null,null,null,null,null,null,{"$f":"IF(AN25<>\"\",VLOOKUP(EN25,部員データ,2,FALSE),\"\")","v":""},null,null,null,null,null,null,"共通",null,null,null,null,null,null,null,null,null,{"$f":"IF('入力シート(中播総体)'!$H72=\"\",\"\",'入力シート(中播総体)'!$H72)","v":""},null,null,null,null,null,{"$f":"IF(CC25<>\"\",VLOOKUP(EO25,部員データ,3,FALSE)&\"  \"&VLOOKUP(EO25,部員データ,4,FALSE),\"\")","v":""},null,null,null,null,null,null,null,null,null,null,null,null,null,null,null,null,null,{"$f":"IF(CC25<>\"\",VLOOKUP(EO25,部員データ,2,FALSE),\"\")","v":""},null,null,null,{"$f":"IF('入力シート(中播総体)'!$H73=\"\",\"\",'入力シート(中播総体)'!$H73)","v":""},null,null,null,null,null,{"$f":"IF(DE25<>\"\",VLOOKUP(EP25,部員データ,3,FALSE)&\"  \"&VLOOKUP(EP25,部員データ,4,FALSE),\"\")","v":""},null,null,null,null,null,null,null,null,null,null,null,null,null,null,null,null,null,{"$f":"IF(DE25<>\"\",VLOOKUP(EP25,部員データ,2,FALSE),\"\")","v":""},null,null,null,null,null,null,null,null,null,{"$f":"\"男\"&DBCS(TEXT(L25,\"00\"))","v":"男"},{"$f":"\"男\"&DBCS(TEXT(AN25,\"00\"))","v":"男"},{"$f":"\"女\"&DBCS(TEXT(CC25,\"00\"))","v":"女"},{"$f":"\"女\"&DBCS(TEXT(DE25,\"00\"))","v":"女"},"","","",""]
[null,"400ｍ",null,null,null,null,null,null,null,null,null,null,null,null,null,null,null,{"$f":"IF(L25=\"\",\"\",IF('入力シート(中播総体)'!$K18=\"\",\"\",format_kiroku('入力シート(中播総体)'!$K18,$B26)))","v":""},null,null,null,null,null,null,null,null,null,null,null,null,null,null,null,null,null,null,null,null,null,null,null,null,null,null,null,{"$f":"IF(AN25=\"\",\"\",IF('入力シート(中播総体)'!$K19=\"\",\"\",format_kiroku('入力シート(中播総体)'!$K19,$B26)))","v":""},null,null,null,null,null,null,null,null,null,null,null,null,null,null,null,null,null,null,null,null,null,null,null,null,"800m",null,null,null,null,null,null,null,null,null,null,null,null,null,null,null,{"$f":"IF(CC25=\"\",\"\",IF('入力シート(中播総体)'!$K72=\"\",\"\",format_kiroku('入力シート(中播総体)'!$K72,$BS26)))","v":""},null,null,null,null,null,null,null,null,null,null,null,null,null,null,null,null,null,null,null,null,null,null,null,null,null,null,null,{"$f":"IF(DE25=\"\",\"\",IF('入力シート(中播総体)'!$K73=\"\",\"\",format_kiroku('入力シート(中播総体)'!$K73,$BS26)))","v":""},null,null,null,null,null,null,null,null,null,null,null,null,null,null,null,null,null,null,null,null,null,null,null,null,null,null,null,null,null,null,null,"","","",""]
[null,"共通",null,null,null,null,null,null,null,null,null,{"$f":"IF('入力シート(中播総体)'!$H20=\"\",\"\",'入力シート(中播総体)'!$H20)","v":""},null,null,null,null,null,{"$f":"IF(L27<>\"\",VLOOKUP(EM27,部員データ,3,FALSE)&\"  \"&VLOOKUP(EM27,部員データ,4,FALSE),\"\")","v":""},null,null,null,null,null,null,null,null,null,null,null,null,null,null,null,null,null,{"$f":"IF(L27<>\"\",VLOOKUP(EM27,部員データ,2,FALSE),\"\")","v":""},null,null,null,{"$f":"IF('入力シート(中播総体)'!$H21=\"\",\"\",'入力シート(中播総体)'!$H21)","v":""},null,null,null,null,null,{"$f":"IF(AN27<>\"\",VLOOKUP(EN27,部員データ,3,FALSE)&\"  \"&VLOOKUP(EN27,部員データ,4,FALSE),\"\")","v":""},null,null,null,null,null,null,null,null,null,null,null,null,null,null,null,null,null,{"$f":"IF(AN27<>\"\",VLOOKUP(EN27,部員データ,2,FALSE),\"\")","v":""},null,null,null,null,null,null,"●共通",null,null,null,null,null,null,null,null,null,{"$f":"IF('入力シート(中播総体)'!$H74=\"\",\"\",'入力シート(中播総体)'!$H74)","v":""},null,null,null,null,null,{"$f":"IF(CC27<>\"\",VLOOKUP(EO27,部員データ,3,FALSE)&\"  \"&VLOOKUP(EO27,部員データ,4,FALSE),\"\")","v":""},null,null,null,null,null,null,null,null,null,null,null,null,null,null,null,null,null,{"$f":"IF(CC27<>\"\",VLOOKUP(EO27,部員データ,2,FALSE),\"\")","v":""},null,null,null,{"$f":"IF('入力シート(中播総体)'!$H75=\"\",\"\",'入力シート(中播総体)'!$H75)","v":""},null,null,null,null,null,{"$f":"IF(DE27<>\"\",VLOOKUP(EP27,部員データ,3,FALSE)&\"  \"&VLOOKUP(EP27,部員データ,4,FALSE),\"\")","v":""},null,null,null,null,null,null,null,null,null,null,null,null,null,null,null,null,null,{"$f":"IF(DE27<>\"\",VLOOKUP(EP27,部員データ,2,FALSE),\"\")","v":""},null,null,null,null,null,null,null,null,null,{"$f":"\"男\"&DBCS(TEXT(L27,\"00\"))","v":"男"},{"$f":"\"男\"&DBCS(TEXT(AN27,\"00\"))","v":"男"},{"$f":"\"女\"&DBCS(TEXT(CC27,\"00\"))","v":"女"},{"$f":"\"女\"&DBCS(TEXT(DE27,\"00\"))","v":"女"},"","","",""]
[null,"800m",null,null,null,null,null,null,null,null,null,null,null,null,null,null,null,{"$f":"IF(L27=\"\",\"\",IF('入力シート(中播総体)'!$K20=\"\",\"\",format_kiroku('入力シート(中播総体)'!$K20,$B28)))","v":""},null,null,null,null,null,null,null,null,null,null,null,null,null,null,null,null,null,null,null,null,null,null,null,null,null,null,null,{"$f":"IF(AN27=\"\",\"\",IF('入力シート(中播総体)'!$K21=\"\",\"\",format_kiroku('入力シート(中播総体)'!$K21,$B28)))","v":""},null,null,null,null,null,null,null,null,null,null,null,null,null,null,null,null,null,null,null,null,null,null,null,null,"1500m",null,null,null,null,null,null,null,null,null,null,null,null,null,null,null,{"$f":"IF(CC27=\"\",\"\",IF('入力シート(中播総体)'!$K74=\"\",\"\",format_kiroku('入力シート(中播総体)'!$K74,$BS28)))","v":""},null,null,null,null,null,null,null,null,null,null,null,null,null,null,null,null,null,null,null,null,null,null,null,null,null,null,null,{"$f":"IF(DE27=\"\",\"\",IF('入力シート(中播総体)'!$K75=\"\",\"\",format_kiroku('入力シート(中播総体)'!$K75,$BS28)))","v":""},null,null,null,null,null,null,null,null,null,null,null,null,null,null,null,null,null,null,null,null,null,null,null,null,null,null,null,null,null,null,null,"","","",""]
[null,"●共通",null,null,null,null,null,null,null,null,null,{"$f":"IF('入力シート(中播総体)'!$H22=\"\",\"\",'入力シート(中播総体)'!$H22)","v":""},null,null,null,null,null,{"$f":"IF(L29<>\"\",VLOOKUP(EM29,部員データ,3,FALSE)&\"  \"&VLOOKUP(EM29,部員データ,4,FALSE),\"\")","v":""},null,null,null,null,null,null,null,null,null,null,null,null,null,null,null,null,null,{"$f":"IF(L29<>\"\",VLOOKUP(EM29,部員データ,2,FALSE),\"\")","v":""},null,null,null,{"$f":"IF('入力シート(中播総体)'!$H23=\"\",\"\",'入力シート(中播総体)'!$H23)","v":""},null,null,null,null,null,{"$f":"IF(AN29<>\"\",VLOOKUP(EN29,部員データ,3,FALSE)&\"  \"&VLOOKUP(EN29,部員データ,4,FALSE),\"\")","v":""},null,null,null,null,null,null,null,null,null,null,null,null,null,null,null,null,null,{"$f":"IF(AN29<>\"\",VLOOKUP(EN29,部員データ,2,FALSE),\"\")","v":""},null,null,null,null,null,null,"共通",null,null,null,null,null,null,null,null,null,{"$f":"IF('入力シート(中播総体)'!$H76=\"\",\"\",'入力シート(中播総体)'!$H76)","v":""},null,null,null,null,null,{"$f":"IF(CC29<>\"\",VLOOKUP(EO29,部員データ,3,FALSE)&\"  \"&VLOOKUP(EO29,部員データ,4,FALSE),\"\")","v":""},null,null,null,null,null,null,null,null,null,null,null,null,null,null,null,null,null,{"$f":"IF(CC29<>\"\",VLOOKUP(EO29,部員データ,2,FALSE),\"\")","v":""},null,null,null,{"$f":"IF('入力シート(中播総体)'!$H77=\"\",\"\",'入力シート(中播総体)'!$H77)","v":""},null,null,null,null,null,{"$f":"IF(DE29<>\"\",VLOOKUP(EP29,部員データ,3,FALSE)&\"  \"&VLOOKUP(EP29,部員データ,4,FALSE),\"\")","v":""},null,null,null,null,null,null,null,null,null,null,null,null,null,null,null,null,null,{"$f":"IF(DE29<>\"\",VLOOKUP(EP29,部員データ,2,FALSE),\"\")","v":""},null,null,null,null,null,null,null,null,null,{"$f":"\"男\"&DBCS(TEXT(L29,\"00\"))","v":"男"},{"$f":"\"男\"&DBCS(TEXT(AN29,\"00\"))","v":"男"},{"$f":"\"女\"&DBCS(TEXT(CC29,\"00\"))","v":"女"},{"$f":"\"女\"&DBCS(TEXT(DE29,\"00\"))","v":"女"},"","","",""]
[null,"1500m",null,null,null,null,null,null,null,null,null,null,null,null,null,null,null,{"$f":"IF(L29=\"\",\"\",IF('入力シート(中播総体)'!$K22=\"\",\"\",format_kiroku('入力シート(中播総体)'!$K22,$B30)))","v":""},null,null,null,null,null,null,null,null,null,null,null,null,null,null,null,null,null,null,null,null,null,null,null,null,null,null,null,{"$f":"IF(AN29=\"\",\"\",IF('入力シート(中播総体)'!$K23=\"\",\"\",format_kiroku('入力シート(中播総体)'!$K23,$B30)))","v":""},null,null,null,null,null,null,null,null,null,null,null,null,null,null,null,null,null,null,null,null,null,null,null,null,"100mH",null,null,null,null,null,null,null,null,null,null,null,null,null,null,null,{"$f":"IF(CC29=\"\",\"\",IF('入力シート(中播総体)'!$K76=\"\",\"\",format_kiroku('入力シート(中播総体)'!$K76,$BS30)))","v":""},null,null,null,null,null,null,null,null,null,null,null,null,null,null,null,null,null,null,null,null,null,null,null,null,null,null,null,{"$f":"IF(DE29=\"\",\"\",IF('入力シート(中播総体)'!$K77=\"\",\"\",format_kiroku('入力シート(中播総体)'!$K77,$BS30)))","v":""},null,null,null,null,null,null,null,null,null,null,null,null,null,null,null,null,null,null,null,null,null,null,null,null,null,null,null,null,null,null,null,"","","",""]
[null,"共通",null,null,null,null,null,null,null,null,null,{"$f":"IF('入力シート(中播総体)'!$H24=\"\",\"\",'入力シート(中播総体)'!$H24)","v":""},null,null,null,null,null,{"$f":"IF(L31<>\"\",VLOOKUP(EM31,部員データ,3,FALSE)&\"  \"&VLOOKUP(EM31,部員データ,4,FALSE),\"\")","v":""},null,null,null,null,null,null,null,null,null,null,null,null,null,null,null,null,null,{"$f":"IF(L31<>\"\",VLOOKUP(EM31,部員データ,2,FALSE),\"\")","v":""},null,null,null,{"$f":"IF('入力シート(中播総体)'!$H25=\"\",\"\",'入力シート(中播総体)'!$H25)","v":""},null,null,null,null,null,{"$f":"IF(AN31<>\"\",VLOOKUP(EN31,部員データ,3,FALSE)&\"  \"&VLOOKUP(EN31,部員データ,4,FALSE),\"\")","v":""},null,null,null,null,null,null,null,null,null,null,null,null,null,null,null,null,null,{"$f":"IF(AN31<>\"\",VLOOKUP(EN31,部員データ,2,FALSE),\"\")","v":""},null,null,null,null,null,null,"共通",null,null,null,null,null,null,null,null,null,{"$f":"IF('入力シート(中播総体)'!$H84=\"\",\"\",'入力シート(中播総体)'!$H84)","v":""},null,null,null,null,null,{"$f":"IF(CC31<>\"\",VLOOKUP(EO31,部員データ,3,FALSE)&\"  \"&VLOOKUP(EO31,部員データ,4,FALSE),\"\")","v":""},null,null,null,null,null,null,null,null,null,null,null,null,null,null,null,null,null,{"$f":"IF(CC31<>\"\",VLOOKUP(EO31,部員データ,2,FALSE),\"\")","v":""},null,null,null,{"$f":"IF('入力シート(中播総体)'!$H85=\"\",\"\",'入力シート(中播総体)'!$H85)","v":""},null,null,null,null,null,{"$f":"IF(DE31<>\"\",VLOOKUP(EP31,部員データ,3,FALSE)&\"  \"&VLOOKUP(EP31,部員データ,4,FALSE),\"\")","v":""},null,null,null,null,null,null,null,null,null,null,null,null,null,null,null,null,null,{"$f":"IF(DE31<>\"\",VLOOKUP(EP31,部員データ,2,FALSE),\"\")","v":""},null,null,null,null,null,null,null,null,null,{"$f":"\"男\"&DBCS(TEXT(L31,\"00\"))","v":"男"},{"$f":"\"男\"&DBCS(TEXT(AN31,\"00\"))","v":"男"},{"$f":"\"女\"&DBCS(TEXT(CC31,\"00\"))","v":"女"},{"$f":"\"女\"&DBCS(TEXT(DE31,\"00\"))","v":"女"},"","","",""]
[null,"3000m",null,null,null,null,null,null,null,null,null,null,null,null,null,null,null,{"$f":"IF(L31=\"\",\"\",IF('入力シート(中播総体)'!$K24=\"\",\"\",format_kiroku('入力シート(中播総体)'!$K24,$B32)))","v":""},null,null,null,null,null,null,null,null,null,null,null,null,null,null,null,null,null,null,null,null,null,null,null,null,null,null,null,{"$f":"IF(AN31=\"\",\"\",IF('入力シート(中播総体)'!$K25=\"\",\"\",format_kiroku('入力シート(中播総体)'!$K25,$B32)))","v":""},null,null,null,null,null,null,null,null,null,null,null,null,null,null,null,null,null,null,null,null,null,null,null,null,"走高跳",null,null,null,null,null,null,null,null,null,null,null,null,null,null,null,{"$f":"IF(CC31=\"\",\"\",IF('入力シート(中播総体)'!$K84=\"\",\"\",format_kiroku('入力シート(中播総体)'!$K84,$BS32)))","v":""},null,null,null,null,null,null,null,null,null,null,null,null,null,null,null,null,null,null,null,null,null,null,null,null,null,null,null,{"$f":"IF(DE31=\"\",\"\",IF('入力シート(中播総体)'!$K85=\"\",\"\",format_kiroku('入力シート(中播総体)'!$K85,$BS32)))","v":""},null,null,null,null,null,null,null,null,null,null,null,null,null,null,null,null,null,null,null,null,null,null,null,null,null,null,null,null,null,null,null,"","","",""]
[null,"共通",null,null,null,null,null,null,null,null,null,{"$f":"IF('入力シート(中播総体)'!$H26=\"\",\"\",'入力シート(中播総体)'!$H26)","v":""},null,null,null,null,null,{"$f":"IF(L33<>\"\",VLOOKUP(EM33,部員データ,3,FALSE)&\"  \"&VLOOKUP(EM33,部員データ,4,FALSE),\"\")","v":""},null,null,null,null,null,null,null,null,null,null,null,null,null,null,null,null,null,{"$f":"IF(L33<>\"\",VLOOKUP(EM33,部員データ,2,FALSE),\"\")","v":""},null,null,null,{"$f":"IF('入力シート(中播総体)'!$H27=\"\",\"\",'入力シート(中播総体)'!$H27)","v":""},null,null,null,null,null,{"$f":"IF(AN33<>\"\",VLOOKUP(EN33,部員データ,3,FALSE)&\"  \"&VLOOKUP(EN33,部員データ,4,FALSE),\"\")","v":""},null,null,null,null,null,null,null,null,null,null,null,null,null,null,null,null,null,{"$f":"IF(AN33<>\"\",VLOOKUP(EN33,部員データ,2,FALSE),\"\")","v":""},null,null,null,null,null,null,"●共通",null,null,null,null,null,null,null,null,null,{"$f":"IF('入力シート(中播総体)'!$H86=\"\",\"\",'入力シート(中播総体)'!$H86)","v":""},null,null,null,null,null,{"$f":"IF(CC33<>\"\",VLOOKUP(EO33,部員データ,3,FALSE)&\"  \"&VLOOKUP(EO33,部員データ,4,FALSE),\"\")","v":""},null,null,null,null,null,null,null,null,null,null,null,null,null,null,null,null,null,{"$f":"IF(CC33<>\"\",VLOOKUP(EO33,部員データ,2,FALSE),\"\")","v":""},null,null,null,{"$f":"IF('入力シート(中播総体)'!$H87=\"\",\"\",'入力シート(中播総体)'!$H87)","v":""},null,null,null,null,null,{"$f":"IF(DE33<>\"\",VLOOKUP(EP33,部員データ,3,FALSE)&\"  \"&VLOOKUP(EP33,部員データ,4,FALSE),\"\")","v":""},null,null,null,null,null,null,null,null,null,null,null,null,null,null,null,null,null,{"$f":"IF(DE33<>\"\",VLOOKUP(EP33,部員データ,2,FALSE),\"\")","v":""},null,null,null,null,null,null,null,null,null,{"$f":"\"男\"&DBCS(TEXT(L33,\"00\"))","v":"男"},{"$f":"\"男\"&DBCS(TEXT(AN33,\"00\"))","v":"男"},{"$f":"\"女\"&DBCS(TEXT(CC33,\"00\"))","v":"女"},{"$f":"\"女\"&DBCS(TEXT(DE33,\"00\"))","v":"女"},"","","",""]
[null,"110mＨ",null,null,null,null,null,null,null,null,null,null,null,null,null,null,null,{"$f":"IF(L33=\"\",\"\",IF('入力シート(中播総体)'!$K26=\"\",\"\",format_kiroku('入力シート(中播総体)'!$K26,$B34)))","v":""},null,null,null,null,null,null,null,null,null,null,null,null,null,null,null,null,null,null,null,null,null,null,null,null,null,null,null,{"$f":"IF(AN33=\"\",\"\",IF('入力シート(中播総体)'!$K27=\"\",\"\",format_kiroku('入力シート(中播総体)'!$K27,$B34)))","v":""},null,null,null,null,null,null,null,null,null,null,null,null,null,null,null,null,null,null,null,null,null,null,null,null,"走幅跳",null,null,null,null,null,null,null,null,null,null,null,null,null,null,null,{"$f":"IF(CC33=\"\",\"\",IF('入力シート(中播総体)'!$K86=\"\",\"\",format_kiroku('入力シート(中播総体)'!$K86,$BS34)))","v":""},null,null,null,null,null,null,null,null,null,null,null,null,null,null,null,null,null,null,null,null,null,null,null,null,null,null,null,{"$f":"IF(DE33=\"\",\"\",IF('入力シート(中播総体)'!$K87=\"\",\"\",format_kiroku('入力シート(中播総体)'!$K87,$BS34)))","v":""},null,null,null,null,null,null,null,null,null,null,null,null,null,null,null,null,null,null,null,null,null,null,null,null,null,null,null,null,null,null,null,"","","",""]
[null,"共通",null,null,null,null,null,null,null,null,null,{"$f":"IF('入力シート(中播総体)'!$H34=\"\",\"\",'入力シート(中播総体)'!$H34)","v":""},null,null,null,null,null,{"$f":"IF(L35<>\"\",VLOOKUP(EM35,部員データ,3,FALSE)&\"  \"&VLOOKUP(EM35,部員データ,4,FALSE),\"\")","v":""},null,null,null,null,null,null,null,null,null,null,null,null,null,null,null,null,null,{"$f":"IF(L35<>\"\",VLOOKUP(EM35,部員データ,2,FALSE),\"\")","v":""},null,null,null,{"$f":"IF('入力シート(中播総体)'!$H35=\"\",\"\",'入力シート(中播総体)'!$H35)","v":""},null,null,null,null,null,{"$f":"IF(AN35<>\"\",VLOOKUP(EN35,部員データ,3,FALSE)&\"  \"&VLOOKUP(EN35,部員データ,4,FALSE),\"\")","v":""},null,null,null,null,null,null,null,null,null,null,null,null,null,null,null,null,null,{"$f":"IF(AN35<>\"\",VLOOKUP(EN35,部員データ,2,FALSE),\"\")","v":""},null,null,null,null,null,null,"共通",null,null,null,null,null,null,null,null,null,{"$f":"IF('入力シート(中播総体)'!$H88=\"\",\"\",'入力シート(中播総体)'!$H88)","v":""},null,null,null,null,null,{"$f":"IF(CC35<>\"\",VLOOKUP(EO35,部員データ,3,FALSE)&\"  \"&VLOOKUP(EO35,部員データ,4,FALSE),\"\")","v":""},null,null,null,null,null,null,null,null,null,null,null,null,null,null,null,null,null,{"$f":"IF(CC35<>\"\",VLOOKUP(EO35,部員データ,2,FALSE),\"\")","v":""},null,null,null,{"$f":"IF('入力シート(中播総体)'!$H89=\"\",\"\",'入力シート(中播総体)'!$H89)","v":""},null,null,null,null,null,{"$f":"IF(DE35<>\"\",VLOOKUP(EP35,部員データ,3,FALSE)&\"  \"&VLOOKUP(EP35,部員データ,4,FALSE),\"\")","v":""},null,null,null,null,null,null,null,null,null,null,null,null,null,null,null,null,null,{"$f":"IF(DE35<>\"\",VLOOKUP(EP35,部員データ,2,FALSE),\"\")","v":""},null,null,null,null,null,null,null,null,null,{"$f":"\"男\"&DBCS(TEXT(L35,\"00\"))","v":"男"},{"$f":"\"男\"&DBCS(TEXT(AN35,\"00\"))","v":"男"},{"$f":"\"女\"&DBCS(TEXT(CC35,\"00\"))","v":"女"},{"$f":"\"女\"&DBCS(TEXT(DE35,\"00\"))","v":"女"},"","","",""]
[null,"走高跳",null,null,null,null,null,null,null,null,null,null,null,null,null,null,null,{"$f":"IF(L35=\"\",\"\",IF('入力シート(中播総体)'!$K34=\"\",\"\",format_kiroku('入力シート(中播総体)'!$K34,$B36)))","v":""},null,null,null,null,null,null,null,null,null,null,null,null,null,null,null,null,null,null,null,null,null,null,null,null,null,null,null,{"$f":"IF(AN35=\"\",\"\",IF('入力シート(中播総体)'!$K35=\"\",\"\",format_kiroku('入力シート(中播総体)'!$K35,$B36)))","v":""},null,null,null,null,null,null,null,null,null,null,null,null,null,null,null,null,null,null,null,null,null,null,null,null,"砲丸投",null,null,null,null,null,null,null,null,null,null,null,null,null,null,null,{"$f":"IF(CC35=\"\",\"\",IF('入力シート(中播総体)'!$K88=\"\",\"\",format_kiroku('入力シート(中播総体)'!$K88,$BS36)))","v":""},null,null,null,null,null,null,null,null,null,null,null,null,null,null,null,null,null,null,null,null,null,null,null,null,null,null,null,{"$f":"IF(DE35=\"\",\"\",IF('入力シート(中播総体)'!$K89=\"\",\"\",format_kiroku('入力シート(中播総体)'!$K89,$BS36)))","v":""},null,null,null,null,null,null,null,null,null,null,null,null,null,null,null,null,null,null,null,null,null,null,null,null,null,null,null,null,null,null,null,"","","",""]
[null,"●共通",null,null,null,null,null,null,null,null,null,{"$f":"IF('入力シート(中播総体)'!$H36=\"\",\"\",'入力シート(中播総体)'!$H36)","v":""},null,null,null,null,null,{"$f":"IF(L37<>\"\",VLOOKUP(EM37,部員データ,3,FALSE)&\"  \"&VLOOKUP(EM37,部員データ,4,FALSE),\"\")","v":""},null,null,null,null,null,null,null,null,null,null,null,null,null,null,null,null,null,{"$f":"IF(L37<>\"\",VLOOKUP(EM37,部員データ,2,FALSE),\"\")","v":""},null,null,null,{"$f":"IF('入力シート(中播総体)'!$H37=\"\",\"\",'入力シート(中播総体)'!$H37)","v":""},null,null,null,null,null,{"$f":"IF(AN37<>\"\",VLOOKUP(EN37,部員データ,3,FALSE)&\"  \"&VLOOKUP(EN37,部員データ,4,FALSE),\"\")","v":""},null,null,null,null,null,null,null,null,null,null,null,null,null,null,null,null,null,{"$f":"IF(AN37<>\"\",VLOOKUP(EN37,部員データ,2,FALSE),\"\")","v":""},null,null,null,null,null,null,"●共通",null,null,null,null,null,null,null,null,null,{"$f":"IF('入力シート(中播総体)'!$H90=\"\",\"\",'入力シート(中播総体)'!$H90)","v":""},null,null,null,null,null,{"$f":"IF(CC37<>\"\",VLOOKUP(EO37,部員データ,3,FALSE)&\"  \"&VLOOKUP(EO37,部員データ,4,FALSE),\"\")","v":""},null,null,null,null,null,null,null,null,null,null,null,null,null,null,null,null,null,{"$f":"IF(CC37<>\"\",VLOOKUP(EO37,部員データ,2,FALSE),\"\")","v":""},null,null,null,{"$f":"IF('入力シート(中播総体)'!$H91=\"\",\"\",'入力シート(中播総体)'!$H91)","v":""},null,null,null,null,null,{"$f":"IF(DE37<>\"\",VLOOKUP(EP37,部員データ,3,FALSE)&\"  \"&VLOOKUP(EP37,部員データ,4,FALSE),\"\")","v":""},null,null,null,null,null,null,null,null,null,null,null,null,null,null,null,null,null,{"$f":"IF(DE37<>\"\",VLOOKUP(EP37,部員データ,2,FALSE),\"\")","v":""},null,null,null,null,null,null,null,null,null,{"$f":"\"男\"&DBCS(TEXT(L37,\"00\"))","v":"男"},{"$f":"\"男\"&DBCS(TEXT(AN37,\"00\"))","v":"男"},{"$f":"\"女\"&DBCS(TEXT(CC37,\"00\"))","v":"女"},{"$f":"\"女\"&DBCS(TEXT(DE37,\"00\"))","v":"女"},"","","",""]
[null,"棒高跳",null,null,null,null,null,null,null,null,null,null,null,null,null,null,null,{"$f":"IF(L37=\"\",\"\",IF('入力シート(中播総体)'!$K36=\"\",\"\",format_kiroku('入力シート(中播総体)'!$K36,$B38)))","v":""},null,null,null,null,null,null,null,null,null,null,null,null,null,null,null,null,null,null,null,null,null,null,null,null,null,null,null,{"$f":"IF(AN37=\"\",\"\",IF('入力シート(中播総体)'!$K37=\"\",\"\",format_kiroku('入力シート(中播総体)'!$K37,$B38)))","v":""},null,null,null,null,null,null,null,null,null,null,null,null,null,null,null,null,null,null,null,null,null,null,null,null,"円盤投",null,null,null,null,null,null,null,null,null,null,null,null,null,null,null,{"$f":"IF(CC37=\"\",\"\",IF('入力シート(中播総体)'!$K90=\"\",\"\",format_kiroku('入力シート(中播総体)'!$K90,$BS38)))","v":""},null,null,null,null,null,null,null,null,null,null,null,null,null,null,null,null,null,null,null,null,null,null,null,null,null,null,null,{"$f":"IF(DE37=\"\",\"\",IF('入力シート(中播総体)'!$K91=\"\",\"\",format_kiroku('入力シート(中播総体)'!$K91,$BS38)))","v":""},null,null,null,null,null,null,null,null,null,null,null,null,null,null,null,null,null,null,null,null,null,null,null,null,null,null,null,null,null,null,null,"","","",""]
[null,"●共通",null,null,null,null,null,null,null,null,null,{"$f":"IF('入力シート(中播総体)'!$H38=\"\",\"\",'入力シート(中播総体)'!$H38)","v":""},null,null,null,null,null,{"$f":"IF(L39<>\"\",VLOOKUP(EM39,部員データ,3,FALSE)&\"  \"&VLOOKUP(EM39,部員データ,4,FALSE),\"\")","v":""},null,null,null,null,null,null,null,null,null,null,null,null,null,null,null,null,null,{"$f":"IF(L39<>\"\",VLOOKUP(EM39,部員データ,2,FALSE),\"\")","v":""},null,null,null,{"$f":"IF('入力シート(中播総体)'!$H39=\"\",\"\",'入力シート(中播総体)'!$H39)","v":""},null,null,null,null,null,{"$f":"IF(AN39<>\"\",VLOOKUP(EN39,部員データ,3,FALSE)&\"  \"&VLOOKUP(EN39,部員データ,4,FALSE),\"\")","v":""},null,null,null,null,null,null,null,null,null,null,null,null,null,null,null,null,null,{"$f":"IF(AN39<>\"\",VLOOKUP(EN39,部員データ,2,FALSE),\"\")","v":""},null,null,null,null,null,null,"●共通",null,null,null,null,null,null,null,null,null,{"$f":"IF('入力シート(中播総体)'!$H92=\"\",\"\",'入力シート(中播総体)'!$H92)","v":""},null,null,null,null,null,{"$f":"IF(CC39<>\"\",VLOOKUP(EO39,部員データ,3,FALSE)&\"  \"&VLOOKUP(EO39,部員データ,4,FALSE),\"\")","v":""},null,null,null,null,null,null,null,null,null,null,null,null,null,null,null,null,null,{"$f":"IF(CC39<>\"\",VLOOKUP(EO39,部員データ,2,FALSE),\"\")","v":""},null,null,null,{"$f":"IF('入力シート(中播総体)'!$H97=\"\",\"\",'入力シート(中播総体)'!$H97)","v":""},null,null,null,null,null,{"$f":"IF(DE39<>\"\",VLOOKUP(EP39,部員データ,3,FALSE)&\"  \"&VLOOKUP(EP39,部員データ,4,FALSE),\"\")","v":""},null,null,null,null,null,null,null,null,null,null,null,null,null,null,null,null,null,{"$f":"IF(DE39<>\"\",VLOOKUP(EP39,部員データ,2,FALSE),\"\")","v":""},null,null,null,null,null,null,null,null,null,{"$f":"\"男\"&DBCS(TEXT(L39,\"00\"))","v":"男"},{"$f":"\"男\"&DBCS(TEXT(AN39,\"00\"))","v":"男"},{"$f":"\"女\"&DBCS(TEXT(CC39,\"00\"))","v":"女"},{"$f":"\"女\"&DBCS(TEXT(DE39,\"00\"))","v":"女"},"","","",""]
[null,"走幅跳",null,null,null,null,null,null,null,null,null,null,null,null,null,null,null,{"$f":"IF(L39=\"\",\"\",IF('入力シート(中播総体)'!$K38=\"\",\"\",format_kiroku('入力シート(中播総体)'!$K38,$B40)))","v":""},null,null,null,null,null,null,null,null,null,null,null,null,null,null,null,null,null,null,null,null,null,null,null,null,null,null,null,{"$f":"IF(AN39=\"\",\"\",IF('入力シート(中播総体)'!$K39=\"\",\"\",format_kiroku('入力シート(中播総体)'!$K39,$B40)))","v":""},null,null,null,null,null,null,null,null,null,null,null,null,null,null,null,null,null,null,null,null,null,null,null,null,"四種競技",null,null,null,null,null,null,null,null,null,null,null,null,null,null,null,{"$f":"IF(CC39=\"\",\"\",IF('入力シート(中播総体)'!$K92=\"\",\"\",format_kiroku('入力シート(中播総体)'!$K92,$BS40)))","v":""},null,null,null,null,null,null,null,null,null,null,null,null,null,null,null,null,null,null,null,null,null,null,null,null,null,null,null,{"$f":"IF(DE39=\"\",\"\",IF('入力シート(中播総体)'!$K97=\"\",\"\",format_kiroku('入力シート(中播総体)'!$K97,$BS40)))","v":""},null,null,null,null,null,null,null,null,null,null,null,null,null,null,null,null,null,null,null,null,null,null,null,null,null,null,null,null,null,null,null,"","","",""]
[null,"共通",null,null,null,null,null,null,null,null,null,{"$f":"IF('入力シート(中播総体)'!$H40=\"\",\"\",'入力シート(中播総体)'!$H40)","v":""},null,null,null,null,null,{"$f":"IF(L41<>\"\",VLOOKUP(EM41,部員データ,3,FALSE)&\"  \"&VLOOKUP(EM41,部員データ,4,FALSE),\"\")","v":""},null,null,null,null,null,null,null,null,null,null,null,null,null,null,null,null,null,{"$f":"IF(L41<>\"\",VLOOKUP(EM41,部員データ,2,FALSE),\"\")","v":""},null,null,null,{"$f":"IF('入力シート(中播総体)'!$H41=\"\",\"\",'入力シート(中播総体)'!$H41)","v":""},null,null,null,null,null,{"$f":"IF(AN41<>\"\",VLOOKUP(EN41,部員データ,3,FALSE)&\"  \"&VLOOKUP(EN41,部員データ,4,FALSE),\"\")","v":""},null,null,null,null,null,null,null,null,null,null,null,null,null,null,null,null,null,{"$f":"IF(AN41<>\"\",VLOOKUP(EN41,部員データ,2,FALSE),\"\")","v":""},null,null,null,null,null,null,"共通\n4×100mR",null,null,null,null,null,null,null,null,null,{"$f":"IF('入力シート(中播総体)'!$H78=\"\",\"\",'入力シート(中播総体)'!$H78)","v":""},null,null,null,null,null,{"$f":"IF(CC41<>\"\",VLOOKUP(EO41,部員データ,3,FALSE)&\"  \"&VLOOKUP(EO41,部員データ,4,FALSE),\"\")","v":""},null,null,null,null,null,null,null,null,null,null,null,null,null,null,null,null,null,{"$f":"IF(CC41<>\"\",VLOOKUP(EO41,部員データ,2,FALSE),\"\")","v":""},null,null,null,{"$f":"IF('入力シート(中播総体)'!$H79=\"\",\"\",'入力シート(中播総体)'!$H79)","v":""},null,null,null,null,null,{"$f":"IF(DE41<>\"\",VLOOKUP(EP41,部員データ,3,FALSE)&\"  \"&VLOOKUP(EP41,部員データ,4,FALSE),\"\")","v":""},null,null,null,null,null,null,null,null,null,null,null,null,null,null,null,null,null,{"$f":"IF(DE41<>\"\",VLOOKUP(EP41,部員データ,2,FALSE),\"\")","v":""},null,null,null,null,null,null,null,null,null,{"$f":"\"男\"&DBCS(TEXT(L41,\"00\"))","v":"男"},{"$f":"\"男\"&DBCS(TEXT(AN41,\"00\"))","v":"男"},{"$f":"\"女\"&DBCS(TEXT(CC41,\"00\"))","v":"女"},{"$f":"\"女\"&DBCS(TEXT(DE41,\"00\"))","v":"女"},"","","",""]
[null,"三段跳",null,null,null,null,null,null,null,null,null,null,null,null,null,null,null,{"$f":"IF(L41=\"\",\"\",IF('入力シート(中播総体)'!$K40=\"\",\"\",format_kiroku('入力シート(中播総体)'!$K40,$B42)))","v":""},null,null,null,null,null,null,null,null,null,null,null,null,null,null,null,null,null,null,null,null,null,null,null,null,null,null,null,{"$f":"IF(AN41=\"\",\"\",IF('入力シート(中播総体)'!$K41=\"\",\"\",format_kiroku('入力シート(中播総体)'!$K41,$B42)))","v":""},null,null,null,null,null,null,null,null,null,null,null,null,null,null,null,null,null,null,null,null,null,null,null,null,null,null,null,null,null,null,null,null,null,null,null,null,null,null,null,null,{"$f":"IF(CC41=\"\",\"\",IF('入力シート(中播総体)'!$K88=\"\",\"\",format_kiroku('入力シート(中播総体)'!$K88,$BS42)))","v":""},null,null,null,null,null,null,null,null,null,null,null,null,null,null,null,null,null,null,null,null,null,null,null,null,null,null,null,{"$f":"IF(DE41=\"\",\"\",IF('入力シート(中播総体)'!$K89=\"\",\"\",format_kiroku('入力シート(中播総体)'!$K89,$BS42)))","v":""},null,null,null,null,null,null,null,null,null,null,null,null,null,null,null,null,null,null,null,null,null,null,null,null,null,null,null,null,null,null,null,"","","",""]
[null,"共通",null,null,null,null,null,null,null,null,null,{"$f":"IF('入力シート(中播総体)'!$H42=\"\",\"\",'入力シート(中播総体)'!$H42)","v":""},null,null,null,null,null,{"$f":"IF(L43<>\"\",VLOOKUP(EM43,部員データ,3,FALSE)&\"  \"&VLOOKUP(EM43,部員データ,4,FALSE),\"\")","v":""},null,null,null,null,null,null,null,null,null,null,null,null,null,null,null,null,null,{"$f":"IF(L43<>\"\",VLOOKUP(EM43,部員データ,2,FALSE),\"\")","v":""},null,null,null,{"$f":"IF('入力シート(中播総体)'!$H43=\"\",\"\",'入力シート(中播総体)'!$H43)","v":""},null,null,null,null,null,{"$f":"IF(AN43<>\"\",VLOOKUP(EN43,部員データ,3,FALSE)&\"  \"&VLOOKUP(EN43,部員データ,4,FALSE),\"\")","v":""},null,null,null,null,null,null,null,null,null,null,null,null,null,null,null,null,null,{"$f":"IF(AN43<>\"\",VLOOKUP(EN43,部員データ,2,FALSE),\"\")","v":""},null,null,null,null,null,null,null,null,null,null,null,null,null,null,null,null,{"$f":"IF('入力シート(中播総体)'!$H80=\"\",\"\",'入力シート(中播総体)'!$H80)","v":""},null,null,null,null,null,{"$f":"IF(CC43<>\"\",VLOOKUP(EO43,部員データ,3,FALSE)&\"  \"&VLOOKUP(EO43,部員データ,4,FALSE),\"\")","v":""},null,null,null,null,null,null,null,null,null,null,null,null,null,null,null,null,null,{"$f":"IF(CC43<>\"\",VLOOKUP(EO43,部員データ,2,FALSE),\"\")","v":""},null,null,null,{"$f":"IF('入力シート(中播総体)'!$H81=\"\",\"\",'入力シート(中播総体)'!$H81)","v":""},null,null,null,null,null,{"$f":"IF(DE43<>\"\",VLOOKUP(EP43,部員データ,3,FALSE)&\"  \"&VLOOKUP(EP43,部員データ,4,FALSE),\"\")","v":""},null,null,null,null,null,null,null,null,null,null,null,null,null,null,null,null,null,{"$f":"IF(DE43<>\"\",VLOOKUP(EP43,部員データ,2,FALSE),\"\")","v":""},null,null,null,null,null,{"$f":"COUNTA(L9:Q45,AN9:AS45)","v":38},{"$f":"COUNTA(CC9:CH32,DE9:DJ32)","v":24},null,null,{"$f":"\"男\"&DBCS(TEXT(L43,\"00\"))","v":"男"},{"$f":"\"男\"&DBCS(TEXT(AN43,\"00\"))","v":"男"},{"$f":"\"女\"&DBCS(TEXT(CC43,\"00\"))","v":"女"},{"$f":"\"女\"&DBCS(TEXT(DE43,\"00\"))","v":"女"},"","","",""]
[null,"砲丸投",null,null,null,null,null,null,null,null,null,null,null,null,null,null,null,{"$f":"IF(L43=\"\",\"\",IF('入力シート(中播総体)'!$K42=\"\",\"\",format_kiroku('入力シート(中播総体)'!$K42,$B44)))","v":""},null,null,null,null,null,null,null,null,null,null,null,null,null,null,null,null,null,null,null,null,null,null,null,null,null,null,null,{"$f":"IF(AN43=\"\",\"\",IF('入力シート(中播総体)'!$K43=\"\",\"\",format_kiroku('入力シート(中播総体)'!$K43,$B44)))","v":""},null,null,null,null,null,null,null,null,null,null,null,null,null,null,null,null,null,null,null,null,null,null,null,null,null,null,null,null,null,null,null,null,null,null,null,null,null,null,null,null,{"$f":"IF(CC43=\"\",\"\",IF('入力シート(中播総体)'!$K90=\"\",\"\",format_kiroku('入力シート(中播総体)'!$K90,$BS44)))","v":""},null,null,null,null,null,null,null,null,null,null,null,null,null,null,null,null,null,null,null,null,null,null,null,null,null,null,null,{"$f":"IF(DE43=\"\",\"\",IF('入力シート(中播総体)'!$K91=\"\",\"\",format_kiroku('入力シート(中播総体)'!$K91,$BS44)))","v":""},null,null,null,null,null,null,null,null,null,null,null,null,null,null,null,null,null,null,null,null,null,null,null,null,null,null,null,null,null,null,null,"","","",""]
[null,"●共通",null,null,null,null,null,null,null,null,null,{"$f":"IF('入力シート(中播総体)'!$H44=\"\",\"\",'入力シート(中播総体)'!$H44)","v":""},null,null,null,null,null,{"$f":"IF(L45<>\"\",VLOOKUP(EM45,部員データ,3,FALSE)&\"  \"&VLOOKUP(EM45,部員データ,4,FALSE),\"\")","v":""},null,null,null,null,null,null,null,null,null,null,null,null,null,null,null,null,null,{"$f":"IF(L45<>\"\",VLOOKUP(EM45,部員データ,2,FALSE),\"\")","v":""},null,null,null,{"$f":"IF('入力シート(中播総体)'!$H45=\"\",\"\",'入力シート(中播総体)'!$H45)","v":""},null,null,null,null,null,{"$f":"IF(AN45<>\"\",VLOOKUP(EN45,部員データ,3,FALSE)&\"  \"&VLOOKUP(EN45,部員データ,4,FALSE),\"\")","v":""},null,null,null,null,null,null,null,null,null,null,null,null,null,null,null,null,null,{"$f":"IF(AN45<>\"\",VLOOKUP(EN45,部員データ,2,FALSE),\"\")","v":""},null,null,null,null,null,null,null,null,null,null,null,null,null,null,null,null,{"$f":"IF('入力シート(中播総体)'!$H82=\"\",\"\",'入力シート(中播総体)'!$H82)","v":""},null,null,null,null,null,{"$f":"IF(CC45<>\"\",VLOOKUP(EO45,部員データ,3,FALSE)&\"  \"&VLOOKUP(EO45,部員データ,4,FALSE),\"\")","v":""},null,null,null,null,null,null,null,null,null,null,null,null,null,null,null,null,null,{"$f":"IF(CC45<>\"\",VLOOKUP(EO45,部員データ,2,FALSE),\"\")","v":""},null,null,null,{"$f":"IF('入力シート(中播総体)'!$H83=\"\",\"\",'入力シート(中播総体)'!$H83)","v":""},null,null,null,null,null,{"$f":"IF(DE45<>\"\",VLOOKUP(EP45,部員データ,3,FALSE)&\"  \"&VLOOKUP(EP45,部員データ,4,FALSE),\"\")","v":""},null,null,null,null,null,null,null,null,null,null,null,null,null,null,null,null,null,{"$f":"IF(DE45<>\"\",VLOOKUP(EP45,部員データ,2,FALSE),\"\")","v":""},null,null,null,null,null,{"$f":"COUNTA(L47,AN47)","v":2},{"$f":"COUNTA(CC39,DE39)","v":2},null,null,{"$f":"\"男\"&DBCS(TEXT(L45,\"00\"))","v":"男"},{"$f":"\"男\"&DBCS(TEXT(AN45,\"00\"))","v":"男"},{"$f":"\"女\"&DBCS(TEXT(CC45,\"00\"))","v":"女"},{"$f":"\"女\"&DBCS(TEXT(DE45,\"00\"))","v":"女"},"","","",""]
[null,"円盤投",null,null,null,null,null,null,null,null,null,null,null,null,null,null,null,{"$f":"IF(L45=\"\",\"\",IF('入力シート(中播総体)'!$K44=\"\",\"\",format_kiroku('入力シート(中播総体)'!$K44,$B46)))","v":""},null,null,null,null,null,null,null,null,null,null,null,null,null,null,null,null,null,null,null,null,null,null,null,null,null,null,null,{"$f":"IF(AN45=\"\",\"\",IF('入力シート(中播総体)'!$K45=\"\",\"\",format_kiroku('入力シート(中播総体)'!$K45,$B46)))","v":""},null,null,null,null,null,null,null,null,null,null,null,null,null,null,null,null,null,null,null,null,null,null,null,null,{"$f":"IF(CC41=\"\",\"\",IF('入力シート(中播総体)'!$K78=\"\",\"\",format_kiroku('入力シート(中播総体)'!$K78,$BS41)))","v":""},null,null,null,null,null,null,null,null,null,null,null,null,null,null,null,{"$f":"IF(CC45=\"\",\"\",IF('入力シート(中播総体)'!$K92=\"\",\"\",format_kiroku('入力シート(中播総体)'!$K92,$BS46)))","v":""},null,null,null,null,null,null,null,null,null,null,null,null,null,null,null,null,null,null,null,null,null,null,null,null,null,null,null,{"$f":"IF(DE45=\"\",\"\",IF('入力シート(中播総体)'!$K93=\"\",\"\",format_kiroku('入力シート(中播総体)'!$K93,$BS46)))","v":""},null,null,null,null,null,null,null,null,null,null,null,null,null,null,null,null,null,null,null,null,null,null,null,null,null,null,null,null,null,null,null,"","","",""]
[null,"●共通",null,null,null,null,null,null,null,null,null,{"$f":"IF('入力シート(中播総体)'!$H46=\"\",\"\",'入力シート(中播総体)'!$H46)","v":""},null,null,null,null,null,{"$f":"IF(L47<>\"\",VLOOKUP(EM47,部員データ,3,FALSE)&\"  \"&VLOOKUP(EM47,部員データ,4,FALSE),\"\")","v":""},null,null,null,null,null,null,null,null,null,null,null,null,null,null,null,null,null,{"$f":"IF(L47<>\"\",VLOOKUP(EM47,部員データ,2,FALSE),\"\")","v":""},null,null,null,{"$f":"IF('入力シート(中播総体)'!$H51=\"\",\"\",'入力シート(中播総体)'!$H51)","v":""},null,null,null,null,null,{"$f":"IF(AN47<>\"\",VLOOKUP(EN47,部員データ,3,FALSE)&\"  \"&VLOOKUP(EN47,部員データ,4,FALSE),\"\")","v":""},null,null,null,null,null,null,null,null,null,null,null,null,null,null,null,null,null,{"$f":"IF(AN47<>\"\",VLOOKUP(EN47,部員データ,2,FALSE),\"\")","v":""},null,null,null,null,null,null,null,null,null,null,null,null,null,null,null,null,null,null,null,null,null,null,null,null,null,null,null,null,null,null,null,null,null,null,null,null,null,null,null,null,null,null,null,null,null,null,null,null,null,null,null,null,null,null,null,null,null,null,null,null,null,null,null,null,null,null,null,null,null,null,null,null,null,null,{"$f":"COUNTA(L49)","v":1},{"$f":"COUNTA(CC41)","v":1},null,null,{"$f":"\"男\"&DBCS(TEXT(L47,\"00\"))","v":"男"},{"$f":"\"男\"&DBCS(TEXT(AN47,\"00\"))","v":"男"},null,null,"","","",""]
[null,"四種競技",null,null,null,null,null,null,null,null,null,null,null,null,null,null,null,{"$f":"IF(L47=\"\",\"\",IF('入力シート(中播総体)'!$K46=\"\",\"\",format_kiroku('入力シート(中播総体)'!$K46,$B48)))","v":""},null,null,null,null,null,null,null,null,null,null,null,null,null,null,null,null,null,null,null,null,null,null,null,null,null,null,null,{"$f":"IF(AN47=\"\",\"\",IF('入力シート(中播総体)'!$K51=\"\",\"\",format_kiroku('入力シート(中播総体)'!$K51,$B48)))","v":""},null,null,null,null,null,null,null,null,null,null,null,null,null,null,null,null,null,null,null,null,null,null,null,null,null,null,null,null,null,null,null,null,null,null,null,null,null,null,null,null,null,null,null,null,null,null,null,null,null,null,null,null,null,null,null,null,null,null,null,null,null,null,null,null,null,null,null,null,null,null,null,null,null,null,null,null,null,null,null,null,null,null,null,null,null,null,null,null,null,null,null,null,null,null,null,null,null,null,null,null,"",""]
[null,"共通\n4×100mR",null,null,null,null,null,null,null,null,null,{"$f":"IF('入力シート(中播総体)'!$H28=\"\",\"\",'入力シート(中播総体)'!$H28)","v":""},null,null,null,null,null,{"$f":"IF(L49<>\"\",VLOOKUP(EM49,部員データ,3,FALSE)&\"  \"&VLOOKUP(EM49,部員データ,4,FALSE),\"\")","v":""},null,null,null,null,null,null,null,null,null,null,null,null,null,null,null,null,null,{"$f":"IF(L49<>\"\",VLOOKUP(EM49,部員データ,2,FALSE),\"\")","v":""},null,null,null,{"$f":"IF('入力シート(中播総体)'!$H29=\"\",\"\",'入力シート(中播総体)'!$H29)","v":""},null,null,null,null,null,{"$f":"IF(AN49<>\"\",VLOOKUP(EN49,部員データ,3,FALSE)&\"  \"&VLOOKUP(EN49,部員データ,4,FALSE),\"\")","v":""},null,null,null,null,null,null,null,null,null,null,null,null,null,null,null,null,null,{"$f":"IF(AN49<>\"\",VLOOKUP(EN49,部員データ,2,FALSE),\"\")","v":""},null,null,null,null,null,null,"実参加人数",null,null,null,null,null,null,null,null,null,"１年",null,null,null,null,null,null,null,null,null,null,"２年",null,null,null,null,null,null,null,null,null,null,"３年",null,null,null,null,null,null,null,null,null,null,"合計",null,null,null,null,null,null,null,null,null,null,"総合計",null,null,null,null,null,null,null,null,null,null,null,null,null,null,null,null,null,{"$f":"\"男\"&DBCS(TEXT(L49,\"00\"))","v":"男"},{"$f":"\"男\"&DBCS(TEXT(AN49,\"00\"))","v":"男"},null,null,"",""]
[]
[null,null,null,null,null,null,null,null,null,null,null,{"$f":"IF('入力シート(中播総体)'!$H30=\"\",\"\",'入力シート(中播総体)'!$H30)","v":""},null,null,null,null,null,{"$f":"IF(L51<>\"\",VLOOKUP(EM51,部員データ,3,FALSE)&\"  \"&VLOOKUP(EM51,部員データ,4,FALSE),\"\")","v":""},null,null,null,null,null,null,null,null,null,null,null,null,null,null,null,null,null,{"$f":"IF(L51<>\"\",VLOOKUP(EM51,部員データ,2,FALSE),\"\")","v":""},null,null,null,{"$f":"IF('入力シート(中播総体)'!$H31=\"\",\"\",'入力シート(中播総体)'!$H31)","v":""},null,null,null,null,null,{"$f":"IF(AN51<>\"\",VLOOKUP(EN51,部員データ,3,FALSE)&\"  \"&VLOOKUP(EN51,部員データ,4,FALSE),\"\")","v":""},null,null,null,null,null,null,null,null,null,null,null,null,null,null,null,null,null,{"$f":"IF(AN51<>\"\",VLOOKUP(EN51,部員データ,2,FALSE),\"\")","v":""},null,null,null,null,null,null,"男子",null,null,null,null,null,null,null,null,null,{"$f":"'入力シート(中播総体)'!Z2","v":0},null,null,null,null,null,null,null,null,null,null,{"$f":"'入力シート(中播総体)'!AA2","v":0},null,null,null,null,null,null,null,null,null,null,{"$f":"'入力シート(中播総体)'!AB2","v":0},null,null,null,null,null,null,null,null,null,null,{"$f":"SUM(CC51:DI52)","v":0},null,null,null,null,null,null,null,null,null,null,{"$f":"SUM(DJ51:DT54)","v":0},null,null,null,null,null,null,null,null,null,null,null,null,null,null,null,null,null,{"$f":"\"男\"&DBCS(TEXT(L51,\"00\"))","v":"男"},{"$f":"\"男\"&DBCS(TEXT(AN51,\"00\"))","v":"男"},null,null,{"$f":"COUNTIF($EQ$9:$ER$49,\">0\")","v":0},{"$f":"COUNTIF($EQ$9:$ER$49,\"2\")","v":0},{"$f":"COUNTIF($ES$9:$ET$47,\">0\")","v":0},{"$f":"COUNTIF($ES$9:$ET$47,\"2\")","v":0}]
[null,null,null,null,null,null,null,null,null,null,null,null,null,null,null,null,null,null,null,null,null,null,null,null,null,null,null,null,null,null,null,null,null,null,null,null,null,null,null,null,null,null,null,null,null,null,null,null,null,null,null,null,null,null,null,null,null,null,null,null,null,null,null,null,null,null,null,null,null,null,null,null,null,null,null,null,null,null,null,null,null,null,null,null,null,null,null,null,null,null,null,null,null,null,null,null,null,null,null,null,null,null,null,null,null,null,null,null,null,null,null,null,null,null,null,null,null,null,null,null,null,null,null,null,null,null,null,null,null,null,null,null,null,null,null,null,null,null,null,null,null,null,null,null,null,null,null,{"$f":"COUNTIF($EQ$9:$ER$49,\"3\")","v":0},null,{"$f":"COUNTIF($ES$9:$ET$47,\"3\")","v":0}]
[null,null,null,null,null,null,null,null,null,null,null,{"$f":"IF('入力シート(中播総体)'!$H32=\"\",\"\",'入力シート(中播総体)'!$H32)","v":""},null,null,null,null,null,{"$f":"IF(L53<>\"\",VLOOKUP(EM53,部員データ,3,FALSE)&\"  \"&VLOOKUP(EM53,部員データ,4,FALSE),\"\")","v":""},null,null,null,null,null,null,null,null,null,null,null,null,null,null,null,null,null,{"$f":"IF(L53<>\"\",VLOOKUP(EM53,部員データ,2,FALSE),\"\")","v":""},null,null,null,{"$f":"IF('入力シート(中播総体)'!$H33=\"\",\"\",'入力シート(中播総体)'!$H33)","v":""},null,null,null,null,null,{"$f":"IF(AN53<>\"\",VLOOKUP(EN53,部員データ,3,FALSE)&\"  \"&VLOOKUP(EN53,部員データ,4,FALSE),\"\")","v":""},null,null,null,null,null,null,null,null,null,null,null,null,null,null,null,null,null,{"$f":"IF(AN53<>\"\",VLOOKUP(EN53,部員データ,2,FALSE),\"\")","v":""},null,null,null,null,null,null,"女子",null,null,null,null,null,null,null,null,null,{"$f":"'入力シート(中播総体)'!Z3","v":0},null,null,null,null,null,null,null,null,null,null,{"$f":"'入力シート(中播総体)'!AA3","v":0},null,null,null,null,null,null,null,null,null,null,{"$f":"'入力シート(中播総体)'!AB3","v":0},null,null,null,null,null,null,null,null,null,null,{"$f":"SUM(CC53:DI54)","v":0},null,null,null,null,null,null,null,null,null,null,null,null,null,null,null,null,null,null,null,null,null,null,null,null,null,null,null,null,{"$f":"\"男\"&DBCS(TEXT(L53,\"00\"))","v":"男"},{"$f":"\"男\"&DBCS(TEXT(AN53,\"00\"))","v":"男"},null,null,null,{"$f":"COUNTIF($EQ$9:$ER$49,\"4\")","v":0},null,{"$f":"COUNTIF($ES$9:$ET$47,\"4\")","v":0}]
[null,{"$f":"IF(L49=\"\",\"\",IF('入力シート(中播総体)'!$K28=\"\",\"\",format_kiroku('入力シート(中播総体)'!$K28,$B49)))","v":""},null,null,null,null,null,null,null,null,null,null,null,null,null,null,null,null,null,null,null,null,null,null,null,null,null,null,null,null,null,null,null,null,null,null,null,null,null,null,null,null,null,null,null,null,null,null,null,null,null,null,null,null,null,null,null,null,null,null,null,null,null,null,null,null,null,null,null,null,null,null,null,null,null,null,null,null,null,null,null,null,null,null,null,null,null,null,null,null,null,null,null,null,null,null,null,null,null,null,null,null,null,null,null,null,null,null,null,null,null,null,null,null,null,null,null,null,null,null,null,null,null,null,null,null,null,null,null,null,null,null,null,null,null,null,null,null,null,null,null,null,null,null,null,null,{"$f":"EQ51-ER51/2","v":0},null,{"$f":"ES51-ET51/2-ET52/3-ET53/4","v":0}]
[]
[]
[null,null,null,null,"上記の生徒を本校代表として、参加を認めます。また、本競技大会の参加申し込みに際し、大会要項記載内容を確認し、個人情報の取り扱いについて同意を得ています。"]
[]
[null,null,null,null,"令和",null,null,null,null,null,{"$f":"TEXT(TODAY(),\"e\")","v":"1"},null,null,null,null,null,"年",null,null,null,{"$f":"TEXT(TODAY(),\"m\")","v":"6"},null,null,null,null,null,null,null,"月",null,null,null,{"$f":"TEXT(TODAY(),\"d\")","v":"2"},null,null,null,null,null,null,null,null,null,"日",null,null,null,null,null,{"$f":"学校名","v":0},null,null,null,null,null,null,null,null,null,null,null,null,null,null,null,null,null,null,null,null,"中学校",null,null,null,null,null,null,null,null,null,null,null,"学校長",null,null,null,null,null,null,null,null,null,null,null,null,{"$f":"学校長","v":"　"},null,null,null,null,null,null,null,null,null,null,null,null,null,null,null,null,null,null,null,null,null,null,null,null,null,null,null,null,null,null,null,null,null,"印"]
[]
[null,null,"審判員",null,null,null,null,null,null,null,null,"（",null,{"$f":"IF(基礎データ!$N21=TRUE,基礎データ!$N17,\"\")","v":""},null,null,null,null,null,null,null,null,null,null,null,null,null,null,null,null,null,null,null,null,null,null,null,null,"）",null,null,null,"（",null,{"$f":"IF(基礎データ!$N22=TRUE,基礎データ!$N18,\"\")","v":""},null,null,null,null,null,null,null,null,null,null,null,null,null,null,null,null,null,null,null,null,null,null,null,null,"）",null,null,null,"（",null,{"$f":"IF(基礎データ!$N23=TRUE,基礎データ!$N19,\"\")","v":""},null,null,null,null,null,null,null,null,null,null,null,null,null,null,null,null,null,null,null,null,null,null,null,null,"）",null,null,null,"（",null,{"$f":"IF(基礎データ!$N24=TRUE,基礎データ!$N20,\"\")","v":""},null,null,null,null,null,null,null,null,null,null,null,null,null,null,null,null,null,null,null,null,null,null,null,null,"）"]
[]
[null,null,null,"注　審判員が不足していますので、顧問全員の方に審判を依頼します。審判員の箇所には顧問全員の氏名を記入してください。"]

{"sheet":"送信データ(中播総体)","index":9,"n_rows":134,"n_cols":71,"rows_kept":134,"cut":false,"hidden":true,"merged":[]}
["大会コード","性別","学年","競技種目コード","学校コード","性別1","選手コード","組","レーン","エントリ記録","当日記録","順位","条件項目","計測区分","未記録区分","大会順位"]
[{"$f":"IF('入力シート(中播総体)'!$H2=\"\",\"\",大会コード)","v":""},{"$f":"IF('入力シート(中播総体)'!$H2=\"\",\"\",IF('入力シート(中播総体)'!$B2=\"男\",0,1))","v":""},{"$f":"IF('入力シート(中播総体)'!$H2=\"\",\"\",'入力シート(中播総体)'!C2)","v":""},{"$f":"IF('入力シート(中播総体)'!$H2=\"\",\"\",TEXT('入力シート(中播総体)'!$E2,\"000\"))","v":""},{"$f":"IF('入力シート(中播総体)'!$H2=\"\",\"\",学校番号)","v":""},{"$f":"IF('入力シート(中播総体)'!$H2=\"\",\"\",B2)","v":""},{"$f":"IF('入力シート(中播総体)'!$H2=\"\",\"\",TEXT('入力シート(中播総体)'!$H2,\"00\"))","v":""},null,null,{"$f":"IF('入力シート(中播総体)'!$H2=\"\",\"\",IF('入力シート(中播総体)'!K2=\"\",\"\",'入力シート(中播総体)'!K2))","v":""},null,null,null,{"$f":"IF('入力シート(中播総体)'!$H2=\"\",\"\",IF('入力シート(中播総体)'!L2=\"\",\"\",IF('入力シート(中播総体)'!L2=\"電気\",0,1)))","v":""}]
[{"$f":"IF('入力シート(中播総体)'!$H3=\"\",\"\",大会コード)","v":""},{"$f":"IF('入力シート(中播総体)'!$H3=\"\",\"\",IF('入力シート(中播総体)'!$B3=\"男\",0,1))","v":""},{"$f":"IF('入力シート(中播総体)'!$H3=\"\",\"\",'入力シート(中播総体)'!C3)","v":""},{"$f":"IF('入力シート(中播総体)'!$H3=\"\",\"\",TEXT('入力シート(中播総体)'!$E3,\"000\"))","v":""},{"$f":"IF('入力シート(中播総体)'!$H3=\"\",\"\",学校番号)","v":""},{"$f":"IF('入力シート(中播総体)'!$H3=\"\",\"\",B3)","v":""},{"$f":"IF('入力シート(中播総体)'!$H3=\"\",\"\",TEXT('入力シート(中播総体)'!$H3,\"00\"))","v":""},null,null,{"$f":"IF('入力シート(中播総体)'!$H3=\"\",\"\",IF('入力シート(中播総体)'!K3=\"\",\"\",'入力シート(中播総体)'!K3))","v":""},null,null,null,{"$f":"IF('入力シート(中播総体)'!$H3=\"\",\"\",IF('入力シート(中播総体)'!L3=\"\",\"\",IF('入力シート(中播総体)'!L3=\"電気\",0,1)))","v":""}]
[{"$f":"IF('入力シート(中播総体)'!$H4=\"\",\"\",大会コード)","v":""},{"$f":"IF('入力シート(中播総体)'!$H4=\"\",\"\",IF('入力シート(中播総体)'!$B4=\"男\",0,1))","v":""},{"$f":"IF('入力シート(中播総体)'!$H4=\"\",\"\",'入力シート(中播総体)'!C4)","v":""},{"$f":"IF('入力シート(中播総体)'!$H4=\"\",\"\",TEXT('入力シート(中播総体)'!$E4,\"000\"))","v":""},{"$f":"IF('入力シート(中播総体)'!$H4=\"\",\"\",学校番号)","v":""},{"$f":"IF('入力シート(中播総体)'!$H4=\"\",\"\",B4)","v":""},{"$f":"IF('入力シート(中播総体)'!$H4=\"\",\"\",TEXT('入力シート(中播総体)'!$H4,\"00\"))","v":""},null,null,{"$f":"IF('入力シート(中播総体)'!$H4=\"\",\"\",IF('入力シート(中播総体)'!K4=\"\",\"\",'入力シート(中播総体)'!K4))","v":""},null,null,null,{"$f":"IF('入力シート(中播総体)'!$H4=\"\",\"\",IF('入力シート(中播総体)'!L4=\"\",\"\",IF('入力シート(中播総体)'!L4=\"電気\",0,1)))","v":""}]
[{"$f":"IF('入力シート(中播総体)'!$H5=\"\",\"\",大会コード)","v":""},{"$f":"IF('入力シート(中播総体)'!$H5=\"\",\"\",IF('入力シート(中播総体)'!$B5=\"男\",0,1))","v":""},{"$f":"IF('入力シート(中播総体)'!$H5=\"\",\"\",'入力シート(中播総体)'!C5)","v":""},{"$f":"IF('入力シート(中播総体)'!$H5=\"\",\"\",TEXT('入力シート(中播総体)'!$E5,\"000\"))","v":""},{"$f":"IF('入力シート(中播総体)'!$H5=\"\",\"\",学校番号)","v":""},{"$f":"IF('入力シート(中播総体)'!$H5=\"\",\"\",B5)","v":""},{"$f":"IF('入力シート(中播総体)'!$H5=\"\",\"\",TEXT('入力シート(中播総体)'!$H5,\"00\"))","v":""},null,null,{"$f":"IF('入力シート(中播総体)'!$H5=\"\",\"\",IF('入力シート(中播総体)'!K5=\"\",\"\",'入力シート(中播総体)'!K5))","v":""},null,null,null,{"$f":"IF('入力シート(中播総体)'!$H5=\"\",\"\",IF('入力シート(中播総体)'!L5=\"\",\"\",IF('入力シート(中播総体)'!L5=\"電気\",0,1)))","v":""}]
[{"$f":"IF('入力シート(中播総体)'!$H6=\"\",\"\",大会コード)","v":""},{"$f":"IF('入力シート(中播総体)'!$H6=\"\",\"\",IF('入力シート(中播総体)'!$B6=\"男\",0,1))","v":""},{"$f":"IF('入力シート(中播総体)'!$H6=\"\",\"\",'入力シート(中播総体)'!C6)","v":""},{"$f":"IF('入力シート(中播総体)'!$H6=\"\",\"\",TEXT('入力シート(中播総体)'!$E6,\"000\"))","v":""},{"$f":"IF('入力シート(中播総体)'!$H6=\"\",\"\",学校番号)","v":""},{"$f":"IF('入力シート(中播総体)'!$H6=\"\",\"\",B6)","v":""},{"$f":"IF('入力シート(中播総体)'!$H6=\"\",\"\",TEXT('入力シート(中播総体)'!$H6,\"00\"))","v":""},null,null,{"$f":"IF('入力シート(中播総体)'!$H6=\"\",\"\",IF('入力シート(中播総体)'!K6=\"\",\"\",'入力シート(中播総体)'!K6))","v":""},null,null,null,{"$f":"IF('入力シート(中播総体)'!$H6=\"\",\"\",IF('入力シート(中播総体)'!L6=\"\",\"\",IF('入力シート(中播総体)'!L6=\"電気\",0,1)))","v":""}]
[{"$f":"IF('入力シート(中播総体)'!$H7=\"\",\"\",大会コード)","v":""},{"$f":"IF('入力シート(中播総体)'!$H7=\"\",\"\",IF('入力シート(中播総体)'!$B7=\"男\",0,1))","v":""},{"$f":"IF('入力シート(中播総体)'!$H7=\"\",\"\",'入力シート(中播総体)'!C7)","v":""},{"$f":"IF('入力シート(中播総体)'!$H7=\"\",\"\",TEXT('入力シート(中播総体)'!$E7,\"000\"))","v":""},{"$f":"IF('入力シート(中播総体)'!$H7=\"\",\"\",学校番号)","v":""},{"$f":"IF('入力シート(中播総体)'!$H7=\"\",\"\",B7)","v":""},{"$f":"IF('入力シート(中播総体)'!$H7=\"\",\"\",TEXT('入力シート(中播総体)'!$H7,\"00\"))","v":""},null,null,{"$f":"IF('入力シート(中播総体)'!$H7=\"\",\"\",IF('入力シート(中播総体)'!K7=\"\",\"\",'入力シート(中播総体)'!K7))","v":""},null,null,null,{"$f":"IF('入力シート(中播総体)'!$H7=\"\",\"\",IF('入力シート(中播総体)'!L7=\"\",\"\",IF('入力シート(中播総体)'!L7=\"電気\",0,1)))","v":""}]
[{"$f":"IF('入力シート(中播総体)'!$H8=\"\",\"\",大会コード)","v":""},{"$f":"IF('入力シート(中播総体)'!$H8=\"\",\"\",IF('入力シート(中播総体)'!$B8=\"男\",0,1))","v":""},{"$f":"IF('入力シート(中播総体)'!$H8=\"\",\"\",'入力シート(中播総体)'!C8)","v":""},{"$f":"IF('入力シート(中播総体)'!$H8=\"\",\"\",TEXT('入力シート(中播総体)'!$E8,\"000\"))","v":""},{"$f":"IF('入力シート(中播総体)'!$H8=\"\",\"\",学校番号)","v":""},{"$f":"IF('入力シート(中播総体)'!$H8=\"\",\"\",B8)","v":""},{"$f":"IF('入力シート(中播総体)'!$H8=\"\",\"\",TEXT('入力シート(中播総体)'!$H8,\"00\"))","v":""},null,null,{"$f":"IF('入力シート(中播総体)'!$H8=\"\",\"\",IF('入力シート(中播総体)'!K8=\"\",\"\",'入力シート(中播総体)'!K8))","v":""},null,null,null,{"$f":"IF('入力シート(中播総体)'!$H8=\"\",\"\",IF('入力シート(中播総体)'!L8=\"\",\"\",IF('入力シート(中播総体)'!L8=\"電気\",0,1)))","v":""}]
[{"$f":"IF('入力シート(中播総体)'!$H9=\"\",\"\",大会コード)","v":""},{"$f":"IF('入力シート(中播総体)'!$H9=\"\",\"\",IF('入力シート(中播総体)'!$B9=\"男\",0,1))","v":""},{"$f":"IF('入力シート(中播総体)'!$H9=\"\",\"\",'入力シート(中播総体)'!C9)","v":""},{"$f":"IF('入力シート(中播総体)'!$H9=\"\",\"\",TEXT('入力シート(中播総体)'!$E9,\"000\"))","v":""},{"$f":"IF('入力シート(中播総体)'!$H9=\"\",\"\",学校番号)","v":""},{"$f":"IF('入力シート(中播総体)'!$H9=\"\",\"\",B9)","v":""},{"$f":"IF('入力シート(中播総体)'!$H9=\"\",\"\",TEXT('入力シート(中播総体)'!$H9,\"00\"))","v":""},null,null,{"$f":"IF('入力シート(中播総体)'!$H9=\"\",\"\",IF('入力シート(中播総体)'!K9=\"\",\"\",'入力シート(中播総体)'!K9))","v":""},null,null,null,{"$f":"IF('入力シート(中播総体)'!$H9=\"\",\"\",IF('入力シート(中播総体)'!L9=\"\",\"\",IF('入力シート(中播総体)'!L9=\"電気\",0,1)))","v":""}]
[{"$f":"IF('入力シート(中播総体)'!$H16=\"\",\"\",大会コード)","v":""},{"$f":"IF('入力シート(中播総体)'!$H16=\"\",\"\",IF('入力シート(中播総体)'!$B16=\"男\",0,1))","v":""},{"$f":"IF('入力シート(中播総体)'!$H16=\"\",\"\",'入力シート(中播総体)'!C16)","v":""},{"$f":"IF('入力シート(中播総体)'!$H16=\"\",\"\",TEXT('入力シート(中播総体)'!$E16,\"000\"))","v":""},{"$f":"IF('入力シート(中播総体)'!$H16=\"\",\"\",学校番号)","v":""},{"$f":"IF('入力シート(中播総体)'!$H16=\"\",\"\",B10)","v":""},{"$f":"IF('入力シート(中播総体)'!$H16=\"\",\"\",TEXT('入力シート(中播総体)'!$H16,\"00\"))","v":""},null,null,{"$f":"IF('入力シート(中播総体)'!$H16=\"\",\"\",IF('入力シート(中播総体)'!K16=\"\",\"\",'入力シート(中播総体)'!K16))","v":""},null,null,null,{"$f":"IF('入力シート(中播総体)'!$H16=\"\",\"\",IF('入力シート(中播総体)'!L16=\"\",\"\",IF('入力シート(中播総体)'!L16=\"電気\",0,1)))","v":""}]
[{"$f":"IF('入力シート(中播総体)'!$H17=\"\",\"\",大会コード)","v":""},{"$f":"IF('入力シート(中播総体)'!$H17=\"\",\"\",IF('入力シート(中播総体)'!$B17=\"男\",0,1))","v":""},{"$f":"IF('入力シート(中播総体)'!$H17=\"\",\"\",'入力シート(中播総体)'!C17)","v":""},{"$f":"IF('入力シート(中播総体)'!$H17=\"\",\"\",TEXT('入力シート(中播総体)'!$E17,\"000\"))","v":""},{"$f":"IF('入力シート(中播総体)'!$H17=\"\",\"\",学校番号)","v":""},{"$f":"IF('入力シート(中播総体)'!$H17=\"\",\"\",B11)","v":""},{"$f":"IF('入力シート(中播総体)'!$H17=\"\",\"\",TEXT('入力シート(中播総体)'!$H17,\"00\"))","v":""},null,null,{"$f":"IF('入力シート(中播総体)'!$H17=\"\",\"\",IF('入力シート(中播総体)'!K17=\"\",\"\",'入力シート(中播総体)'!K17))","v":""},null,null,null,{"$f":"IF('入力シート(中播総体)'!$H17=\"\",\"\",IF('入力シート(中播総体)'!L17=\"\",\"\",IF('入力シート(中播総体)'!L17=\"電気\",0,1)))","v":""}]
[{"$f":"IF('入力シート(中播総体)'!$H18=\"\",\"\",大会コード)","v":""},{"$f":"IF('入力シート(中播総体)'!$H18=\"\",\"\",IF('入力シート(中播総体)'!$B18=\"男\",0,1))","v":""},{"$f":"IF('入力シート(中播総体)'!$H18=\"\",\"\",'入力シート(中播総体)'!C18)","v":""},{"$f":"IF('入力シート(中播総体)'!$H18=\"\",\"\",TEXT('入力シート(中播総体)'!$E18,\"000\"))","v":""},{"$f":"IF('入力シート(中播総体)'!$H18=\"\",\"\",学校番号)","v":""},{"$f":"IF('入力シート(中播総体)'!$H18=\"\",\"\",B12)","v":""},{"$f":"IF('入力シート(中播総体)'!$H18=\"\",\"\",TEXT('入力シート(中播総体)'!$H18,\"00\"))","v":""},null,null,{"$f":"IF('入力シート(中播総体)'!$H18=\"\",\"\",IF('入力シート(中播総体)'!K18=\"\",\"\",'入力シート(中播総体)'!K18))","v":""},null,null,null,{"$f":"IF('入力シート(中播総体)'!$H18=\"\",\"\",IF('入力シート(中播総体)'!L18=\"\",\"\",IF('入力シート(中播総体)'!L18=\"電気\",0,1)))","v":""}]
[{"$f":"IF('入力シート(中播総体)'!$H19=\"\",\"\",大会コード)","v":""},{"$f":"IF('入力シート(中播総体)'!$H19=\"\",\"\",IF('入力シート(中播総体)'!$B19=\"男\",0,1))","v":""},{"$f":"IF('入力シート(中播総体)'!$H19=\"\",\"\",'入力シート(中播総体)'!C19)","v":""},{"$f":"IF('入力シート(中播総体)'!$H19=\"\",\"\",TEXT('入力シート(中播総体)'!$E19,\"000\"))","v":""},{"$f":"IF('入力シート(中播総体)'!$H19=\"\",\"\",学校番号)","v":""},{"$f":"IF('入力シート(中播総体)'!$H19=\"\",\"\",B13)","v":""},{"$f":"IF('入力シート(中播総体)'!$H19=\"\",\"\",TEXT('入力シート(中播総体)'!$H19,\"00\"))","v":""},null,null,{"$f":"IF('入力シート(中播総体)'!$H19=\"\",\"\",IF('入力シート(中播総体)'!K19=\"\",\"\",'入力シート(中播総体)'!K19))","v":""},null,null,null,{"$f":"IF('入力シート(中播総体)'!$H19=\"\",\"\",IF('入力シート(中播総体)'!L19=\"\",\"\",IF('入力シート(中播総体)'!L19=\"電気\",0,1)))","v":""}]
[{"$f":"IF('入力シート(中播総体)'!$H20=\"\",\"\",大会コード)","v":""},{"$f":"IF('入力シート(中播総体)'!$H20=\"\",\"\",IF('入力シート(中播総体)'!$B20=\"男\",0,1))","v":""},{"$f":"IF('入力シート(中播総体)'!$H20=\"\",\"\",'入力シート(中播総体)'!C20)","v":""},{"$f":"IF('入力シート(中播総体)'!$H20=\"\",\"\",TEXT('入力シート(中播総体)'!$E20,\"000\"))","v":""},{"$f":"IF('入力シート(中播総体)'!$H20=\"\",\"\",学校番号)","v":""},{"$f":"IF('入力シート(中播総体)'!$H20=\"\",\"\",B14)","v":""},{"$f":"IF('入力シート(中播総体)'!$H20=\"\",\"\",TEXT('入力シート(中播総体)'!$H20,\"00\"))","v":""},null,null,{"$f":"IF('入力シート(中播総体)'!$H20=\"\",\"\",IF('入力シート(中播総体)'!K20=\"\",\"\",'入力シート(中播総体)'!K20))","v":""},null,null,null,{"$f":"IF('入力シート(中播総体)'!$H20=\"\",\"\",IF('入力シート(中播総体)'!L20=\"\",\"\",IF('入力シート(中播総体)'!L20=\"電気\",0,1)))","v":""}]
[{"$f":"IF('入力シート(中播総体)'!$H21=\"\",\"\",大会コード)","v":""},{"$f":"IF('入力シート(中播総体)'!$H21=\"\",\"\",IF('入力シート(中播総体)'!$B21=\"男\",0,1))","v":""},{"$f":"IF('入力シート(中播総体)'!$H21=\"\",\"\",'入力シート(中播総体)'!C21)","v":""},{"$f":"IF('入力シート(中播総体)'!$H21=\"\",\"\",TEXT('入力シート(中播総体)'!$E21,\"000\"))","v":""},{"$f":"IF('入力シート(中播総体)'!$H21=\"\",\"\",学校番号)","v":""},{"$f":"IF('入力シート(中播総体)'!$H21=\"\",\"\",B15)","v":""},{"$f":"IF('入力シート(中播総体)'!$H21=\"\",\"\",TEXT('入力シート(中播総体)'!$H21,\"00\"))","v":""},null,null,{"$f":"IF('入力シート(中播総体)'!$H21=\"\",\"\",IF('入力シート(中播総体)'!K21=\"\",\"\",'入力シート(中播総体)'!K21))","v":""},null,null,null,{"$f":"IF('入力シート(中播総体)'!$H21=\"\",\"\",IF('入力シート(中播総体)'!L21=\"\",\"\",IF('入力シート(中播総体)'!L21=\"電気\",0,1)))","v":""}]
[{"$f":"IF('入力シート(中播総体)'!$H22=\"\",\"\",大会コード)","v":""},{"$f":"IF('入力シート(中播総体)'!$H22=\"\",\"\",IF('入力シート(中播総体)'!$B22=\"男\",0,1))","v":""},{"$f":"IF('入力シート(中播総体)'!$H22=\"\",\"\",'入力シート(中播総体)'!C22)","v":""},{"$f":"IF('入力シート(中播総体)'!$H22=\"\",\"\",TEXT('入力シート(中播総体)'!$E22,\"000\"))","v":""},{"$f":"IF('入力シート(中播総体)'!$H22=\"\",\"\",学校番号)","v":""},{"$f":"IF('入力シート(中播総体)'!$H22=\"\",\"\",B16)","v":""},{"$f":"IF('入力シート(中播総体)'!$H22=\"\",\"\",TEXT('入力シート(中播総体)'!$H22,\"00\"))","v":""},null,null,{"$f":"IF('入力シート(中播総体)'!$H22=\"\",\"\",IF('入力シート(中播総体)'!K22=\"\",\"\",'入力シート(中播総体)'!K22))","v":""},null,null,null,{"$f":"IF('入力シート(中播総体)'!$H22=\"\",\"\",IF('入力シート(中播総体)'!L22=\"\",\"\",IF('入力シート(中播総体)'!L22=\"電気\",0,1)))","v":""}]
[{"$f":"IF('入力シート(中播総体)'!$H23=\"\",\"\",大会コード)","v":""},{"$f":"IF('入力シート(中播総体)'!$H23=\"\",\"\",IF('入力シート(中播総体)'!$B23=\"男\",0,1))","v":""},{"$f":"IF('入力シート(中播総体)'!$H23=\"\",\"\",'入力シート(中播総体)'!C23)","v":""},{"$f":"IF('入力シート(中播総体)'!$H23=\"\",\"\",TEXT('入力シート(中播総体)'!$E23,\"000\"))","v":""},{"$f":"IF('入力シート(中播総体)'!$H23=\"\",\"\",学校番号)","v":""},{"$f":"IF('入力シート(中播総体)'!$H23=\"\",\"\",B17)","v":""},{"$f":"IF('入力シート(中播総体)'!$H23=\"\",\"\",TEXT('入力シート(中播総体)'!$H23,\"00\"))","v":""},null,null,{"$f":"IF('入力シート(中播総体)'!$H23=\"\",\"\",IF('入力シート(中播総体)'!K23=\"\",\"\",'入力シート(中播総体)'!K23))","v":""},null,null,null,{"$f":"IF('入力シート(中播総体)'!$H23=\"\",\"\",IF('入力シート(中播総体)'!L23=\"\",\"\",IF('入力シート(中播総体)'!L23=\"電気\",0,1)))","v":""}]
[{"$f":"IF('入力シート(中播総体)'!$H24=\"\",\"\",大会コード)","v":""},{"$f":"IF('入力シート(中播総体)'!$H24=\"\",\"\",IF('入力シート(中播総体)'!$B24=\"男\",0,1))","v":""},{"$f":"IF('入力シート(中播総体)'!$H24=\"\",\"\",'入力シート(中播総体)'!C24)","v":""},{"$f":"IF('入力シート(中播総体)'!$H24=\"\",\"\",TEXT('入力シート(中播総体)'!$E24,\"000\"))","v":""},{"$f":"IF('入力シート(中播総体)'!$H24=\"\",\"\",学校番号)","v":""},{"$f":"IF('入力シート(中播総体)'!$H24=\"\",\"\",B18)","v":""},{"$f":"IF('入力シート(中播総体)'!$H24=\"\",\"\",TEXT('入力シート(中播総体)'!$H24,\"00\"))","v":""},null,null,{"$f":"IF('入力シート(中播総体)'!$H24=\"\",\"\",IF('入力シート(中播総体)'!K24=\"\",\"\",'入力シート(中播総体)'!K24))","v":""},null,null,null,{"$f":"IF('入力シート(中播総体)'!$H24=\"\",\"\",IF('入力シート(中播総体)'!L24=\"\",\"\",IF('入力シート(中播総体)'!L24=\"電気\",0,1)))","v":""}]
[{"$f":"IF('入力シート(中播総体)'!$H25=\"\",\"\",大会コード)","v":""},{"$f":"IF('入力シート(中播総体)'!$H25=\"\",\"\",IF('入力シート(中播総体)'!$B25=\"男\",0,1))","v":""},{"$f":"IF('入力シート(中播総体)'!$H25=\"\",\"\",'入力シート(中播総体)'!C25)","v":""},{"$f":"IF('入力シート(中播総体)'!$H25=\"\",\"\",TEXT('入力シート(中播総体)'!$E25,\"000\"))","v":""},{"$f":"IF('入力シート(中播総体)'!$H25=\"\",\"\",学校番号)","v":""},{"$f":"IF('入力シート(中播総体)'!$H25=\"\",\"\",B19)","v":""},{"$f":"IF('入力シート(中播総体)'!$H25=\"\",\"\",TEXT('入力シート(中播総体)'!$H25,\"00\"))","v":""},null,null,{"$f":"IF('入力シート(中播総体)'!$H25=\"\",\"\",IF('入力シート(中播総体)'!K25=\"\",\"\",'入力シート(中播総体)'!K25))","v":""},null,null,null,{"$f":"IF('入力シート(中播総体)'!$H25=\"\",\"\",IF('入力シート(中播総体)'!L25=\"\",\"\",IF('入力シート(中播総体)'!L25=\"電気\",0,1)))","v":""}]
[{"$f":"IF('入力シート(中播総体)'!$H26=\"\",\"\",大会コード)","v":""},{"$f":"IF('入力シート(中播総体)'!$H26=\"\",\"\",IF('入力シート(中播総体)'!$B26=\"男\",0,1))","v":""},{"$f":"IF('入力シート(中播総体)'!$H26=\"\",\"\",'入力シート(中播総体)'!C26)","v":""},{"$f":"IF('入力シート(中播総体)'!$H26=\"\",\"\",TEXT('入力シート(中播総体)'!$E26,\"000\"))","v":""},{"$f":"IF('入力シート(中播総体)'!$H26=\"\",\"\",学校番号)","v":""},{"$f":"IF('入力シート(中播総体)'!$H26=\"\",\"\",B20)","v":""},{"$f":"IF('入力シート(中播総体)'!$H26=\"\",\"\",TEXT('入力シート(中播総体)'!$H26,\"00\"))","v":""},null,null,{"$f":"IF('入力シート(中播総体)'!$H26=\"\",\"\",IF('入力シート(中播総体)'!K26=\"\",\"\",'入力シート(中播総体)'!K26))","v":""},null,null,null,{"$f":"IF('入力シート(中播総体)'!$H26=\"\",\"\",IF('入力シート(中播総体)'!L26=\"\",\"\",IF('入力シート(中播総体)'!L26=\"電気\",0,1)))","v":""}]
[{"$f":"IF('入力シート(中播総体)'!$H27=\"\",\"\",大会コード)","v":""},{"$f":"IF('入力シート(中播総体)'!$H27=\"\",\"\",IF('入力シート(中播総体)'!$B27=\"男\",0,1))","v":""},{"$f":"IF('入力シート(中播総体)'!$H27=\"\",\"\",'入力シート(中播総体)'!C27)","v":""},{"$f":"IF('入力シート(中播総体)'!$H27=\"\",\"\",TEXT('入力シート(中播総体)'!$E27,\"000\"))","v":""},{"$f":"IF('入力シート(中播総体)'!$H27=\"\",\"\",学校番号)","v":""},{"$f":"IF('入力シート(中播総体)'!$H27=\"\",\"\",B21)","v":""},{"$f":"IF('入力シート(中播総体)'!$H27=\"\",\"\",TEXT('入力シート(中播総体)'!$H27,\"00\"))","v":""},null,null,{"$f":"IF('入力シート(中播総体)'!$H27=\"\",\"\",IF('入力シート(中播総体)'!K27=\"\",\"\",'入力シート(中播総体)'!K27))","v":""},null,null,null,{"$f":"IF('入力シート(中播総体)'!$H27=\"\",\"\",IF('入力シート(中播総体)'!L27=\"\",\"\",IF('入力シート(中播総体)'!L27=\"電気\",0,1)))","v":""}]
[{"$f":"IF('入力シート(中播総体)'!$H34=\"\",\"\",大会コード)","v":""},{"$f":"IF('入力シート(中播総体)'!$H34=\"\",\"\",IF('入力シート(中播総体)'!$B34=\"男\",0,1))","v":""},{"$f":"IF('入力シート(中播総体)'!$H34=\"\",\"\",'入力シート(中播総体)'!C34)","v":""},{"$f":"IF('入力シート(中播総体)'!$H34=\"\",\"\",TEXT('入力シート(中播総体)'!$E34,\"000\"))","v":""},{"$f":"IF('入力シート(中播総体)'!$H34=\"\",\"\",学校番号)","v":""},{"$f":"IF('入力シート(中播総体)'!$H34=\"\",\"\",B22)","v":""},{"$f":"IF('入力シート(中播総体)'!$H34=\"\",\"\",TEXT('入力シート(中播総体)'!$H34,\"00\"))","v":""},null,null,{"$f":"IF('入力シート(中播総体)'!$H34=\"\",\"\",IF('入力シート(中播総体)'!K34=\"\",\"\",'入力シート(中播総体)'!K34))","v":""},null,null,null,{"$f":"IF('入力シート(中播総体)'!$H34=\"\",\"\",IF('入力シート(中播総体)'!L34=\"\",\"\",IF('入力シート(中播総体)'!L34=\"電気\",0,1)))","v":""}]
[{"$f":"IF('入力シート(中播総体)'!$H35=\"\",\"\",大会コード)","v":""},{"$f":"IF('入力シート(中播総体)'!$H35=\"\",\"\",IF('入力シート(中播総体)'!$B35=\"男\",0,1))","v":""},{"$f":"IF('入力シート(中播総体)'!$H35=\"\",\"\",'入力シート(中播総体)'!C35)","v":""},{"$f":"IF('入力シート(中播総体)'!$H35=\"\",\"\",TEXT('入力シート(中播総体)'!$E35,\"000\"))","v":""},{"$f":"IF('入力シート(中播総体)'!$H35=\"\",\"\",学校番号)","v":""},{"$f":"IF('入力シート(中播総体)'!$H35=\"\",\"\",B23)","v":""},{"$f":"IF('入力シート(中播総体)'!$H35=\"\",\"\",TEXT('入力シート(中播総体)'!$H35,\"00\"))","v":""},null,null,{"$f":"IF('入力シート(中播総体)'!$H35=\"\",\"\",IF('入力シート(中播総体)'!K35=\"\",\"\",'入力シート(中播総体)'!K35))","v":""},null,null,null,{"$f":"IF('入力シート(中播総体)'!$H35=\"\",\"\",IF('入力シート(中播総体)'!L35=\"\",\"\",IF('入力シート(中播総体)'!L35=\"電気\",0,1)))","v":""}]
[{"$f":"IF('入力シート(中播総体)'!$H36=\"\",\"\",大会コード)","v":""},{"$f":"IF('入力シート(中播総体)'!$H36=\"\",\"\",IF('入力シート(中播総体)'!$B36=\"男\",0,1))","v":""},{"$f":"IF('入力シート(中播総体)'!$H36=\"\",\"\",'入力シート(中播総体)'!C36)","v":""},{"$f":"IF('入力シート(中播総体)'!$H36=\"\",\"\",TEXT('入力シート(中播総体)'!$E36,\"000\"))","v":""},{"$f":"IF('入力シート(中播総体)'!$H36=\"\",\"\",学校番号)","v":""},{"$f":"IF('入力シート(中播総体)'!$H36=\"\",\"\",B24)","v":""},{"$f":"IF('入力シート(中播総体)'!$H36=\"\",\"\",TEXT('入力シート(中播総体)'!$H36,\"00\"))","v":""},null,null,{"$f":"IF('入力シート(中播総体)'!$H36=\"\",\"\",IF('入力シート(中播総体)'!K36=\"\",\"\",'入力シート(中播総体)'!K36))","v":""},null,null,null,{"$f":"IF('入力シート(中播総体)'!$H36=\"\",\"\",IF('入力シート(中播総体)'!L36=\"\",\"\",IF('入力シート(中播総体)'!L36=\"電気\",0,1)))","v":""}]
[{"$f":"IF('入力シート(中播総体)'!$H37=\"\",\"\",大会コード)","v":""},{"$f":"IF('入力シート(中播総体)'!$H37=\"\",\"\",IF('入力シート(中播総体)'!$B37=\"男\",0,1))","v":""},{"$f":"IF('入力シート(中播総体)'!$H37=\"\",\"\",'入力シート(中播総体)'!C37)","v":""},{"$f":"IF('入力シート(中播総体)'!$H37=\"\",\"\",TEXT('入力シート(中播総体)'!$E37,\"000\"))","v":""},{"$f":"IF('入力シート(中播総体)'!$H37=\"\",\"\",学校番号)","v":""},{"$f":"IF('入力シート(中播総体)'!$H37=\"\",\"\",B25)","v":""},{"$f":"IF('入力シート(中播総体)'!$H37=\"\",\"\",TEXT('入力シート(中播総体)'!$H37,\"00\"))","v":""},null,null,{"$f":"IF('入力シート(中播総体)'!$H37=\"\",\"\",IF('入力シート(中播総体)'!K37=\"\",\"\",'入力シート(中播総体)'!K37))","v":""},null,null,null,{"$f":"IF('入力シート(中播総体)'!$H37=\"\",\"\",IF('入力シート(中播総体)'!L37=\"\",\"\",IF('入力シート(中播総体)'!L37=\"電気\",0,1)))","v":""}]
[{"$f":"IF('入力シート(中播総体)'!$H38=\"\",\"\",大会コード)","v":""},{"$f":"IF('入力シート(中播総体)'!$H38=\"\",\"\",IF('入力シート(中播総体)'!$B38=\"男\",0,1))","v":""},{"$f":"IF('入力シート(中播総体)'!$H38=\"\",\"\",'入力シート(中播総体)'!C38)","v":""},{"$f":"IF('入力シート(中播総体)'!$H38=\"\",\"\",TEXT('入力シート(中播総体)'!$E38,\"000\"))","v":""},{"$f":"IF('入力シート(中播総体)'!$H38=\"\",\"\",学校番号)","v":""},{"$f":"IF('入力シート(中播総体)'!$H38=\"\",\"\",B26)","v":""},{"$f":"IF('入力シート(中播総体)'!$H38=\"\",\"\",TEXT('入力シート(中播総体)'!$H38,\"00\"))","v":""},null,null,{"$f":"IF('入力シート(中播総体)'!$H38=\"\",\"\",IF('入力シート(中播総体)'!K38=\"\",\"\",'入力シート(中播総体)'!K38))","v":""},null,null,null,{"$f":"IF('入力シート(中播総体)'!$H38=\"\",\"\",IF('入力シート(中播総体)'!L38=\"\",\"\",IF('入力シート(中播総体)'!L38=\"電気\",0,1)))","v":""}]
[{"$f":"IF('入力シート(中播総体)'!$H39=\"\",\"\",大会コード)","v":""},{"$f":"IF('入力シート(中播総体)'!$H39=\"\",\"\",IF('入力シート(中播総体)'!$B39=\"男\",0,1))","v":""},{"$f":"IF('入力シート(中播総体)'!$H39=\"\",\"\",'入力シート(中播総体)'!C39)","v":""},{"$f":"IF('入力シート(中播総体)'!$H39=\"\",\"\",TEXT('入力シート(中播総体)'!$E39,\"000\"))","v":""},{"$f":"IF('入力シート(中播総体)'!$H39=\"\",\"\",学校番号)","v":""},{"$f":"IF('入力シート(中播総体)'!$H39=\"\",\"\",B27)","v":""},{"$f":"IF('入力シート(中播総体)'!$H39=\"\",\"\",TEXT('入力シート(中播総体)'!$H39,\"00\"))","v":""},null,null,{"$f":"IF('入力シート(中播総体)'!$H39=\"\",\"\",IF('入力シート(中播総体)'!K39=\"\",\"\",'入力シート(中播総体)'!K39))","v":""},null,null,null,{"$f":"IF('入力シート(中播総体)'!$H39=\"\",\"\",IF('入力シート(中播総体)'!L39=\"\",\"\",IF('入力シート(中播総体)'!L39=\"電気\",0,1)))","v":""}]
[{"$f":"IF('入力シート(中播総体)'!$H40=\"\",\"\",大会コード)","v":""},{"$f":"IF('入力シート(中播総体)'!$H40=\"\",\"\",IF('入力シート(中播総体)'!$B40=\"男\",0,1))","v":""},{"$f":"IF('入力シート(中播総体)'!$H40=\"\",\"\",'入力シート(中播総体)'!C40)","v":""},{"$f":"IF('入力シート(中播総体)'!$H40=\"\",\"\",TEXT('入力シート(中播総体)'!$E40,\"000\"))","v":""},{"$f":"IF('入力シート(中播総体)'!$H40=\"\",\"\",学校番号)","v":""},{"$f":"IF('入力シート(中播総体)'!$H40=\"\",\"\",B28)","v":""},{"$f":"IF('入力シート(中播総体)'!$H40=\"\",\"\",TEXT('入力シート(中播総体)'!$H40,\"00\"))","v":""},null,null,{"$f":"IF('入力シート(中播総体)'!$H40=\"\",\"\",IF('入力シート(中播総体)'!K40=\"\",\"\",'入力シート(中播総体)'!K40))","v":""},null,null,null,{"$f":"IF('入力シート(中播総体)'!$H40=\"\",\"\",IF('入力シート(中播総体)'!L40=\"\",\"\",IF('入力シート(中播総体)'!L40=\"電気\",0,1)))","v":""}]
[{"$f":"IF('入力シート(中播総体)'!$H41=\"\",\"\",大会コード)","v":""},{"$f":"IF('入力シート(中播総体)'!$H41=\"\",\"\",IF('入力シート(中播総体)'!$B41=\"男\",0,1))","v":""},{"$f":"IF('入力シート(中播総体)'!$H41=\"\",\"\",'入力シート(中播総体)'!C41)","v":""},{"$f":"IF('入力シート(中播総体)'!$H41=\"\",\"\",TEXT('入力シート(中播総体)'!$E41,\"000\"))","v":""},{"$f":"IF('入力シート(中播総体)'!$H41=\"\",\"\",学校番号)","v":""},{"$f":"IF('入力シート(中播総体)'!$H41=\"\",\"\",B29)","v":""},{"$f":"IF('入力シート(中播総体)'!$H41=\"\",\"\",TEXT('入力シート(中播総体)'!$H41,\"00\"))","v":""},null,null,{"$f":"IF('入力シート(中播総体)'!$H41=\"\",\"\",IF('入力シート(中播総体)'!K41=\"\",\"\",'入力シート(中播総体)'!K41))","v":""},null,null,null,{"$f":"IF('入力シート(中播総体)'!$H41=\"\",\"\",IF('入力シート(中播総体)'!L41=\"\",\"\",IF('入力シート(中播総体)'!L41=\"電気\",0,1)))","v":""}]
[{"$f":"IF('入力シート(中播総体)'!$H42=\"\",\"\",大会コード)","v":""},{"$f":"IF('入力シート(中播総体)'!$H42=\"\",\"\",IF('入力シート(中播総体)'!$B42=\"男\",0,1))","v":""},{"$f":"IF('入力シート(中播総体)'!$H42=\"\",\"\",'入力シート(中播総体)'!C42)","v":""},{"$f":"IF('入力シート(中播総体)'!$H42=\"\",\"\",TEXT('入力シート(中播総体)'!$E42,\"000\"))","v":""},{"$f":"IF('入力シート(中播総体)'!$H42=\"\",\"\",学校番号)","v":""},{"$f":"IF('入力シート(中播総体)'!$H42=\"\",\"\",B30)","v":""},{"$f":"IF('入力シート(中播総体)'!$H42=\"\",\"\",TEXT('入力シート(中播総体)'!$H42,\"00\"))","v":""},null,null,{"$f":"IF('入力シート(中播総体)'!$H42=\"\",\"\",IF('入力シート(中播総体)'!K42=\"\",\"\",'入力シート(中播総体)'!K42))","v":""},null,null,null,{"$f":"IF('入力シート(中播総体)'!$H42=\"\",\"\",IF('入力シート(中播総体)'!L42=\"\",\"\",IF('入力シート(中播総体)'!L42=\"電気\",0,1)))","v":""}]
[{"$f":"IF('入力シート(中播総体)'!$H43=\"\",\"\",大会コード)","v":""},{"$f":"IF('入力シート(中播総体)'!$H43=\"\",\"\",IF('入力シート(中播総体)'!$B43=\"男\",0,1))","v":""},{"$f":"IF('入力シート(中播総体)'!$H43=\"\",\"\",'入力シート(中播総体)'!C43)","v":""},{"$f":"IF('入力シート(中播総体)'!$H43=\"\",\"\",TEXT('入力シート(中播総体)'!$E43,\"000\"))","v":""},{"$f":"IF('入力シート(中播総体)'!$H43=\"\",\"\",学校番号)","v":""},{"$f":"IF('入力シート(中播総体)'!$H43=\"\",\"\",B31)","v":""},{"$f":"IF('入力シート(中播総体)'!$H43=\"\",\"\",TEXT('入力シート(中播総体)'!$H43,\"00\"))","v":""},null,null,{"$f":"IF('入力シート(中播総体)'!$H43=\"\",\"\",IF('入力シート(中播総体)'!K43=\"\",\"\",'入力シート(中播総体)'!K43))","v":""},null,null,null,{"$f":"IF('入力シート(中播総体)'!$H43=\"\",\"\",IF('入力シート(中播総体)'!L43=\"\",\"\",IF('入力シート(中播総体)'!L43=\"電気\",0,1)))","v":""}]
[{"$f":"IF('入力シート(中播総体)'!$H44=\"\",\"\",大会コード)","v":""},{"$f":"IF('入力シート(中播総体)'!$H44=\"\",\"\",IF('入力シート(中播総体)'!$B44=\"男\",0,1))","v":""},{"$f":"IF('入力シート(中播総体)'!$H44=\"\",\"\",'入力シート(中播総体)'!C44)","v":""},{"$f":"IF('入力シート(中播総体)'!$H44=\"\",\"\",TEXT('入力シート(中播総体)'!$E44,\"000\"))","v":""},{"$f":"IF('入力シート(中播総体)'!$H44=\"\",\"\",学校番号)","v":""},{"$f":"IF('入力シート(中播総体)'!$H44=\"\",\"\",B32)","v":""},{"$f":"IF('入力シート(中播総体)'!$H44=\"\",\"\",TEXT('入力シート(中播総体)'!$H44,\"00\"))","v":""},null,null,{"$f":"IF('入力シート(中播総体)'!$H44=\"\",\"\",IF('入力シート(中播総体)'!K44=\"\",\"\",'入力シート(中播総体)'!K44))","v":""},null,null,null,{"$f":"IF('入力シート(中播総体)'!$H44=\"\",\"\",IF('入力シート(中播総体)'!L44=\"\",\"\",IF('入力シート(中播総体)'!L44=\"電気\",0,1)))","v":""}]
[{"$f":"IF('入力シート(中播総体)'!$H45=\"\",\"\",大会コード)","v":""},{"$f":"IF('入力シート(中播総体)'!$H45=\"\",\"\",IF('入力シート(中播総体)'!$B45=\"男\",0,1))","v":""},{"$f":"IF('入力シート(中播総体)'!$H45=\"\",\"\",'入力シート(中播総体)'!C45)","v":""},{"$f":"IF('入力シート(中播総体)'!$H45=\"\",\"\",TEXT('入力シート(中播総体)'!$E45,\"000\"))","v":""},{"$f":"IF('入力シート(中播総体)'!$H45=\"\",\"\",学校番号)","v":""},{"$f":"IF('入力シート(中播総体)'!$H45=\"\",\"\",B33)","v":""},{"$f":"IF('入力シート(中播総体)'!$H45=\"\",\"\",TEXT('入力シート(中播総体)'!$H45,\"00\"))","v":""},null,null,{"$f":"IF('入力シート(中播総体)'!$H45=\"\",\"\",IF('入力シート(中播総体)'!K45=\"\",\"\",'入力シート(中播総体)'!K45))","v":""},null,null,null,{"$f":"IF('入力シート(中播総体)'!$H45=\"\",\"\",IF('入力シート(中播総体)'!L45=\"\",\"\",IF('入力シート(中播総体)'!L45=\"電気\",0,1)))","v":""}]
[{"$f":"IF('入力シート(中播総体)'!$H56=\"\",\"\",大会コード)","v":""},{"$f":"IF('入力シート(中播総体)'!$H56=\"\",\"\",IF('入力シート(中播総体)'!$B56=\"男\",0,1))","v":""},{"$f":"IF('入力シート(中播総体)'!$H56=\"\",\"\",'入力シート(中播総体)'!C56)","v":""},{"$f":"IF('入力シート(中播総体)'!$H56=\"\",\"\",TEXT('入力シート(中播総体)'!$E56,\"000\"))","v":""},{"$f":"IF('入力シート(中播総体)'!$H56=\"\",\"\",学校番号)","v":""},{"$f":"IF('入力シート(中播総体)'!$H56=\"\",\"\",B34)","v":""},{"$f":"IF('入力シート(中播総体)'!$H56=\"\",\"\",TEXT('入力シート(中播総体)'!$H56,\"00\"))","v":""},null,null,{"$f":"IF('入力シート(中播総体)'!$H56=\"\",\"\",IF('入力シート(中播総体)'!K56=\"\",\"\",'入力シート(中播総体)'!K56))","v":""},null,null,null,{"$f":"IF('入力シート(中播総体)'!$H56=\"\",\"\",IF('入力シート(中播総体)'!L56=\"\",\"\",IF('入力シート(中播総体)'!L56=\"電気\",0,1)))","v":""}]
[{"$f":"IF('入力シート(中播総体)'!$H57=\"\",\"\",大会コード)","v":""},{"$f":"IF('入力シート(中播総体)'!$H57=\"\",\"\",IF('入力シート(中播総体)'!$B57=\"男\",0,1))","v":""},{"$f":"IF('入力シート(中播総体)'!$H57=\"\",\"\",'入力シート(中播総体)'!C57)","v":""},{"$f":"IF('入力シート(中播総体)'!$H57=\"\",\"\",TEXT('入力シート(中播総体)'!$E57,\"000\"))","v":""},{"$f":"IF('入力シート(中播総体)'!$H57=\"\",\"\",学校番号)","v":""},{"$f":"IF('入力シート(中播総体)'!$H57=\"\",\"\",B35)","v":""},{"$f":"IF('入力シート(中播総体)'!$H57=\"\",\"\",TEXT('入力シート(中播総体)'!$H57,\"00\"))","v":""},null,null,{"$f":"IF('入力シート(中播総体)'!$H57=\"\",\"\",IF('入力シート(中播総体)'!K57=\"\",\"\",'入力シート(中播総体)'!K57))","v":""},null,null,null,{"$f":"IF('入力シート(中播総体)'!$H57=\"\",\"\",IF('入力シート(中播総体)'!L57=\"\",\"\",IF('入力シート(中播総体)'!L57=\"電気\",0,1)))","v":""}]
[{"$f":"IF('入力シート(中播総体)'!$H58=\"\",\"\",大会コード)","v":""},{"$f":"IF('入力シート(中播総体)'!$H58=\"\",\"\",IF('入力シート(中播総体)'!$B58=\"男\",0,1))","v":""},{"$f":"IF('入力シート(中播総体)'!$H58=\"\",\"\",'入力シート(中播総体)'!C58)","v":""},{"$f":"IF('入力シート(中播総体)'!$H58=\"\",\"\",TEXT('入力シート(中播総体)'!$E58,\"000\"))","v":""},{"$f":"IF('入力シート(中播総体)'!$H58=\"\",\"\",学校番号)","v":""},{"$f":"IF('入力シート(中播総体)'!$H58=\"\",\"\",B36)","v":""},{"$f":"IF('入力シート(中播総体)'!$H58=\"\",\"\",TEXT('入力シート(中播総体)'!$H58,\"00\"))","v":""},null,null,{"$f":"IF('入力シート(中播総体)'!$H58=\"\",\"\",IF('入力シート(中播総体)'!K58=\"\",\"\",'入力シート(中播総体)'!K58))","v":""},null,null,null,{"$f":"IF('入力シート(中播総体)'!$H58=\"\",\"\",IF('入力シート(中播総体)'!L58=\"\",\"\",IF('入力シート(中播総体)'!L58=\"電気\",0,1)))","v":""}]
[{"$f":"IF('入力シート(中播総体)'!$H59=\"\",\"\",大会コード)","v":""},{"$f":"IF('入力シート(中播総体)'!$H59=\"\",\"\",IF('入力シート(中播総体)'!$B59=\"男\",0,1))","v":""},{"$f":"IF('入力シート(中播総体)'!$H59=\"\",\"\",'入力シート(中播総体)'!C59)","v":""},{"$f":"IF('入力シート(中播総体)'!$H59=\"\",\"\",TEXT('入力シート(中播総体)'!$E59,\"000\"))","v":""},{"$f":"IF('入力シート(中播総体)'!$H59=\"\",\"\",学校番号)","v":""},{"$f":"IF('入力シート(中播総体)'!$H59=\"\",\"\",B37)","v":""},{"$f":"IF('入力シート(中播総体)'!$H59=\"\",\"\",TEXT('入力シート(中播総体)'!$H59,\"00\"))","v":""},null,null,{"$f":"IF('入力シート(中播総体)'!$H59=\"\",\"\",IF('入力シート(中播総体)'!K59=\"\",\"\",'入力シート(中播総体)'!K59))","v":""},null,null,null,{"$f":"IF('入力シート(中播総体)'!$H59=\"\",\"\",IF('入力シート(中播総体)'!L59=\"\",\"\",IF('入力シート(中播総体)'!L59=\"電気\",0,1)))","v":""}]
[{"$f":"IF('入力シート(中播総体)'!$H60=\"\",\"\",大会コード)","v":""},{"$f":"IF('入力シート(中播総体)'!$H60=\"\",\"\",IF('入力シート(中播総体)'!$B60=\"男\",0,1))","v":""},{"$f":"IF('入力シート(中播総体)'!$H60=\"\",\"\",'入力シート(中播総体)'!C60)","v":""},{"$f":"IF('入力シート(中播総体)'!$H60=\"\",\"\",TEXT('入力シート(中播総体)'!$E60,\"000\"))","v":""},{"$f":"IF('入力シート(中播総体)'!$H60=\"\",\"\",学校番号)","v":""},{"$f":"IF('入力シート(中播総体)'!$H60=\"\",\"\",B38)","v":""},{"$f":"IF('入力シート(中播総体)'!$H60=\"\",\"\",TEXT('入力シート(中播総体)'!$H60,\"00\"))","v":""},null,null,{"$f":"IF('入力シート(中播総体)'!$H60=\"\",\"\",IF('入力シート(中播総体)'!K60=\"\",\"\",'入力シート(中播総体)'!K60))","v":""},null,null,null,{"$f":"IF('入力シート(中播総体)'!$H60=\"\",\"\",IF('入力シート(中播総体)'!L60=\"\",\"\",IF('入力シート(中播総体)'!L60=\"電気\",0,1)))","v":""}]
[{"$f":"IF('入力シート(中播総体)'!$H61=\"\",\"\",大会コード)","v":""},{"$f":"IF('入力シート(中播総体)'!$H61=\"\",\"\",IF('入力シート(中播総体)'!$B61=\"男\",0,1))","v":""},{"$f":"IF('入力シート(中播総体)'!$H61=\"\",\"\",'入力シート(中播総体)'!C61)","v":""},{"$f":"IF('入力シート(中播総体)'!$H61=\"\",\"\",TEXT('入力シート(中播総体)'!$E61,\"000\"))","v":""},{"$f":"IF('入力シート(中播総体)'!$H61=\"\",\"\",学校番号)","v":""},{"$f":"IF('入力シート(中播総体)'!$H61=\"\",\"\",B39)","v":""},{"$f":"IF('入力シート(中播総体)'!$H61=\"\",\"\",TEXT('入力シート(中播総体)'!$H61,\"00\"))","v":""},null,null,{"$f":"IF('入力シート(中播総体)'!$H61=\"\",\"\",IF('入力シート(中播総体)'!K61=\"\",\"\",'入力シート(中播総体)'!K61))","v":""},null,null,null,{"$f":"IF('入力シート(中播総体)'!$H61=\"\",\"\",IF('入力シート(中播総体)'!L61=\"\",\"\",IF('入力シート(中播総体)'!L61=\"電気\",0,1)))","v":""}]
[{"$f":"IF('入力シート(中播総体)'!$H62=\"\",\"\",大会コード)","v":""},{"$f":"IF('入力シート(中播総体)'!$H62=\"\",\"\",IF('入力シート(中播総体)'!$B62=\"男\",0,1))","v":""},{"$f":"IF('入力シート(中播総体)'!$H62=\"\",\"\",'入力シート(中播総体)'!C62)","v":""},{"$f":"IF('入力シート(中播総体)'!$H62=\"\",\"\",TEXT('入力シート(中播総体)'!$E62,\"000\"))","v":""},{"$f":"IF('入力シート(中播総体)'!$H62=\"\",\"\",学校番号)","v":""},{"$f":"IF('入力シート(中播総体)'!$H62=\"\",\"\",B40)","v":""},{"$f":"IF('入力シート(中播総体)'!$H62=\"\",\"\",TEXT('入力シート(中播総体)'!$H62,\"00\"))","v":""},null,null,{"$f":"IF('入力シート(中播総体)'!$H62=\"\",\"\",IF('入力シート(中播総体)'!K62=\"\",\"\",'入力シート(中播総体)'!K62))","v":""},null,null,null,{"$f":"IF('入力シート(中播総体)'!$H62=\"\",\"\",IF('入力シート(中播総体)'!L62=\"\",\"\",IF('入力シート(中播総体)'!L62=\"電気\",0,1)))","v":""}]
[{"$f":"IF('入力シート(中播総体)'!$H63=\"\",\"\",大会コード)","v":""},{"$f":"IF('入力シート(中播総体)'!$H63=\"\",\"\",IF('入力シート(中播総体)'!$B63=\"男\",0,1))","v":""},{"$f":"IF('入力シート(中播総体)'!$H63=\"\",\"\",'入力シート(中播総体)'!C63)","v":""},{"$f":"IF('入力シート(中播総体)'!$H63=\"\",\"\",TEXT('入力シート(中播総体)'!$E63,\"000\"))","v":""},{"$f":"IF('入力シート(中播総体)'!$H63=\"\",\"\",学校番号)","v":""},{"$f":"IF('入力シート(中播総体)'!$H63=\"\",\"\",B41)","v":""},{"$f":"IF('入力シート(中播総体)'!$H63=\"\",\"\",TEXT('入力シート(中播総体)'!$H63,\"00\"))","v":""},null,null,{"$f":"IF('入力シート(中播総体)'!$H63=\"\",\"\",IF('入力シート(中播総体)'!K63=\"\",\"\",'入力シート(中播総体)'!K63))","v":""},null,null,null,{"$f":"IF('入力シート(中播総体)'!$H63=\"\",\"\",IF('入力シート(中播総体)'!L63=\"\",\"\",IF('入力シート(中播総体)'!L63=\"電気\",0,1)))","v":""}]
[{"$f":"IF('入力シート(中播総体)'!$H70=\"\",\"\",大会コード)","v":""},{"$f":"IF('入力シート(中播総体)'!$H70=\"\",\"\",IF('入力シート(中播総体)'!$B70=\"男\",0,1))","v":""},{"$f":"IF('入力シート(中播総体)'!$H70=\"\",\"\",'入力シート(中播総体)'!C70)","v":""},{"$f":"IF('入力シート(中播総体)'!$H70=\"\",\"\",TEXT('入力シート(中播総体)'!$E70,\"000\"))","v":""},{"$f":"IF('入力シート(中播総体)'!$H70=\"\",\"\",学校番号)","v":""},{"$f":"IF('入力シート(中播総体)'!$H70=\"\",\"\",B42)","v":""},{"$f":"IF('入力シート(中播総体)'!$H70=\"\",\"\",TEXT('入力シート(中播総体)'!$H70,\"00\"))","v":""},null,null,{"$f":"IF('入力シート(中播総体)'!$H70=\"\",\"\",IF('入力シート(中播総体)'!K70=\"\",\"\",'入力シート(中播総体)'!K70))","v":""},null,null,null,{"$f":"IF('入力シート(中播総体)'!$H70=\"\",\"\",IF('入力シート(中播総体)'!L70=\"\",\"\",IF('入力シート(中播総体)'!L70=\"電気\",0,1)))","v":""}]
[{"$f":"IF('入力シート(中播総体)'!$H71=\"\",\"\",大会コード)","v":""},{"$f":"IF('入力シート(中播総体)'!$H71=\"\",\"\",IF('入力シート(中播総体)'!$B71=\"男\",0,1))","v":""},{"$f":"IF('入力シート(中播総体)'!$H71=\"\",\"\",'入力シート(中播総体)'!C71)","v":""},{"$f":"IF('入力シート(中播総体)'!$H71=\"\",\"\",TEXT('入力シート(中播総体)'!$E71,\"000\"))","v":""},{"$f":"IF('入力シート(中播総体)'!$H71=\"\",\"\",学校番号)","v":""},{"$f":"IF('入力シート(中播総体)'!$H71=\"\",\"\",B43)","v":""},{"$f":"IF('入力シート(中播総体)'!$H71=\"\",\"\",TEXT('入力シート(中播総体)'!$H71,\"00\"))","v":""},null,null,{"$f":"IF('入力シート(中播総体)'!$H71=\"\",\"\",IF('入力シート(中播総体)'!K71=\"\",\"\",'入力シート(中播総体)'!K71))","v":""},null,null,null,{"$f":"IF('入力シート(中播総体)'!$H71=\"\",\"\",IF('入力シート(中播総体)'!L71=\"\",\"\",IF('入力シート(中播総体)'!L71=\"電気\",0,1)))","v":""}]
[{"$f":"IF('入力シート(中播総体)'!$H72=\"\",\"\",大会コード)","v":""},{"$f":"IF('入力シート(中播総体)'!$H72=\"\",\"\",IF('入力シート(中播総体)'!$B72=\"男\",0,1))","v":""},{"$f":"IF('入力シート(中播総体)'!$H72=\"\",\"\",'入力シート(中播総体)'!C72)","v":""},{"$f":"IF('入力シート(中播総体)'!$H72=\"\",\"\",TEXT('入力シート(中播総体)'!$E72,\"000\"))","v":""},{"$f":"IF('入力シート(中播総体)'!$H72=\"\",\"\",学校番号)","v":""},{"$f":"IF('入力シート(中播総体)'!$H72=\"\",\"\",B44)","v":""},{"$f":"IF('入力シート(中播総体)'!$H72=\"\",\"\",TEXT('入力シート(中播総体)'!$H72,\"00\"))","v":""},null,null,{"$f":"IF('入力シート(中播総体)'!$H72=\"\",\"\",IF('入力シート(中播総体)'!K72=\"\",\"\",'入力シート(中播総体)'!K72))","v":""},null,null,null,{"$f":"IF('入力シート(中播総体)'!$H72=\"\",\"\",IF('入力シート(中播総体)'!L72=\"\",\"\",IF('入力シート(中播総体)'!L72=\"電気\",0,1)))","v":""}]
[{"$f":"IF('入力シート(中播総体)'!$H73=\"\",\"\",大会コード)","v":""},{"$f":"IF('入力シート(中播総体)'!$H73=\"\",\"\",IF('入力シート(中播総体)'!$B73=\"男\",0,1))","v":""},{"$f":"IF('入力シート(中播総体)'!$H73=\"\",\"\",'入力シート(中播総体)'!C73)","v":""},{"$f":"IF('入力シート(中播総体)'!$H73=\"\",\"\",TEXT('入力シート(中播総体)'!$E73,\"000\"))","v":""},{"$f":"IF('入力シート(中播総体)'!$H73=\"\",\"\",学校番号)","v":""},{"$f":"IF('入力シート(中播総体)'!$H73=\"\",\"\",B45)","v":""},{"$f":"IF('入力シート(中播総体)'!$H73=\"\",\"\",TEXT('入力シート(中播総体)'!$H73,\"00\"))","v":""},null,null,{"$f":"IF('入力シート(中播総体)'!$H73=\"\",\"\",IF('入力シート(中播総体)'!K73=\"\",\"\",'入力シート(中播総体)'!K73))","v":""},null,null,null,{"$f":"IF('入力シート(中播総体)'!$H73=\"\",\"\",IF('入力シート(中播総体)'!L73=\"\",\"\",IF('入力シート(中播総体)'!L73=\"電気\",0,1)))","v":""}]
[{"$f":"IF('入力シート(中播総体)'!$H74=\"\",\"\",大会コード)","v":""},{"$f":"IF('入力シート(中播総体)'!$H74=\"\",\"\",IF('入力シート(中播総体)'!$B74=\"男\",0,1))","v":""},{"$f":"IF('入力シート(中播総体)'!$H74=\"\",\"\",'入力シート(中播総体)'!C74)","v":""},{"$f":"IF('入力シート(中播総体)'!$H74=\"\",\"\",TEXT('入力シート(中播総体)'!$E74,\"000\"))","v":""},{"$f":"IF('入力シート(中播総体)'!$H74=\"\",\"\",学校番号)","v":""},{"$f":"IF('入力シート(中播総体)'!$H74=\"\",\"\",B46)","v":""},{"$f":"IF('入力シート(中播総体)'!$H74=\"\",\"\",TEXT('入力シート(中播総体)'!$H74,\"00\"))","v":""},null,null,{"$f":"IF('入力シート(中播総体)'!$H74=\"\",\"\",IF('入力シート(中播総体)'!K74=\"\",\"\",'入力シート(中播総体)'!K74))","v":""},null,null,null,{"$f":"IF('入力シート(中播総体)'!$H74=\"\",\"\",IF('入力シート(中播総体)'!L74=\"\",\"\",IF('入力シート(中播総体)'!L74=\"電気\",0,1)))","v":""}]
[{"$f":"IF('入力シート(中播総体)'!$H75=\"\",\"\",大会コード)","v":""},{"$f":"IF('入力シート(中播総体)'!$H75=\"\",\"\",IF('入力シート(中播総体)'!$B75=\"男\",0,1))","v":""},{"$f":"IF('入力シート(中播総体)'!$H75=\"\",\"\",'入力シート(中播総体)'!C75)","v":""},{"$f":"IF('入力シート(中播総体)'!$H75=\"\",\"\",TEXT('入力シート(中播総体)'!$E75,\"000\"))","v":""},{"$f":"IF('入力シート(中播総体)'!$H75=\"\",\"\",学校番号)","v":""},{"$f":"IF('入力シート(中播総体)'!$H75=\"\",\"\",B47)","v":""},{"$f":"IF('入力シート(中播総体)'!$H75=\"\",\"\",TEXT('入力シート(中播総体)'!$H75,\"00\"))","v":""},null,null,{"$f":"IF('入力シート(中播総体)'!$H75=\"\",\"\",IF('入力シート(中播総体)'!K75=\"\",\"\",'入力シート(中播総体)'!K75))","v":""},null,null,null,{"$f":"IF('入力シート(中播総体)'!$H75=\"\",\"\",IF('入力シート(中播総体)'!L75=\"\",\"\",IF('入力シート(中播総体)'!L75=\"電気\",0,1)))","v":""}]
[{"$f":"IF('入力シート(中播総体)'!$H76=\"\",\"\",大会コード)","v":""},{"$f":"IF('入力シート(中播総体)'!$H76=\"\",\"\",IF('入力シート(中播総体)'!$B76=\"男\",0,1))","v":""},{"$f":"IF('入力シート(中播総体)'!$H76=\"\",\"\",'入力シート(中播総体)'!C76)","v":""},{"$f":"IF('入力シート(中播総体)'!$H76=\"\",\"\",TEXT('入力シート(中播総体)'!$E76,\"000\"))","v":""},{"$f":"IF('入力シート(中播総体)'!$H76=\"\",\"\",学校番号)","v":""},{"$f":"IF('入力シート(中播総体)'!$H76=\"\",\"\",B48)","v":""},{"$f":"IF('入力シート(中播総体)'!$H76=\"\",\"\",TEXT('入力シート(中播総体)'!$H76,\"00\"))","v":""},null,null,{"$f":"IF('入力シート(中播総体)'!$H76=\"\",\"\",IF('入力シート(中播総体)'!K76=\"\",\"\",'入力シート(中播総体)'!K76))","v":""},null,null,null,{"$f":"IF('入力シート(中播総体)'!$H76=\"\",\"\",IF('入力シート(中播総体)'!L76=\"\",\"\",IF('入力シート(中播総体)'!L76=\"電気\",0,1)))","v":""}]
[{"$f":"IF('入力シート(中播総体)'!$H77=\"\",\"\",大会コード)","v":""},{"$f":"IF('入力シート(中播総体)'!$H77=\"\",\"\",IF('入力シート(中播総体)'!$B77=\"男\",0,1))","v":""},{"$f":"IF('入力シート(中播総体)'!$H77=\"\",\"\",'入力シート(中播総体)'!C77)","v":""},{"$f":"IF('入力シート(中播総体)'!$H77=\"\",\"\",TEXT('入力シート(中播総体)'!$E77,\"000\"))","v":""},{"$f":"IF('入力シート(中播総体)'!$H77=\"\",\"\",学校番号)","v":""},{"$f":"IF('入力シート(中播総体)'!$H77=\"\",\"\",B49)","v":""},{"$f":"IF('入力シート(中播総体)'!$H77=\"\",\"\",TEXT('入力シート(中播総体)'!$H77,\"00\"))","v":""},null,null,{"$f":"IF('入力シート(中播総体)'!$H77=\"\",\"\",IF('入力シート(中播総体)'!K77=\"\",\"\",'入力シート(中播総体)'!K77))","v":""},null,null,null,{"$f":"IF('入力シート(中播総体)'!$H77=\"\",\"\",IF('入力シート(中播総体)'!L77=\"\",\"\",IF('入力シート(中播総体)'!L77=\"電気\",0,1)))","v":""}]
[{"$f":"IF('入力シート(中播総体)'!$H84=\"\",\"\",大会コード)","v":""},{"$f":"IF('入力シート(中播総体)'!$H84=\"\",\"\",IF('入力シート(中播総体)'!$B84=\"男\",0,1))","v":""},{"$f":"IF('入力シート(中播総体)'!$H84=\"\",\"\",'入力シート(中播総体)'!C84)","v":""},{"$f":"IF('入力シート(中播総体)'!$H84=\"\",\"\",TEXT('入力シート(中播総体)'!$E84,\"000\"))","v":""},{"$f":"IF('入力シート(中播総体)'!$H84=\"\",\"\",学校番号)","v":""},{"$f":"IF('入力シート(中播総体)'!$H84=\"\",\"\",B50)","v":""},{"$f":"IF('入力シート(中播総体)'!$H84=\"\",\"\",TEXT('入力シート(中播総体)'!$H84,\"00\"))","v":""},null,null,{"$f":"IF('入力シート(中播総体)'!$H84=\"\",\"\",IF('入力シート(中播総体)'!K84=\"\",\"\",'入力シート(中播総体)'!K84))","v":""},null,null,null,{"$f":"IF('入力シート(中播総体)'!$H84=\"\",\"\",IF('入力シート(中播総体)'!L84=\"\",\"\",IF('入力シート(中播総体)'!L84=\"電気\",0,1)))","v":""}]
[{"$f":"IF('入力シート(中播総体)'!$H85=\"\",\"\",大会コード)","v":""},{"$f":"IF('入力シート(中播総体)'!$H85=\"\",\"\",IF('入力シート(中播総体)'!$B85=\"男\",0,1))","v":""},{"$f":"IF('入力シート(中播総体)'!$H85=\"\",\"\",'入力シート(中播総体)'!C85)","v":""},{"$f":"IF('入力シート(中播総体)'!$H85=\"\",\"\",TEXT('入力シート(中播総体)'!$E85,\"000\"))","v":""},{"$f":"IF('入力シート(中播総体)'!$H85=\"\",\"\",学校番号)","v":""},{"$f":"IF('入力シート(中播総体)'!$H85=\"\",\"\",B51)","v":""},{"$f":"IF('入力シート(中播総体)'!$H85=\"\",\"\",TEXT('入力シート(中播総体)'!$H85,\"00\"))","v":""},null,null,{"$f":"IF('入力シート(中播総体)'!$H85=\"\",\"\",IF('入力シート(中播総体)'!K85=\"\",\"\",'入力シート(中播総体)'!K85))","v":""},null,null,null,{"$f":"IF('入力シート(中播総体)'!$H85=\"\",\"\",IF('入力シート(中播総体)'!L85=\"\",\"\",IF('入力シート(中播総体)'!L85=\"電気\",0,1)))","v":""}]
[{"$f":"IF('入力シート(中播総体)'!$H86=\"\",\"\",大会コード)","v":""},{"$f":"IF('入力シート(中播総体)'!$H86=\"\",\"\",IF('入力シート(中播総体)'!$B86=\"男\",0,1))","v":""},{"$f":"IF('入力シート(中播総体)'!$H86=\"\",\"\",'入力シート(中播総体)'!C86)","v":""},{"$f":"IF('入力シート(中播総体)'!$H86=\"\",\"\",TEXT('入力シート(中播総体)'!$E86,\"000\"))","v":""},{"$f":"IF('入力シート(中播総体)'!$H86=\"\",\"\",学校番号)","v":""},{"$f":"IF('入力シート(中播総体)'!$H86=\"\",\"\",B52)","v":""},{"$f":"IF('入力シート(中播総体)'!$H86=\"\",\"\",TEXT('入力シート(中播総体)'!$H86,\"00\"))","v":""},null,null,{"$f":"IF('入力シート(中播総体)'!$H86=\"\",\"\",IF('入力シート(中播総体)'!K86=\"\",\"\",'入力シート(中播総体)'!K86))","v":""},null,null,null,{"$f":"IF('入力シート(中播総体)'!$H86=\"\",\"\",IF('入力シート(中播総体)'!L86=\"\",\"\",IF('入力シート(中播総体)'!L86=\"電気\",0,1)))","v":""}]
[{"$f":"IF('入力シート(中播総体)'!$H87=\"\",\"\",大会コード)","v":""},{"$f":"IF('入力シート(中播総体)'!$H87=\"\",\"\",IF('入力シート(中播総体)'!$B87=\"男\",0,1))","v":""},{"$f":"IF('入力シート(中播総体)'!$H87=\"\",\"\",'入力シート(中播総体)'!C87)","v":""},{"$f":"IF('入力シート(中播総体)'!$H87=\"\",\"\",TEXT('入力シート(中播総体)'!$E87,\"000\"))","v":""},{"$f":"IF('入力シート(中播総体)'!$H87=\"\",\"\",学校番号)","v":""},{"$f":"IF('入力シート(中播総体)'!$H87=\"\",\"\",B53)","v":""},{"$f":"IF('入力シート(中播総体)'!$H87=\"\",\"\",TEXT('入力シート(中播総体)'!$H87,\"00\"))","v":""},null,null,{"$f":"IF('入力シート(中播総体)'!$H87=\"\",\"\",IF('入力シート(中播総体)'!K87=\"\",\"\",'入力シート(中播総体)'!K87))","v":""},null,null,null,{"$f":"IF('入力シート(中播総体)'!$H87=\"\",\"\",IF('入力シート(中播総体)'!L87=\"\",\"\",IF('入力シート(中播総体)'!L87=\"電気\",0,1)))","v":""}]
[{"$f":"IF('入力シート(中播総体)'!$H88=\"\",\"\",大会コード)","v":""},{"$f":"IF('入力シート(中播総体)'!$H88=\"\",\"\",IF('入力シート(中播総体)'!$B88=\"男\",0,1))","v":""},{"$f":"IF('入力シート(中播総体)'!$H88=\"\",\"\",'入力シート(中播総体)'!C88)","v":""},{"$f":"IF('入力シート(中播総体)'!$H88=\"\",\"\",TEXT('入力シート(中播総体)'!$E88,\"000\"))","v":""},{"$f":"IF('入力シート(中播総体)'!$H88=\"\",\"\",学校番号)","v":""},{"$f":"IF('入力シート(中播総体)'!$H88=\"\",\"\",B54)","v":""},{"$f":"IF('入力シート(中播総体)'!$H88=\"\",\"\",TEXT('入力シート(中播総体)'!$H88,\"00\"))","v":""},null,null,{"$f":"IF('入力シート(中播総体)'!$H88=\"\",\"\",IF('入力シート(中播総体)'!K88=\"\",\"\",'入力シート(中播総体)'!K88))","v":""},null,null,null,{"$f":"IF('入力シート(中播総体)'!$H88=\"\",\"\",IF('入力シート(中播総体)'!L88=\"\",\"\",IF('入力シート(中播総体)'!L88=\"電気\",0,1)))","v":""}]
[{"$f":"IF('入力シート(中播総体)'!$H89=\"\",\"\",大会コード)","v":""},{"$f":"IF('入力シート(中播総体)'!$H89=\"\",\"\",IF('入力シート(中播総体)'!$B89=\"男\",0,1))","v":""},{"$f":"IF('入力シート(中播総体)'!$H89=\"\",\"\",'入力シート(中播総体)'!C89)","v":""},{"$f":"IF('入力シート(中播総体)'!$H89=\"\",\"\",TEXT('入力シート(中播総体)'!$E89,\"000\"))","v":""},{"$f":"IF('入力シート(中播総体)'!$H89=\"\",\"\",学校番号)","v":""},{"$f":"IF('入力シート(中播総体)'!$H89=\"\",\"\",B55)","v":""},{"$f":"IF('入力シート(中播総体)'!$H89=\"\",\"\",TEXT('入力シート(中播総体)'!$H89,\"00\"))","v":""},null,null,{"$f":"IF('入力シート(中播総体)'!$H89=\"\",\"\",IF('入力シート(中播総体)'!K89=\"\",\"\",'入力シート(中播総体)'!K89))","v":""},null,null,null,{"$f":"IF('入力シート(中播総体)'!$H89=\"\",\"\",IF('入力シート(中播総体)'!L89=\"\",\"\",IF('入力シート(中播総体)'!L89=\"電気\",0,1)))","v":""}]
[{"$f":"IF('入力シート(中播総体)'!$H90=\"\",\"\",大会コード)","v":""},{"$f":"IF('入力シート(中播総体)'!$H90=\"\",\"\",IF('入力シート(中播総体)'!$B90=\"男\",0,1))","v":""},{"$f":"IF('入力シート(中播総体)'!$H90=\"\",\"\",'入力シート(中播総体)'!C90)","v":""},{"$f":"IF('入力シート(中播総体)'!$H90=\"\",\"\",TEXT('入力シート(中播総体)'!$E90,\"000\"))","v":""},{"$f":"IF('入力シート(中播総体)'!$H90=\"\",\"\",学校番号)","v":""},{"$f":"IF('入力シート(中播総体)'!$H90=\"\",\"\",B56)","v":""},{"$f":"IF('入力シート(中播総体)'!$H90=\"\",\"\",TEXT('入力シート(中播総体)'!$H90,\"00\"))","v":""},null,null,{"$f":"IF('入力シート(中播総体)'!$H90=\"\",\"\",IF('入力シート(中播総体)'!K90=\"\",\"\",'入力シート(中播総体)'!K90))","v":""},null,null,null,{"$f":"IF('入力シート(中播総体)'!$H90=\"\",\"\",IF('入力シート(中播総体)'!L90=\"\",\"\",IF('入力シート(中播総体)'!L90=\"電気\",0,1)))","v":""}]
[{"$f":"IF('入力シート(中播総体)'!$H91=\"\",\"\",大会コード)","v":""},{"$f":"IF('入力シート(中播総体)'!$H91=\"\",\"\",IF('入力シート(中播総体)'!$B91=\"男\",0,1))","v":""},{"$f":"IF('入力シート(中播総体)'!$H91=\"\",\"\",'入力シート(中播総体)'!C91)","v":""},{"$f":"IF('入力シート(中播総体)'!$H91=\"\",\"\",TEXT('入力シート(中播総体)'!$E91,\"000\"))","v":""},{"$f":"IF('入力シート(中播総体)'!$H91=\"\",\"\",学校番号)","v":""},{"$f":"IF('入力シート(中播総体)'!$H91=\"\",\"\",B57)","v":""},{"$f":"IF('入力シート(中播総体)'!$H91=\"\",\"\",TEXT('入力シート(中播総体)'!$H91,\"00\"))","v":""},null,null,{"$f":"IF('入力シート(中播総体)'!$H91=\"\",\"\",IF('入力シート(中播総体)'!K91=\"\",\"\",'入力シート(中播総体)'!K91))","v":""},null,null,null,{"$f":"IF('入力シート(中播総体)'!$H91=\"\",\"\",IF('入力シート(中播総体)'!L91=\"\",\"\",IF('入力シート(中播総体)'!L91=\"電気\",0,1)))","v":""}]
[]
[]
[]
[]
[]
[]
[]
[]
[]
[]
[]
[]
[]
[]
[]
[]
[]
[]
[]
[]
[]
[]
[]
[]
[]
[]
[]
[]
[]
[]
[]
[]
[]
[]
[]
[]
[]
[]
[]
[]
[]
[]
["大会コード","性別","学年","競技種目コード","学校コード","性別1","選手コード","エントリ記録","当日記録","順位","順番","条件項目","競技－１記録","競技－１得点","競技－１試技順番","競技－１組","競技－１条件項目","計測区分1","未記録区分１","最高記録１","公認最高記録１","三種最高記録１","最高条件項目１","公認最高条件項目１","三種最高条件項目１","競技－２記録","競技－２得点","競技－２試技順番","競技－２組","競技－２条件項目","計測区分２","未記録区分２","最高記録２","公認最高記録２","三種最高記録２","最高条件項目２","公認最高条件項目２","三種最高条件項目２","競技－３記録","競技－３得点","競技－３試技順番","競技－３組","競技－３条件項目","計測区分３","未記録区分３","最高記録３","公認最高記録３","三種最高記録３","最高条件項目３","公認最高条件項目３","三種最高条件項目３","競技－４記録","競技－４得点","競技－４試技順番","競技－４組","競技－４条件項目","計測区分４","未記録区分４","最高記録４","公認最高記録４","三種最高記録４","最高条件項目４","公認最高条件項目４","三種最高条件項目４","競技－５記録","競技－５得点","競技－５試技順番","競技－５組","競技－５条件項目","大会順位","公認記録"]
[{"$f":"IF('入力シート(中播総体)'!$H46=\"\",\"\",大会コード)","v":""},{"$f":"IF('入力シート(中播総体)'!$H46=\"\",\"\",IF('入力シート(中播総体)'!$B46=\"男\",0,1))","v":""},{"$f":"IF('入力シート(中播総体)'!$H46=\"\",\"\",'入力シート(中播総体)'!C46)","v":""},{"$f":"IF('入力シート(中播総体)'!$H46=\"\",\"\",TEXT('入力シート(中播総体)'!$E46,\"000\"))","v":""},{"$f":"IF('入力シート(中播総体)'!$H46=\"\",\"\",学校番号)","v":""},{"$f":"IF('入力シート(中播総体)'!$H46=\"\",\"\",B101)","v":""},{"$f":"IF('入力シート(中播総体)'!$H46=\"\",\"\",TEXT('入力シート(中播総体)'!$H46,\"00\"))","v":""},{"$f":"IF('入力シート(中播総体)'!$H46=\"\",\"\",IF('入力シート(中播総体)'!$K46=\"\",\"\",'入力シート(中播総体)'!$K46))","v":""},null,null,null,null,{"$f":"IF('入力シート(中播総体)'!$H46=\"\",\"\",IF('入力シート(中播総体)'!$K47=\"\",\"\",'入力シート(中播総体)'!$K47))","v":""},null,null,null,null,null,null,null,null,null,null,null,null,{"$f":"IF('入力シート(中播総体)'!$H46=\"\",\"\",IF('入力シート(中播総体)'!$K48=\"\",\"\",'入力シート(中播総体)'!$K48))","v":""},null,null,null,null,null,null,null,null,null,null,null,null,{"$f":"IF('入力シート(中播総体)'!$H46=\"\",\"\",IF('入力シート(中播総体)'!$K49=\"\",\"\",'入力シート(中播総体)'!$K49))","v":""},null,null,null,null,null,null,null,null,null,null,null,null,{"$f":"IF('入力シート(中播総体)'!$H46=\"\",\"\",IF('入力シート(中播総体)'!$K50=\"\",\"\",'入力シート(中播総体)'!$K50))","v":""}]
[{"$f":"IF('入力シート(中播総体)'!$H51=\"\",\"\",大会コード)","v":""},{"$f":"IF('入力シート(中播総体)'!$H51=\"\",\"\",IF('入力シート(中播総体)'!$B51=\"男\",0,1))","v":""},{"$f":"IF('入力シート(中播総体)'!$H51=\"\",\"\",'入力シート(中播総体)'!C51)","v":""},{"$f":"IF('入力シート(中播総体)'!$H51=\"\",\"\",TEXT('入力シート(中播総体)'!$E51,\"000\"))","v":""},{"$f":"IF('入力シート(中播総体)'!$H51=\"\",\"\",学校番号)","v":""},{"$f":"IF('入力シート(中播総体)'!$H51=\"\",\"\",B102)","v":""},{"$f":"IF('入力シート(中播総体)'!$H51=\"\",\"\",TEXT('入力シート(中播総体)'!$H51,\"00\"))","v":""},{"$f":"IF('入力シート(中播総体)'!$H51=\"\",\"\",IF('入力シート(中播総体)'!$K51=\"\",\"\",'入力シート(中播総体)'!$K51))","v":""},null,null,null,null,{"$f":"IF('入力シート(中播総体)'!$H51=\"\",\"\",IF('入力シート(中播総体)'!$K52=\"\",\"\",'入力シート(中播総体)'!$K52))","v":""},null,null,null,null,null,null,null,null,null,null,null,null,{"$f":"IF('入力シート(中播総体)'!$H51=\"\",\"\",IF('入力シート(中播総体)'!$K53=\"\",\"\",'入力シート(中播総体)'!$K53))","v":""},null,null,null,null,null,null,null,null,null,null,null,null,{"$f":"IF('入力シート(中播総体)'!$H51=\"\",\"\",IF('入力シート(中播総体)'!$K54=\"\",\"\",'入力シート(中播総体)'!$K54))","v":""},null,null,null,null,null,null,null,null,null,null,null,null,{"$f":"IF('入力シート(中播総体)'!$H51=\"\",\"\",IF('入力シート(中播総体)'!$K55=\"\",\"\",'入力シート(中播総体)'!$K55))","v":""}]
[{"$f":"IF('入力シート(中播総体)'!$H92=\"\",\"\",大会コード)","v":""},{"$f":"IF('入力シート(中播総体)'!$H92=\"\",\"\",IF('入力シート(中播総体)'!$B92=\"男\",0,1))","v":""},{"$f":"IF('入力シート(中播総体)'!$H92=\"\",\"\",'入力シート(中播総体)'!C92)","v":""},{"$f":"IF('入力シート(中播総体)'!$H92=\"\",\"\",TEXT('入力シート(中播総体)'!$E92,\"000\"))","v":""},{"$f":"IF('入力シート(中播総体)'!$H92=\"\",\"\",学校番号)","v":""},{"$f":"IF('入力シート(中播総体)'!$H92=\"\",\"\",B103)","v":""},{"$f":"IF('入力シート(中播総体)'!$H92=\"\",\"\",TEXT('入力シート(中播総体)'!$H92,\"00\"))","v":""},{"$f":"IF('入力シート(中播総体)'!$H92=\"\",\"\",IF('入力シート(中播総体)'!$K92=\"\",\"\",'入力シート(中播総体)'!$K92))","v":""},null,null,null,null,{"$f":"IF('入力シート(中播総体)'!$H92=\"\",\"\",IF('入力シート(中播総体)'!$K93=\"\",\"\",'入力シート(中播総体)'!$K93))","v":""},null,null,null,null,null,null,null,null,null,null,null,null,{"$f":"IF('入力シート(中播総体)'!$H92=\"\",\"\",IF('入力シート(中播総体)'!$K94=\"\",\"\",'入力シート(中播総体)'!$K94))","v":""},null,null,null,null,null,null,null,null,null,null,null,null,{"$f":"IF('入力シート(中播総体)'!$H92=\"\",\"\",IF('入力シート(中播総体)'!$K95=\"\",\"\",'入力シート(中播総体)'!$K95))","v":""},null,null,null,null,null,null,null,null,null,null,null,null,{"$f":"IF('入力シート(中播総体)'!$H92=\"\",\"\",IF('入力シート(中播総体)'!$K96=\"\",\"\",'入力シート(中播総体)'!$K96))","v":""}]
[{"$f":"IF('入力シート(中播総体)'!$H97=\"\",\"\",大会コード)","v":""},{"$f":"IF('入力シート(中播総体)'!$H97=\"\",\"\",IF('入力シート(中播総体)'!$B97=\"男\",0,1))","v":""},{"$f":"IF('入力シート(中播総体)'!$H97=\"\",\"\",'入力シート(中播総体)'!C97)","v":""},{"$f":"IF('入力シート(中播総体)'!$H97=\"\",\"\",TEXT('入力シート(中播総体)'!$E97,\"000\"))","v":""},{"$f":"IF('入力シート(中播総体)'!$H97=\"\",\"\",学校番号)","v":""},{"$f":"IF('入力シート(中播総体)'!$H97=\"\",\"\",B104)","v":""},{"$f":"IF('入力シート(中播総体)'!$H97=\"\",\"\",TEXT('入力シート(中播総体)'!$H97,\"00\"))","v":""},{"$f":"IF('入力シート(中播総体)'!$H97=\"\",\"\",IF('入力シート(中播総体)'!$K97=\"\",\"\",'入力シート(中播総体)'!$K97))","v":""},null,null,null,null,{"$f":"IF('入力シート(中播総体)'!$H97=\"\",\"\",IF('入力シート(中播総体)'!$K98=\"\",\"\",'入力シート(中播総体)'!$K98))","v":""},null,null,null,null,null,null,null,null,null,null,null,null,{"$f":"IF('入力シート(中播総体)'!$H97=\"\",\"\",IF('入力シート(中播総体)'!$K99=\"\",\"\",'入力シート(中播総体)'!$K99))","v":""},null,null,null,null,null,null,null,null,null,null,null,null,{"$f":"IF('入力シート(中播総体)'!$H97=\"\",\"\",IF('入力シート(中播総体)'!$K100=\"\",\"\",'入力シート(中播総体)'!$K100))","v":""},null,null,null,null,null,null,null,null,null,null,null,null,{"$f":"IF('入力シート(中播総体)'!$H97=\"\",\"\",IF('入力シート(中播総体)'!$K101=\"\",\"\",'入力シート(中播総体)'!$K101))","v":""}]
[]
[]
[]
[]
[]
[]
[]
[]
[]
[]
[]
[]
[]
[]
[]
[]
[]
[]
[]
[]
[]
[]
[]
[]
[]
["大会コード","性別","学年","競技種目コード","組","レーン","学校コード","エントリ記録","当日記録","順位","条件項目","選手コード１","出場区分１","選手コード２","出場区分２","選手コード３","出場区分３","選手コード４","出場区分４","選手コード５","出場区分５","選手コード６","出場区分６","計測区分","未記録区分","大会順位"]
[{"$f":"IF('入力シート(中播総体)'!$H10=\"\",\"\",大会コード)","v":""},{"$f":"IF('入力シート(中播総体)'!$H10=\"\",\"\",IF('入力シート(中播総体)'!$B10=\"男\",0,1))","v":""},{"$f":"IF('入力シート(中播総体)'!$H10=\"\",\"\",'入力シート(中播総体)'!C10)","v":""},{"$f":"IF('入力シート(中播総体)'!$H10=\"\",\"\",TEXT('入力シート(中播総体)'!$E10,\"000\"))","v":""},null,null,{"$f":"IF('入力シート(中播総体)'!$H10=\"\",\"\",学校番号)","v":""},{"$f":"IF('入力シート(中播総体)'!$H10=\"\",\"\",'入力シート(中播総体)'!$K10)","v":""},null,null,null,{"$f":"IF('入力シート(中播総体)'!$H10=\"\",\"\",TEXT('入力シート(中播総体)'!$H10,\"00\"))","v":""},null,{"$f":"IF('入力シート(中播総体)'!$H11=\"\",\"\",TEXT('入力シート(中播総体)'!$H11,\"00\"))","v":""},null,{"$f":"IF('入力シート(中播総体)'!$H12=\"\",\"\",TEXT('入力シート(中播総体)'!$H12,\"00\"))","v":""},null,{"$f":"IF('入力シート(中播総体)'!$H13=\"\",\"\",TEXT('入力シート(中播総体)'!$H13,\"00\"))","v":""},null,{"$f":"IF('入力シート(中播総体)'!$H14=\"\",\"\",TEXT('入力シート(中播総体)'!$H14,\"00\"))","v":""},null,{"$f":"IF('入力シート(中播総体)'!$H15=\"\",\"\",TEXT('入力シート(中播総体)'!$H15,\"00\"))","v":""}]
[{"$f":"IF('入力シート(中播総体)'!$H28=\"\",\"\",大会コード)","v":""},{"$f":"IF('入力シート(中播総体)'!$H28=\"\",\"\",IF('入力シート(中播総体)'!$B28=\"男\",0,1))","v":""},{"$f":"IF('入力シート(中播総体)'!$H28=\"\",\"\",'入力シート(中播総体)'!C28)","v":""},{"$f":"IF('入力シート(中播総体)'!$H28=\"\",\"\",TEXT('入力シート(中播総体)'!$E28,\"000\"))","v":""},null,null,{"$f":"IF('入力シート(中播総体)'!$H28=\"\",\"\",学校番号)","v":""},{"$f":"IF('入力シート(中播総体)'!$H28=\"\",\"\",'入力シート(中播総体)'!$K28)","v":""},null,null,null,{"$f":"IF('入力シート(中播総体)'!$H28=\"\",\"\",TEXT('入力シート(中播総体)'!$H28,\"00\"))","v":""},null,{"$f":"IF('入力シート(中播総体)'!$H29=\"\",\"\",TEXT('入力シート(中播総体)'!$H29,\"00\"))","v":""},null,{"$f":"IF('入力シート(中播総体)'!$H30=\"\",\"\",TEXT('入力シート(中播総体)'!$H30,\"00\"))","v":""},null,{"$f":"IF('入力シート(中播総体)'!$H31=\"\",\"\",TEXT('入力シート(中播総体)'!$H31,\"00\"))","v":""},null,{"$f":"IF('入力シート(中播総体)'!$H32=\"\",\"\",TEXT('入力シート(中播総体)'!$H32,\"00\"))","v":""},null,{"$f":"IF('入力シート(中播総体)'!$H33=\"\",\"\",TEXT('入力シート(中播総体)'!$H33,\"00\"))","v":""}]
[{"$f":"IF('入力シート(中播総体)'!$H64=\"\",\"\",大会コード)","v":""},{"$f":"IF('入力シート(中播総体)'!$H64=\"\",\"\",IF('入力シート(中播総体)'!$B64=\"男\",0,1))","v":""},{"$f":"IF('入力シート(中播総体)'!$H64=\"\",\"\",'入力シート(中播総体)'!C64)","v":""},{"$f":"IF('入力シート(中播総体)'!$H64=\"\",\"\",TEXT('入力シート(中播総体)'!$E64,\"000\"))","v":""},null,null,{"$f":"IF('入力シート(中播総体)'!$H64=\"\",\"\",学校番号)","v":""},{"$f":"IF('入力シート(中播総体)'!$H64=\"\",\"\",'入力シート(中播総体)'!$K64)","v":""},null,null,null,{"$f":"IF('入力シート(中播総体)'!$H64=\"\",\"\",TEXT('入力シート(中播総体)'!$H64,\"00\"))","v":""},null,{"$f":"IF('入力シート(中播総体)'!$H65=\"\",\"\",TEXT('入力シート(中播総体)'!$H65,\"00\"))","v":""},null,{"$f":"IF('入力シート(中播総体)'!$H66=\"\",\"\",TEXT('入力シート(中播総体)'!$H66,\"00\"))","v":""},null,{"$f":"IF('入力シート(中播総体)'!$H67=\"\",\"\",TEXT('入力シート(中播総体)'!$H67,\"00\"))","v":""},null,{"$f":"IF('入力シート(中播総体)'!$H68=\"\",\"\",TEXT('入力シート(中播総体)'!$H68,\"00\"))","v":""},null,{"$f":"IF('入力シート(中播総体)'!$H69=\"\",\"\",TEXT('入力シート(中播総体)'!$H69,\"00\"))","v":""}]
[{"$f":"IF('入力シート(中播総体)'!$H78=\"\",\"\",大会コード)","v":""},{"$f":"IF('入力シート(中播総体)'!$H78=\"\",\"\",IF('入力シート(中播総体)'!$B78=\"男\",0,1))","v":""},{"$f":"IF('入力シート(中播総体)'!$H78=\"\",\"\",'入力シート(中播総体)'!C78)","v":""},{"$f":"IF('入力シート(中播総体)'!$H78=\"\",\"\",TEXT('入力シート(中播総体)'!$E78,\"000\"))","v":""},null,null,{"$f":"IF('入力シート(中播総体)'!$H78=\"\",\"\",学校番号)","v":""},{"$f":"IF('入力シート(中播総体)'!$H78=\"\",\"\",'入力シート(中播総体)'!$K78)","v":""},null,null,null,{"$f":"IF('入力シート(中播総体)'!$H78=\"\",\"\",TEXT('入力シート(中播総体)'!$H78,\"00\"))","v":""},null,{"$f":"IF('入力シート(中播総体)'!$H79=\"\",\"\",TEXT('入力シート(中播総体)'!$H79,\"00\"))","v":""},null,{"$f":"IF('入力シート(中播総体)'!$H80=\"\",\"\",TEXT('入力シート(中播総体)'!$H80,\"00\"))","v":""},null,{"$f":"IF('入力シート(中播総体)'!$H81=\"\",\"\",TEXT('入力シート(中播総体)'!$H81,\"00\"))","v":""},null,{"$f":"IF('入力シート(中播総体)'!$H82=\"\",\"\",TEXT('入力シート(中播総体)'!$H82,\"00\"))","v":""},null,{"$f":"IF('入力シート(中播総体)'!$H83=\"\",\"\",TEXT('入力シート(中播総体)'!$H83,\"00\"))","v":""}]

{"sheet":"入力シート(スポーツ祭)","index":10,"n_rows":21,"n_cols":9,"rows_kept":21,"cut":false,"hidden":true,"merged":[[3,4,3,5],[3,6,3,7],[4,4,4,5],[4,6,4,7],[5,4,5,5],[5,6,5,7],[6,4,6,5],[6,6,6,7],[7,4,7,5],[7,6,7,7],[8,4,8,5],[8,6,8,7],[9,4,9,5],[9,6,9,7],[14,4,14,5],[14,6,14,7],[15,4,15,5],[15,6,15,7],[19,4,19,5],[19,6,19,7],[20,4,20,5],[20,6,20,7],[16,4,16,5],[16,6,16,7],[17,4,17,5],[17,6,17,7],[18,4,18,5],[18,6,18,7]]}
[null,null,null,null,null,"分","秒","1/100"]
[null,"男子リレー",null,null,"タイム"]
[null,null,3,4,5,null,6,null,2]
[null,"個人番号","姓","名","カナ(姓)",null,"カナ(名)",null,"学年"]
[{"$f":"\"男\"&DBCS(TEXT(B5,\"００\"))","v":"男００"},null,{"$f":"IF($B5=\"\",\"\",VLOOKUP($A5,部員データ,C$3,FALSE))","v":""},"","",null,{"$f":"IF($B5=\"\",\"\",VLOOKUP($A5,部員データ,G$3,FALSE))","v":""},null,{"$f":"IF($B5=\"\",\"\",VLOOKUP($A5,部員データ,I$3,FALSE))","v":""}]
["男００",null,"","","",null,"",null,""]
["男００",null,"","","",null,"",null,""]
["男００",null,"","","",null,"",null,""]
["男００",null,"","","",null,"",null,""]
["男００",null,"","","",null,"",null,""]
[]
[null,null,null,null,null,"分","秒","1/100"]
[null,"女子リレー",null,null,"タイム"]
[]
[null,"個人番号","姓","名","カナ(姓)",null,"カナ(名)",null,"学年"]
[{"$f":"\"女\"&DBCS(TEXT(B16,\"００\"))","v":"女００"},null,{"$f":"IF($B16=\"\",\"\",VLOOKUP($A16,部員データ,C$3,FALSE))","v":""},"","",null,{"$f":"IF($B16=\"\",\"\",VLOOKUP($A16,部員データ,G$3,FALSE))","v":""},null,{"$f":"IF($B16=\"\",\"\",VLOOKUP($A16,部員データ,I$3,FALSE))","v":""}]
["女００",null,"","","",null,"",null,""]
["女００",null,"","","",null,"",null,""]
["女００",null,"","","",null,"",null,""]
["女００",null,"","","",null,"",null,""]
["女００",null,"","","",null,"",null,""]

{"sheet":"スポーツ祭","index":11,"n_rows":30,"n_cols":12,"rows_kept":30,"cut":false,"hidden":true,"merged":[[1,1,1,11],[5,1,6,1],[5,2,6,2],[5,5,6,5],[7,1,8,1],[7,2,8,2],[7,5,8,5],[5,7,6,7],[5,8,6,8],[5,11,6,11],[3,1,4,1],[3,2,4,2],[3,5,4,5],[3,7,4,7],[3,8,4,8],[3,11,4,11],[9,1,10,1],[9,2,10,2],[9,5,10,5],[11,1,12,1],[11,2,12,2],[11,5,12,5],[23,1,23,3],[23,4,23,6],[13,1,14,1],[13,2,14,2],[13,5,14,5],[15,1,16,1],[15,2,16,2],[15,5,16,5],[13,8,14,8],[13,11,14,11],[7,7,8,7],[7,8,8,8],[7,11,8,11],[9,7,10,7],[9,8,10,8],[9,11,10,11],[23,9,23,10],[2,2,2,3],[2,8,2,9],[2,4,2,5],[2,10,2,11],[17,1,17,2],[17,7,17,8],[17,3,17,5],[17,9,17,11],[15,7,16,7],[15,8,16,8],[15,11,16,11],[11,7,12,7],[11,8,12,8],[11,11,12,11],[13,7,14,7]]}
[null,null,false,null,null,null,null,null,false]
[null,"第５２回　姫路市スポーツ祭（陸上競技の部）　リレー申し込み書　　中学校用"]
[null,"男子",{"$f":"IF($C$1,学校番号,\"\")","v":""},null,{"$f":"IF(C1,略称,\"\")","v":""},null,null,"女子",{"$f":"IF($I$1,学校番号,\"\")","v":""},null,{"$f":"IF($I$1,略称,\"\")","v":""}]
[null,"Ｏｒｄ．","個人番号","カナ（姓）","カナ（名）","学年",null,"Ｏｒｄ．","個人番号","カナ（姓）","カナ（名）","学年"]
[null,null,null,"姓","名",null,null,null,null,"姓","名"]
["　","(　　　)",{"$f":"IF($C$1,'入力シート(スポーツ祭)'!B5,\"\")","v":""},{"$f":"IF($C$1,'入力シート(スポーツ祭)'!E5,\"\")","v":""},{"$f":"IF($C$1,'入力シート(スポーツ祭)'!G5,\"\")","v":""},{"$f":"IF($C$1,'入力シート(スポーツ祭)'!I5,\"\")","v":""},null,"(　　　)",{"$f":"IF($I$1,'入力シート(スポーツ祭)'!B16,\"\")","v":""},{"$f":"IF($I$1,'入力シート(スポーツ祭)'!E16,\"\")","v":""},{"$f":"IF($I$1,'入力シート(スポーツ祭)'!G16,\"\")","v":""},{"$f":"IF($I$1,'入力シート(スポーツ祭)'!I16,\"\")","v":""}]
[null,null,null,{"$f":"IF($C$1,'入力シート(スポーツ祭)'!C5,\"\")","v":""},{"$f":"IF($C$1,'入力シート(スポーツ祭)'!D5,\"\")","v":""},null,null,null,null,{"$f":"IF($I$1,'入力シート(スポーツ祭)'!C16,\"\")","v":""},{"$f":"IF($I$1,'入力シート(スポーツ祭)'!D16,\"\")","v":""}]
[null,"(　　　)",{"$f":"IF($C$1,'入力シート(スポーツ祭)'!B6,\"\")","v":""},{"$f":"IF($C$1,'入力シート(スポーツ祭)'!E6,\"\")","v":""},{"$f":"IF($C$1,'入力シート(スポーツ祭)'!G6,\"\")","v":""},{"$f":"IF($C$1,'入力シート(スポーツ祭)'!I6,\"\")","v":""},null,"(　　　)",{"$f":"IF($I$1,'入力シート(スポーツ祭)'!B17,\"\")","v":""},{"$f":"IF($I$1,'入力シート(スポーツ祭)'!E17,\"\")","v":""},{"$f":"IF($I$1,'入力シート(スポーツ祭)'!G17,\"\")","v":""},{"$f":"IF($I$1,'入力シート(スポーツ祭)'!I17,\"\")","v":""}]
[null,null,null,{"$f":"IF($C$1,'入力シート(スポーツ祭)'!C6,\"\")","v":""},{"$f":"IF($C$1,'入力シート(スポーツ祭)'!D6,\"\")","v":""},null,null,null,null,{"$f":"IF($I$1,'入力シート(スポーツ祭)'!C17,\"\")","v":""},{"$f":"IF($I$1,'入力シート(スポーツ祭)'!D17,\"\")","v":""}]
[null,"(　　　)",{"$f":"IF($C$1,'入力シート(スポーツ祭)'!B7,\"\")","v":""},{"$f":"IF($C$1,'入力シート(スポーツ祭)'!E7,\"\")","v":""},{"$f":"IF($C$1,'入力シート(スポーツ祭)'!G7,\"\")","v":""},{"$f":"IF($C$1,'入力シート(スポーツ祭)'!I7,\"\")","v":""},null,"(　　　)",{"$f":"IF($I$1,'入力シート(スポーツ祭)'!B18,\"\")","v":""},{"$f":"IF($I$1,'入力シート(スポーツ祭)'!E18,\"\")","v":""},{"$f":"IF($I$1,'入力シート(スポーツ祭)'!G18,\"\")","v":""},{"$f":"IF($I$1,'入力シート(スポーツ祭)'!I18,\"\")","v":""}]
[null,null,null,{"$f":"IF($C$1,'入力シート(スポーツ祭)'!C7,\"\")","v":""},{"$f":"IF($C$1,'入力シート(スポーツ祭)'!D7,\"\")","v":""},null,null,null,null,{"$f":"IF($I$1,'入力シート(スポーツ祭)'!C18,\"\")","v":""},{"$f":"IF($I$1,'入力シート(スポーツ祭)'!D18,\"\")","v":""}]
[null,"(　　　)",{"$f":"IF($C$1,'入力シート(スポーツ祭)'!B8,\"\")","v":""},{"$f":"IF($C$1,'入力シート(スポーツ祭)'!E8,\"\")","v":""},{"$f":"IF($C$1,'入力シート(スポーツ祭)'!G8,\"\")","v":""},{"$f":"IF($C$1,'入力シート(スポーツ祭)'!I8,\"\")","v":""},null,"(　　　)",{"$f":"IF($I$1,'入力シート(スポーツ祭)'!B19,\"\")","v":""},{"$f":"IF($I$1,'入力シート(スポーツ祭)'!E19,\"\")","v":""},{"$f":"IF($I$1,'入力シート(スポーツ祭)'!G19,\"\")","v":""},{"$f":"IF($I$1,'入力シート(スポーツ祭)'!I19,\"\")","v":""}]
[null,null,null,{"$f":"IF($C$1,'入力シート(スポーツ祭)'!C8,\"\")","v":""},{"$f":"IF($C$1,'入力シート(スポーツ祭)'!D8,\"\")","v":""},null,null,null,null,{"$f":"IF($I$1,'入力シート(スポーツ祭)'!C19,\"\")","v":""},{"$f":"IF($I$1,'入力シート(スポーツ祭)'!D19,\"\")","v":""}]
[null,"(　　　)",{"$f":"IF($C$1,'入力シート(スポーツ祭)'!B9,\"\")","v":""},{"$f":"IF($C$1,'入力シート(スポーツ祭)'!E9,\"\")","v":""},{"$f":"IF($C$1,'入力シート(スポーツ祭)'!G9,\"\")","v":""},{"$f":"IF($C$1,'入力シート(スポーツ祭)'!I9,\"\")","v":""},null,"(　　　)",{"$f":"IF($I$1,'入力シート(スポーツ祭)'!B20,\"\")","v":""},{"$f":"IF($I$1,'入力シート(スポーツ祭)'!E20,\"\")","v":""},{"$f":"IF($I$1,'入力シート(スポーツ祭)'!G20,\"\")","v":""},{"$f":"IF($I$1,'入力シート(スポーツ祭)'!I20,\"\")","v":""}]
[null,null,null,{"$f":"IF($C$1,'入力シート(スポーツ祭)'!C9,\"\")","v":""},{"$f":"IF($C$1,'入力シート(スポーツ祭)'!D9,\"\")","v":""},null,null,null,null,{"$f":"IF($I$1,'入力シート(スポーツ祭)'!C20,\"\")","v":""},{"$f":"IF($I$1,'入力シート(スポーツ祭)'!D20,\"\")","v":""}]
[null,"(　　　)",{"$f":"IF($C$1,'入力シート(スポーツ祭)'!B10,\"\")","v":""},{"$f":"IF($C$1,'入力シート(スポーツ祭)'!E10,\"\")","v":""},{"$f":"IF($C$1,'入力シート(スポーツ祭)'!G10,\"\")","v":""},{"$f":"IF($C$1,'入力シート(スポーツ祭)'!I10,\"\")","v":""},null,"(　　　)",{"$f":"IF($I$1,'入力シート(スポーツ祭)'!B21,\"\")","v":""},{"$f":"IF($I$1,'入力シート(スポーツ祭)'!E21,\"\")","v":""},{"$f":"IF($I$1,'入力シート(スポーツ祭)'!G21,\"\")","v":""},{"$f":"IF($I$1,'入力シート(スポーツ祭)'!I21,\"\")","v":""}]
[null,null,null,{"$f":"IF($C$1,'入力シート(スポーツ祭)'!C10,\"\")","v":""},{"$f":"IF($C$1,'入力シート(スポーツ祭)'!D10,\"\")","v":""},null,null,null,null,{"$f":"IF($I$1,'入力シート(スポーツ祭)'!C21,\"\")","v":""},{"$f":"IF($I$1,'入力シート(スポーツ祭)'!D21,\"\")","v":""}]
[null,"記録",null,{"$f":"format_kiroku('入力シート(スポーツ祭)'!F2&TEXT('入力シート(スポーツ祭)'!G2,\"00\")&\".\"&TEXT('入力シート(スポーツ祭)'!H2,\"00\"),\"100m\")","v":"″00"},null,null,null,"記録",null,{"$f":"format_kiroku('入力シート(スポーツ祭)'!F13&TEXT('入力シート(スポーツ祭)'!G13,\"00\")&\".\"&TEXT('入力シート(スポーツ祭)'!H13,\"00\"),\"100m\")","v":"″00"}]
[]
[]
[null,"上記の生徒は、健康であることを認め、申し込みます。"]
[]
[]
[null,{"$f":"TODAY()","v":"2019-06-02"},null,null,{"$f":"学校名","v":0},null,null,"中学校長",null,{"$f":"学校長","v":"　"},null,"印"]
[]
[]
[]
[]
[null,"※","３部印刷し、２部は佐谷先生へ送付してください。"]
[null,null,"１部は、当日のオーダー用紙として各校で保存し、当日オーダーを記入して提出してください。"]

{"sheet":"送信データ(スポーツ祭)","index":12,"n_rows":27,"n_cols":11,"rows_kept":27,"cut":false,"hidden":true,"merged":[]}
[null,"DB","N1","N2","SX","KC","MC","ZK","S1","S2"]
[null,{"$f":"IF('入力シート(スポーツ祭)'!B5=\"\",\"\",128500000+学校番号*100+'入力シート(スポーツ祭)'!B5)","v":""},{"$f":"IF('入力シート(スポーツ祭)'!B5=\"\",\"\",Mat_Name('入力シート(スポーツ祭)'!C5,'入力シート(スポーツ祭)'!D5,'入力シート(スポーツ祭)'!I5))","v":""},{"$f":"IF(AND('入力シート(スポーツ祭)'!E5=\"\",'入力シート(スポーツ祭)'!G5=\"\"),\"\",ASC('入力シート(スポーツ祭)'!E5)&\" \"&ASC('入力シート(スポーツ祭)'!G5))","v":""},{"$f":"IF('入力シート(スポーツ祭)'!B5=\"\",\"\",VALUE(LEFT(B2,1)))","v":""},{"$f":"IF('入力シート(スポーツ祭)'!B5=\"\",\"\",28)","v":""},{"$f":"IF(C2=\"\",\"\",285000+学校番号)","v":""},{"$f":"IF(C2=\"\",\"\",学校番号)","v":""}]
[null,{"$f":"IF('入力シート(スポーツ祭)'!B6=\"\",\"\",128500000+学校番号*100+'入力シート(スポーツ祭)'!B6)","v":""},{"$f":"IF('入力シート(スポーツ祭)'!B6=\"\",\"\",Mat_Name('入力シート(スポーツ祭)'!C6,'入力シート(スポーツ祭)'!D6,'入力シート(スポーツ祭)'!I6))","v":""},{"$f":"IF(AND('入力シート(スポーツ祭)'!E6=\"\",'入力シート(スポーツ祭)'!G6=\"\"),\"\",ASC('入力シート(スポーツ祭)'!E6)&\" \"&ASC('入力シート(スポーツ祭)'!G6))","v":""},{"$f":"IF('入力シート(スポーツ祭)'!B6=\"\",\"\",VALUE(LEFT(B3,1)))","v":""},{"$f":"IF('入力シート(スポーツ祭)'!B6=\"\",\"\",28)","v":""},"",""]
[null,{"$f":"IF('入力シート(スポーツ祭)'!B7=\"\",\"\",128500000+学校番号*100+'入力シート(スポーツ祭)'!B7)","v":""},{"$f":"IF('入力シート(スポーツ祭)'!B7=\"\",\"\",Mat_Name('入力シート(スポーツ祭)'!C7,'入力シート(スポーツ祭)'!D7,'入力シート(スポーツ祭)'!I7))","v":""},{"$f":"IF(AND('入力シート(スポーツ祭)'!E7=\"\",'入力シート(スポーツ祭)'!G7=\"\"),\"\",ASC('入力シート(スポーツ祭)'!E7)&\" \"&ASC('入力シート(スポーツ祭)'!G7))","v":""},{"$f":"IF('入力シート(スポーツ祭)'!B7=\"\",\"\",VALUE(LEFT(B4,1)))","v":""},{"$f":"IF('入力シート(スポーツ祭)'!B7=\"\",\"\",28)","v":""},"",""]
[null,{"$f":"IF('入力シート(スポーツ祭)'!B8=\"\",\"\",128500000+学校番号*100+'入力シート(スポーツ祭)'!B8)","v":""},{"$f":"IF('入力シート(スポーツ祭)'!B8=\"\",\"\",Mat_Name('入力シート(スポーツ祭)'!C8,'入力シート(スポーツ祭)'!D8,'入力シート(スポーツ祭)'!I8))","v":""},{"$f":"IF(AND('入力シート(スポーツ祭)'!E8=\"\",'入力シート(スポーツ祭)'!G8=\"\"),\"\",ASC('入力シート(スポーツ祭)'!E8)&\" \"&ASC('入力シート(スポーツ祭)'!G8))","v":""},{"$f":"IF('入力シート(スポーツ祭)'!B8=\"\",\"\",VALUE(LEFT(B5,1)))","v":""},{"$f":"IF('入力シート(スポーツ祭)'!B8=\"\",\"\",28)","v":""},"",""]
[null,{"$f":"IF('入力シート(スポーツ祭)'!B9=\"\",\"\",128500000+学校番号*100+'入力シート(スポーツ祭)'!B9)","v":""},{"$f":"IF('入力シート(スポーツ祭)'!B9=\"\",\"\",Mat_Name('入力シート(スポーツ祭)'!C9,'入力シート(スポーツ祭)'!D9,'入力シート(スポーツ祭)'!I9))","v":""},{"$f":"IF(AND('入力シート(スポーツ祭)'!E9=\"\",'入力シート(スポーツ祭)'!G9=\"\"),\"\",ASC('入力シート(スポーツ祭)'!E9)&\" \"&ASC('入力シート(スポーツ祭)'!G9))","v":""},{"$f":"IF('入力シート(スポーツ祭)'!B9=\"\",\"\",VALUE(LEFT(B6,1)))","v":""},{"$f":"IF('入力シート(スポーツ祭)'!B9=\"\",\"\",28)","v":""},"",""]
[null,{"$f":"IF('入力シート(スポーツ祭)'!B10=\"\",\"\",128500000+学校番号*100+'入力シート(スポーツ祭)'!B10)","v":""},{"$f":"IF('入力シート(スポーツ祭)'!B10=\"\",\"\",Mat_Name('入力シート(スポーツ祭)'!C10,'入力シート(スポーツ祭)'!D10,'入力シート(スポーツ祭)'!I10))","v":""},{"$f":"IF(AND('入力シート(スポーツ祭)'!E10=\"\",'入力シート(スポーツ祭)'!G10=\"\"),\"\",ASC('入力シート(スポーツ祭)'!E10)&\" \"&ASC('入力シート(スポーツ祭)'!G10))","v":""},{"$f":"IF('入力シート(スポーツ祭)'!B10=\"\",\"\",VALUE(LEFT(B7,1)))","v":""},{"$f":"IF('入力シート(スポーツ祭)'!B10=\"\",\"\",28)","v":""},"",""]
[]
[]
[]
[]
[null,"DB","N1","N2","SX","KC","MC","ZK","S1","S2"]
[null,{"$f":"IF('入力シート(スポーツ祭)'!B16=\"\",\"\",228500000+学校番号*100+'入力シート(スポーツ祭)'!B16)","v":""},{"$f":"IF('入力シート(スポーツ祭)'!B16=\"\",\"\",Mat_Name('入力シート(スポーツ祭)'!C16,'入力シート(スポーツ祭)'!D16,'入力シート(スポーツ祭)'!I16))","v":""},{"$f":"IF(AND('入力シート(スポーツ祭)'!E16=\"\",'入力シート(スポーツ祭)'!G16=\"\"),\"\",ASC('入力シート(スポーツ祭)'!E16)&\" \"&ASC('入力シート(スポーツ祭)'!G16))","v":""},{"$f":"IF('入力シート(スポーツ祭)'!B16=\"\",\"\",VALUE(LEFT(B13,1)))","v":""},{"$f":"IF('入力シート(スポーツ祭)'!B16=\"\",\"\",28)","v":""},{"$f":"IF(C13=\"\",\"\",285000+学校番号)","v":""},{"$f":"IF(C13=\"\",\"\",学校番号)","v":""}]
[null,{"$f":"IF('入力シート(スポーツ祭)'!B17=\"\",\"\",228500000+学校番号*100+'入力シート(スポーツ祭)'!B17)","v":""},{"$f":"IF('入力シート(スポーツ祭)'!B17=\"\",\"\",Mat_Name('入力シート(スポーツ祭)'!C17,'入力シート(スポーツ祭)'!D17,'入力シート(スポーツ祭)'!I17))","v":""},{"$f":"IF(AND('入力シート(スポーツ祭)'!E17=\"\",'入力シート(スポーツ祭)'!G17=\"\"),\"\",ASC('入力シート(スポーツ祭)'!E17)&\" \"&ASC('入力シート(スポーツ祭)'!G17))","v":""},{"$f":"IF('入力シート(スポーツ祭)'!B17=\"\",\"\",VALUE(LEFT(B14,1)))","v":""},{"$f":"IF('入力シート(スポーツ祭)'!B17=\"\",\"\",28)","v":""},"",""]
[null,{"$f":"IF('入力シート(スポーツ祭)'!B18=\"\",\"\",228500000+学校番号*100+'入力シート(スポーツ祭)'!B18)","v":""},{"$f":"IF('入力シート(スポーツ祭)'!B18=\"\",\"\",Mat_Name('入力シート(スポーツ祭)'!C18,'入力シート(スポーツ祭)'!D18,'入力シート(スポーツ祭)'!I18))","v":""},{"$f":"IF(AND('入力シート(スポーツ祭)'!E18=\"\",'入力シート(スポーツ祭)'!G18=\"\"),\"\",ASC('入力シート(スポーツ祭)'!E18)&\" \"&ASC('入力シート(スポーツ祭)'!G18))","v":""},{"$f":"IF('入力シート(スポーツ祭)'!B18=\"\",\"\",VALUE(LEFT(B15,1)))","v":""},{"$f":"IF('入力シート(スポーツ祭)'!B18=\"\",\"\",28)","v":""},"",""]
[null,{"$f":"IF('入力シート(スポーツ祭)'!B19=\"\",\"\",228500000+学校番号*100+'入力シート(スポーツ祭)'!B19)","v":""},{"$f":"IF('入力シート(スポーツ祭)'!B19=\"\",\"\",Mat_Name('入力シート(スポーツ祭)'!C19,'入力シート(スポーツ祭)'!D19,'入力シート(スポーツ祭)'!I19))","v":""},{"$f":"IF(AND('入力シート(スポーツ祭)'!E19=\"\",'入力シート(スポーツ祭)'!G19=\"\"),\"\",ASC('入力シート(スポーツ祭)'!E19)&\" \"&ASC('入力シート(スポーツ祭)'!G19))","v":""},{"$f":"IF('入力シート(スポーツ祭)'!B19=\"\",\"\",VALUE(LEFT(B16,1)))","v":""},{"$f":"IF('入力シート(スポーツ祭)'!B19=\"\",\"\",28)","v":""},"",""]
[null,{"$f":"IF('入力シート(スポーツ祭)'!B20=\"\",\"\",228500000+学校番号*100+'入力シート(スポーツ祭)'!B20)","v":""},{"$f":"IF('入力シート(スポーツ祭)'!B20=\"\",\"\",Mat_Name('入力シート(スポーツ祭)'!C20,'入力シート(スポーツ祭)'!D20,'入力シート(スポーツ祭)'!I20))","v":""},{"$f":"IF(AND('入力シート(スポーツ祭)'!E20=\"\",'入力シート(スポーツ祭)'!G20=\"\"),\"\",ASC('入力シート(スポーツ祭)'!E20)&\" \"&ASC('入力シート(スポーツ祭)'!G20))","v":""},{"$f":"IF('入力シート(スポーツ祭)'!B20=\"\",\"\",VALUE(LEFT(B17,1)))","v":""},{"$f":"IF('入力シート(スポーツ祭)'!B20=\"\",\"\",28)","v":""},"",""]
[null,{"$f":"IF('入力シート(スポーツ祭)'!B21=\"\",\"\",228500000+学校番号*100+'入力シート(スポーツ祭)'!B21)","v":""},{"$f":"IF('入力シート(スポーツ祭)'!B21=\"\",\"\",Mat_Name('入力シート(スポーツ祭)'!C21,'入力シート(スポーツ祭)'!D21,'入力シート(スポーツ祭)'!I21))","v":""},{"$f":"IF(AND('入力シート(スポーツ祭)'!E21=\"\",'入力シート(スポーツ祭)'!G21=\"\"),\"\",ASC('入力シート(スポーツ祭)'!E21)&\" \"&ASC('入力シート(スポーツ祭)'!G21))","v":""},{"$f":"IF('入力シート(スポーツ祭)'!B21=\"\",\"\",VALUE(LEFT(B18,1)))","v":""},{"$f":"IF('入力シート(スポーツ祭)'!B21=\"\",\"\",28)","v":""},"",""]
[]
[]
[]
[]
[]
[]
[null,"DB","N1","N2","TM","S1","S2","S3","S4","S5","S6"]
["男子",{"$f":"IF(スポーツ祭!C1,285000+学校番号,\"\")","v":""},{"$f":"IF(スポーツ祭!C1,略称,\"\")","v":""},{"$f":"IF(スポーツ祭!C1,ASC(フリガナ),\"\")","v":""},{"$f":"RIGHT(FIXED(('入力シート(スポーツ祭)'!F2*10000+'入力シート(スポーツ祭)'!G2*100+'入力シート(スポーツ祭)'!H2)/100000,5),5)","v":"00000"},{"$f":"IF(B2=\"\",\"\",B2)","v":""},{"$f":"IF(B3=\"\",\"\",B3)","v":""},{"$f":"IF(B4=\"\",\"\",B4)","v":""},{"$f":"IF(B5=\"\",\"\",B5)","v":""},{"$f":"IF(B6=\"\",\"\",B6)","v":""},{"$f":"IF(B7=\"\",\"\",B7)","v":""}]
["女子",{"$f":"IF(スポーツ祭!I1,285000+学校番号,\"\")","v":""},{"$f":"IF(スポーツ祭!I1,略称,\"\")","v":""},{"$f":"IF(スポーツ祭!I1,ASC(フリガナ),\"\")","v":""},{"$f":"RIGHT(FIXED(('入力シート(スポーツ祭)'!F13*10000+'入力シート(スポーツ祭)'!G13*100+'入力シート(スポーツ祭)'!H13)/100000,5),5)","v":"00000"},{"$f":"IF(B13=\"\",\"\",B13)","v":""},{"$f":"IF(B14=\"\",\"\",B14)","v":""},{"$f":"IF(B15=\"\",\"\",B15)","v":""},{"$f":"IF(B16=\"\",\"\",B16)","v":""},{"$f":"IF(B17=\"\",\"\",B17)","v":""},{"$f":"IF(B18=\"\",\"\",B18)","v":""}]